BEGIN:VCALENDAR
VERSION:2.0
PRODID:https://www.kufer.de/kuferweb / DE
METHOD:PUBLISH
CALSCALE:GREGORIAN
X-WR-TIMEZONE:Europe/Berlin
BEGIN:VTIMEZONE
TZID:Europe/Berlin
X-LIC-LOCATION:Europe/Berlin
BEGIN:DAYLIGHT
TZOFFSETFROM:+0100
TZOFFSETTO:+0200
TZNAME:CEST
DTSTART:19700329T020000
RRULE:FREQ=YEARLY;INTERVAL=1;BYDAY=-1SU;BYMONTH=3
END:DAYLIGHT
BEGIN:STANDARD
TZOFFSETFROM:+0200
TZOFFSETTO:+0100
TZNAME:CET
DTSTART:19701025T030000
RRULE:FREQ=YEARLY;INTERVAL=1;BYDAY=-1SU;BYMONTH=10
END:STANDARD
END:VTIMEZONE
BEGIN:VEVENT
DTSTAMP:20260420T182037
DTSTART;TZID=Europe/Berlin:20260110T093000
DTEND;TZID=Europe/Berlin:20260110T101500
UID:26-S23341-20260110T093000@BFODÜREN
SUMMARY:Kleine Wellen, großes Lächeln - Wasserspaß für Kleinkinder von 2 bis 3 Jahren mit einer Begleitperson Ein fröhliches Wassererlebnis für kleine Entdecker und ihre erwachsene Begleitperson (26-S23341) 
LOCATION:Kita am Sonnenweg Düren-Rölsdorf, Sonnenweg 52c, 52355 Düren
END:VEVENT
BEGIN:VEVENT
DTSTAMP:20260420T182037
DTSTART;TZID=Europe/Berlin:20260117T093000
DTEND;TZID=Europe/Berlin:20260117T101500
UID:26-S23341-20260117T093000@BFODÜREN
SUMMARY:Kleine Wellen, großes Lächeln - Wasserspaß für Kleinkinder von 2 bis 3 Jahren mit einer Begleitperson Ein fröhliches Wassererlebnis für kleine Entdecker und ihre erwachsene Begleitperson (26-S23341) 
LOCATION:Kita am Sonnenweg Düren-Rölsdorf, Sonnenweg 52c, 52355 Düren
END:VEVENT
BEGIN:VEVENT
DTSTAMP:20260420T182037
DTSTART;TZID=Europe/Berlin:20260124T093000
DTEND;TZID=Europe/Berlin:20260124T101500
UID:26-S23341-20260124T093000@BFODÜREN
SUMMARY:Kleine Wellen, großes Lächeln - Wasserspaß für Kleinkinder von 2 bis 3 Jahren mit einer Begleitperson Ein fröhliches Wassererlebnis für kleine Entdecker und ihre erwachsene Begleitperson (26-S23341) 
LOCATION:Kita am Sonnenweg Düren-Rölsdorf, Sonnenweg 52c, 52355 Düren
END:VEVENT
BEGIN:VEVENT
DTSTAMP:20260420T182037
DTSTART;TZID=Europe/Berlin:20260131T093000
DTEND;TZID=Europe/Berlin:20260131T101500
UID:26-S23341-20260131T093000@BFODÜREN
SUMMARY:Kleine Wellen, großes Lächeln - Wasserspaß für Kleinkinder von 2 bis 3 Jahren mit einer Begleitperson Ein fröhliches Wassererlebnis für kleine Entdecker und ihre erwachsene Begleitperson (26-S23341) 
LOCATION:Kita am Sonnenweg Düren-Rölsdorf, Sonnenweg 52c, 52355 Düren
END:VEVENT
BEGIN:VEVENT
DTSTAMP:20260420T182037
DTSTART;TZID=Europe/Berlin:20260207T093000
DTEND;TZID=Europe/Berlin:20260207T101500
UID:26-S23341-20260207T093000@BFODÜREN
SUMMARY:Kleine Wellen, großes Lächeln - Wasserspaß für Kleinkinder von 2 bis 3 Jahren mit einer Begleitperson Ein fröhliches Wassererlebnis für kleine Entdecker und ihre erwachsene Begleitperson (26-S23341) 
LOCATION:Kita am Sonnenweg Düren-Rölsdorf, Sonnenweg 52c, 52355 Düren
END:VEVENT
BEGIN:VEVENT
DTSTAMP:20260420T182037
DTSTART;TZID=Europe/Berlin:20260221T093000
DTEND;TZID=Europe/Berlin:20260221T101500
UID:26-S23341-20260221T093000@BFODÜREN
SUMMARY:Kleine Wellen, großes Lächeln - Wasserspaß für Kleinkinder von 2 bis 3 Jahren mit einer Begleitperson Ein fröhliches Wassererlebnis für kleine Entdecker und ihre erwachsene Begleitperson (26-S23341) 
LOCATION:Kita am Sonnenweg Düren-Rölsdorf, Sonnenweg 52c, 52355 Düren
END:VEVENT
BEGIN:VEVENT
DTSTAMP:20260420T182037
DTSTART;TZID=Europe/Berlin:20260228T093000
DTEND;TZID=Europe/Berlin:20260228T101500
UID:26-S23341-20260228T093000@BFODÜREN
SUMMARY:Kleine Wellen, großes Lächeln - Wasserspaß für Kleinkinder von 2 bis 3 Jahren mit einer Begleitperson Ein fröhliches Wassererlebnis für kleine Entdecker und ihre erwachsene Begleitperson (26-S23341) 
LOCATION:Kita am Sonnenweg Düren-Rölsdorf, Sonnenweg 52c, 52355 Düren
END:VEVENT
BEGIN:VEVENT
DTSTAMP:20260420T182037
DTSTART;TZID=Europe/Berlin:20260307T093000
DTEND;TZID=Europe/Berlin:20260307T101500
UID:26-S23341-20260307T093000@BFODÜREN
SUMMARY:Kleine Wellen, großes Lächeln - Wasserspaß für Kleinkinder von 2 bis 3 Jahren mit einer Begleitperson Ein fröhliches Wassererlebnis für kleine Entdecker und ihre erwachsene Begleitperson (26-S23341) 
LOCATION:Kita am Sonnenweg Düren-Rölsdorf, Sonnenweg 52c, 52355 Düren
END:VEVENT
BEGIN:VEVENT
DTSTAMP:20260420T182037
DTSTART;TZID=Europe/Berlin:20260314T093000
DTEND;TZID=Europe/Berlin:20260314T101500
UID:26-S23341-20260314T093000@BFODÜREN
SUMMARY:Kleine Wellen, großes Lächeln - Wasserspaß für Kleinkinder von 2 bis 3 Jahren mit einer Begleitperson Ein fröhliches Wassererlebnis für kleine Entdecker und ihre erwachsene Begleitperson (26-S23341) 
LOCATION:Kita am Sonnenweg Düren-Rölsdorf, Sonnenweg 52c, 52355 Düren
END:VEVENT
BEGIN:VEVENT
DTSTAMP:20260420T182037
DTSTART;TZID=Europe/Berlin:20260321T093000
DTEND;TZID=Europe/Berlin:20260321T101500
UID:26-S23341-20260321T093000@BFODÜREN
SUMMARY:Kleine Wellen, großes Lächeln - Wasserspaß für Kleinkinder von 2 bis 3 Jahren mit einer Begleitperson Ein fröhliches Wassererlebnis für kleine Entdecker und ihre erwachsene Begleitperson (26-S23341) 
LOCATION:Kita am Sonnenweg Düren-Rölsdorf, Sonnenweg 52c, 52355 Düren
END:VEVENT
BEGIN:VEVENT
DTSTAMP:20260420T182037
DTSTART;TZID=Europe/Berlin:20260328T093000
DTEND;TZID=Europe/Berlin:20260328T101500
UID:26-S23341-20260328T093000@BFODÜREN
SUMMARY:Kleine Wellen, großes Lächeln - Wasserspaß für Kleinkinder von 2 bis 3 Jahren mit einer Begleitperson Ein fröhliches Wassererlebnis für kleine Entdecker und ihre erwachsene Begleitperson (26-S23341) 
LOCATION:Kita am Sonnenweg Düren-Rölsdorf, Sonnenweg 52c, 52355 Düren
END:VEVENT
BEGIN:VEVENT
DTSTAMP:20260420T182037
DTSTART;TZID=Europe/Berlin:20260411T093000
DTEND;TZID=Europe/Berlin:20260411T101500
UID:26-S23341-20260411T093000@BFODÜREN
DESCRIPTION:Ersatz für den Ausfall am 09.05.26
SUMMARY:Kleine Wellen, großes Lächeln - Wasserspaß für Kleinkinder von 2 bis 3 Jahren mit einer Begleitperson Ein fröhliches Wassererlebnis für kleine Entdecker und ihre erwachsene Begleitperson (26-S23341) 
LOCATION:Kita am Sonnenweg Düren-Rölsdorf, Sonnenweg 52c, 52355 Düren
END:VEVENT
BEGIN:VEVENT
DTSTAMP:20260420T182037
DTSTART;TZID=Europe/Berlin:20260418T093000
DTEND;TZID=Europe/Berlin:20260418T101500
UID:26-S23341-20260418T093000@BFODÜREN
SUMMARY:Kleine Wellen, großes Lächeln - Wasserspaß für Kleinkinder von 2 bis 3 Jahren mit einer Begleitperson Ein fröhliches Wassererlebnis für kleine Entdecker und ihre erwachsene Begleitperson (26-S23341) 
LOCATION:Kita am Sonnenweg Düren-Rölsdorf, Sonnenweg 52c, 52355 Düren
END:VEVENT
BEGIN:VEVENT
DTSTAMP:20260420T182037
DTSTART;TZID=Europe/Berlin:20260425T093000
DTEND;TZID=Europe/Berlin:20260425T101500
UID:26-S23341-20260425T093000@BFODÜREN
SUMMARY:Kleine Wellen, großes Lächeln - Wasserspaß für Kleinkinder von 2 bis 3 Jahren mit einer Begleitperson Ein fröhliches Wassererlebnis für kleine Entdecker und ihre erwachsene Begleitperson (26-S23341) 
LOCATION:Kita am Sonnenweg Düren-Rölsdorf, Sonnenweg 52c, 52355 Düren
END:VEVENT
BEGIN:VEVENT
DTSTAMP:20260420T182037
DTSTART;TZID=Europe/Berlin:20260530T093000
DTEND;TZID=Europe/Berlin:20260530T101500
UID:26-S23341-20260530T093000@BFODÜREN
SUMMARY:Kleine Wellen, großes Lächeln - Wasserspaß für Kleinkinder von 2 bis 3 Jahren mit einer Begleitperson Ein fröhliches Wassererlebnis für kleine Entdecker und ihre erwachsene Begleitperson (26-S23341) 
LOCATION:Kita am Sonnenweg Düren-Rölsdorf, Sonnenweg 52c, 52355 Düren
END:VEVENT
BEGIN:VEVENT
DTSTAMP:20260420T182037
DTSTART;TZID=Europe/Berlin:20260613T093000
DTEND;TZID=Europe/Berlin:20260613T101500
UID:26-S23341-20260613T093000@BFODÜREN
SUMMARY:Kleine Wellen, großes Lächeln - Wasserspaß für Kleinkinder von 2 bis 3 Jahren mit einer Begleitperson Ein fröhliches Wassererlebnis für kleine Entdecker und ihre erwachsene Begleitperson (26-S23341) 
LOCATION:Kita am Sonnenweg Düren-Rölsdorf, Sonnenweg 52c, 52355 Düren
END:VEVENT
BEGIN:VEVENT
DTSTAMP:20260420T182037
DTSTART;TZID=Europe/Berlin:20260620T093000
DTEND;TZID=Europe/Berlin:20260620T101500
UID:26-S23341-20260620T093000@BFODÜREN
SUMMARY:Kleine Wellen, großes Lächeln - Wasserspaß für Kleinkinder von 2 bis 3 Jahren mit einer Begleitperson Ein fröhliches Wassererlebnis für kleine Entdecker und ihre erwachsene Begleitperson (26-S23341) 
LOCATION:Kita am Sonnenweg Düren-Rölsdorf, Sonnenweg 52c, 52355 Düren
END:VEVENT
BEGIN:VEVENT
DTSTAMP:20260420T182037
DTSTART;TZID=Europe/Berlin:20260627T093000
DTEND;TZID=Europe/Berlin:20260627T101500
UID:26-S23341-20260627T093000@BFODÜREN
SUMMARY:Kleine Wellen, großes Lächeln - Wasserspaß für Kleinkinder von 2 bis 3 Jahren mit einer Begleitperson Ein fröhliches Wassererlebnis für kleine Entdecker und ihre erwachsene Begleitperson (26-S23341) 
LOCATION:Kita am Sonnenweg Düren-Rölsdorf, Sonnenweg 52c, 52355 Düren
END:VEVENT
BEGIN:VEVENT
DTSTAMP:20260420T182037
DTSTART;TZID=Europe/Berlin:20260704T093000
DTEND;TZID=Europe/Berlin:20260704T101500
UID:26-S23341-20260704T093000@BFODÜREN
SUMMARY:Kleine Wellen, großes Lächeln - Wasserspaß für Kleinkinder von 2 bis 3 Jahren mit einer Begleitperson Ein fröhliches Wassererlebnis für kleine Entdecker und ihre erwachsene Begleitperson (26-S23341) 
LOCATION:Kita am Sonnenweg Düren-Rölsdorf, Sonnenweg 52c, 52355 Düren
END:VEVENT
BEGIN:VEVENT
DTSTAMP:20260420T182037
DTSTART;TZID=Europe/Berlin:20260711T093000
DTEND;TZID=Europe/Berlin:20260711T101500
UID:26-S23341-20260711T093000@BFODÜREN
SUMMARY:Kleine Wellen, großes Lächeln - Wasserspaß für Kleinkinder von 2 bis 3 Jahren mit einer Begleitperson Ein fröhliches Wassererlebnis für kleine Entdecker und ihre erwachsene Begleitperson (26-S23341) 
LOCATION:Kita am Sonnenweg Düren-Rölsdorf, Sonnenweg 52c, 52355 Düren
END:VEVENT
END:VCALENDAR