BEGIN:VCALENDAR
VERSION:2.0
PRODID:https://www.kufer.de/kuferweb / DE
METHOD:PUBLISH
CALSCALE:GREGORIAN
X-WR-TIMEZONE:Europe/Berlin
BEGIN:VTIMEZONE
TZID:Europe/Berlin
X-LIC-LOCATION:Europe/Berlin
BEGIN:DAYLIGHT
TZOFFSETFROM:+0100
TZOFFSETTO:+0200
TZNAME:CEST
DTSTART:19700329T020000
RRULE:FREQ=YEARLY;INTERVAL=1;BYDAY=-1SU;BYMONTH=3
END:DAYLIGHT
BEGIN:STANDARD
TZOFFSETFROM:+0200
TZOFFSETTO:+0100
TZNAME:CET
DTSTART:19701025T030000
RRULE:FREQ=YEARLY;INTERVAL=1;BYDAY=-1SU;BYMONTH=10
END:STANDARD
END:VTIMEZONE
BEGIN:VEVENT
DTSTAMP:20260424T201536
DTSTART;TZID=Europe/Berlin:20260921T131500
DTEND;TZID=Europe/Berlin:20260921T140000
UID:26-S23346-20260921T131500@BFODÜREN
SUMMARY:fitdankbaby - Aqua (26-S23346) 
LOCATION:Kita am Sonnenweg Düren-Rölsdorf, Sonnenweg 52c, 52355 Düren
END:VEVENT
BEGIN:VEVENT
DTSTAMP:20260424T201536
DTSTART;TZID=Europe/Berlin:20260928T131500
DTEND;TZID=Europe/Berlin:20260928T140000
UID:26-S23346-20260928T131500@BFODÜREN
SUMMARY:fitdankbaby - Aqua (26-S23346) 
LOCATION:Kita am Sonnenweg Düren-Rölsdorf, Sonnenweg 52c, 52355 Düren
END:VEVENT
BEGIN:VEVENT
DTSTAMP:20260424T201536
DTSTART;TZID=Europe/Berlin:20261005T131500
DTEND;TZID=Europe/Berlin:20261005T140000
UID:26-S23346-20261005T131500@BFODÜREN
SUMMARY:fitdankbaby - Aqua (26-S23346) 
LOCATION:Kita am Sonnenweg Düren-Rölsdorf, Sonnenweg 52c, 52355 Düren
END:VEVENT
BEGIN:VEVENT
DTSTAMP:20260424T201536
DTSTART;TZID=Europe/Berlin:20261012T131500
DTEND;TZID=Europe/Berlin:20261012T140000
UID:26-S23346-20261012T131500@BFODÜREN
SUMMARY:fitdankbaby - Aqua (26-S23346) 
LOCATION:Kita am Sonnenweg Düren-Rölsdorf, Sonnenweg 52c, 52355 Düren
END:VEVENT
BEGIN:VEVENT
DTSTAMP:20260424T201536
DTSTART;TZID=Europe/Berlin:20261102T131500
DTEND;TZID=Europe/Berlin:20261102T140000
UID:26-S23346-20261102T131500@BFODÜREN
SUMMARY:fitdankbaby - Aqua (26-S23346) 
LOCATION:Kita am Sonnenweg Düren-Rölsdorf, Sonnenweg 52c, 52355 Düren
END:VEVENT
BEGIN:VEVENT
DTSTAMP:20260424T201536
DTSTART;TZID=Europe/Berlin:20261109T131500
DTEND;TZID=Europe/Berlin:20261109T140000
UID:26-S23346-20261109T131500@BFODÜREN
SUMMARY:fitdankbaby - Aqua (26-S23346) 
LOCATION:Kita am Sonnenweg Düren-Rölsdorf, Sonnenweg 52c, 52355 Düren
END:VEVENT
BEGIN:VEVENT
DTSTAMP:20260424T201536
DTSTART;TZID=Europe/Berlin:20261116T131500
DTEND;TZID=Europe/Berlin:20261116T140000
UID:26-S23346-20261116T131500@BFODÜREN
SUMMARY:fitdankbaby - Aqua (26-S23346) 
LOCATION:Kita am Sonnenweg Düren-Rölsdorf, Sonnenweg 52c, 52355 Düren
END:VEVENT
BEGIN:VEVENT
DTSTAMP:20260424T201536
DTSTART;TZID=Europe/Berlin:20261123T131500
DTEND;TZID=Europe/Berlin:20261123T140000
UID:26-S23346-20261123T131500@BFODÜREN
SUMMARY:fitdankbaby - Aqua (26-S23346) 
LOCATION:Kita am Sonnenweg Düren-Rölsdorf, Sonnenweg 52c, 52355 Düren
END:VEVENT
END:VCALENDAR