BEGIN:VCALENDAR
VERSION:2.0
PRODID:https://www.kufer.de/kuferweb / DE
METHOD:PUBLISH
CALSCALE:GREGORIAN
X-WR-TIMEZONE:Europe/Berlin
BEGIN:VTIMEZONE
TZID:Europe/Berlin
X-LIC-LOCATION:Europe/Berlin
BEGIN:DAYLIGHT
TZOFFSETFROM:+0100
TZOFFSETTO:+0200
TZNAME:CEST
DTSTART:19700329T020000
RRULE:FREQ=YEARLY;INTERVAL=1;BYDAY=-1SU;BYMONTH=3
END:DAYLIGHT
BEGIN:STANDARD
TZOFFSETFROM:+0200
TZOFFSETTO:+0100
TZNAME:CET
DTSTART:19701025T030000
RRULE:FREQ=YEARLY;INTERVAL=1;BYDAY=-1SU;BYMONTH=10
END:STANDARD
END:VTIMEZONE
BEGIN:VEVENT
DTSTAMP:20260420T182037
DTSTART;TZID=Europe/Berlin:20260110T114500
DTEND;TZID=Europe/Berlin:20260110T123000
UID:26-S23351-20260110T114500@BFODÜREN
SUMMARY:Kleine Wellen, großes Lächeln - Wasserspaß für Babys von 3 bis 12 Monaten mit einer Begleitperson Ein fröhliches Wassererlebnis für kleine Entdecker und ihre erwachsene Begleitperson (26-S23351) 
LOCATION:Kita am Sonnenweg Düren-Rölsdorf, Sonnenweg 52c, 52355 Düren
END:VEVENT
BEGIN:VEVENT
DTSTAMP:20260420T182037
DTSTART;TZID=Europe/Berlin:20260117T114500
DTEND;TZID=Europe/Berlin:20260117T123000
UID:26-S23351-20260117T114500@BFODÜREN
SUMMARY:Kleine Wellen, großes Lächeln - Wasserspaß für Babys von 3 bis 12 Monaten mit einer Begleitperson Ein fröhliches Wassererlebnis für kleine Entdecker und ihre erwachsene Begleitperson (26-S23351) 
LOCATION:Kita am Sonnenweg Düren-Rölsdorf, Sonnenweg 52c, 52355 Düren
END:VEVENT
BEGIN:VEVENT
DTSTAMP:20260420T182037
DTSTART;TZID=Europe/Berlin:20260124T114500
DTEND;TZID=Europe/Berlin:20260124T123000
UID:26-S23351-20260124T114500@BFODÜREN
SUMMARY:Kleine Wellen, großes Lächeln - Wasserspaß für Babys von 3 bis 12 Monaten mit einer Begleitperson Ein fröhliches Wassererlebnis für kleine Entdecker und ihre erwachsene Begleitperson (26-S23351) 
LOCATION:Kita am Sonnenweg Düren-Rölsdorf, Sonnenweg 52c, 52355 Düren
END:VEVENT
BEGIN:VEVENT
DTSTAMP:20260420T182037
DTSTART;TZID=Europe/Berlin:20260131T114500
DTEND;TZID=Europe/Berlin:20260131T123000
UID:26-S23351-20260131T114500@BFODÜREN
SUMMARY:Kleine Wellen, großes Lächeln - Wasserspaß für Babys von 3 bis 12 Monaten mit einer Begleitperson Ein fröhliches Wassererlebnis für kleine Entdecker und ihre erwachsene Begleitperson (26-S23351) 
LOCATION:Kita am Sonnenweg Düren-Rölsdorf, Sonnenweg 52c, 52355 Düren
END:VEVENT
BEGIN:VEVENT
DTSTAMP:20260420T182037
DTSTART;TZID=Europe/Berlin:20260207T114500
DTEND;TZID=Europe/Berlin:20260207T123000
UID:26-S23351-20260207T114500@BFODÜREN
SUMMARY:Kleine Wellen, großes Lächeln - Wasserspaß für Babys von 3 bis 12 Monaten mit einer Begleitperson Ein fröhliches Wassererlebnis für kleine Entdecker und ihre erwachsene Begleitperson (26-S23351) 
LOCATION:Kita am Sonnenweg Düren-Rölsdorf, Sonnenweg 52c, 52355 Düren
END:VEVENT
BEGIN:VEVENT
DTSTAMP:20260420T182037
DTSTART;TZID=Europe/Berlin:20260221T114500
DTEND;TZID=Europe/Berlin:20260221T123000
UID:26-S23351-20260221T114500@BFODÜREN
SUMMARY:Kleine Wellen, großes Lächeln - Wasserspaß für Babys von 3 bis 12 Monaten mit einer Begleitperson Ein fröhliches Wassererlebnis für kleine Entdecker und ihre erwachsene Begleitperson (26-S23351) 
LOCATION:Kita am Sonnenweg Düren-Rölsdorf, Sonnenweg 52c, 52355 Düren
END:VEVENT
BEGIN:VEVENT
DTSTAMP:20260420T182037
DTSTART;TZID=Europe/Berlin:20260228T114500
DTEND;TZID=Europe/Berlin:20260228T123000
UID:26-S23351-20260228T114500@BFODÜREN
SUMMARY:Kleine Wellen, großes Lächeln - Wasserspaß für Babys von 3 bis 12 Monaten mit einer Begleitperson Ein fröhliches Wassererlebnis für kleine Entdecker und ihre erwachsene Begleitperson (26-S23351) 
LOCATION:Kita am Sonnenweg Düren-Rölsdorf, Sonnenweg 52c, 52355 Düren
END:VEVENT
BEGIN:VEVENT
DTSTAMP:20260420T182037
DTSTART;TZID=Europe/Berlin:20260307T114500
DTEND;TZID=Europe/Berlin:20260307T123000
UID:26-S23351-20260307T114500@BFODÜREN
SUMMARY:Kleine Wellen, großes Lächeln - Wasserspaß für Babys von 3 bis 12 Monaten mit einer Begleitperson Ein fröhliches Wassererlebnis für kleine Entdecker und ihre erwachsene Begleitperson (26-S23351) 
LOCATION:Kita am Sonnenweg Düren-Rölsdorf, Sonnenweg 52c, 52355 Düren
END:VEVENT
BEGIN:VEVENT
DTSTAMP:20260420T182037
DTSTART;TZID=Europe/Berlin:20260314T114500
DTEND;TZID=Europe/Berlin:20260314T123000
UID:26-S23351-20260314T114500@BFODÜREN
SUMMARY:Kleine Wellen, großes Lächeln - Wasserspaß für Babys von 3 bis 12 Monaten mit einer Begleitperson Ein fröhliches Wassererlebnis für kleine Entdecker und ihre erwachsene Begleitperson (26-S23351) 
LOCATION:Kita am Sonnenweg Düren-Rölsdorf, Sonnenweg 52c, 52355 Düren
END:VEVENT
BEGIN:VEVENT
DTSTAMP:20260420T182037
DTSTART;TZID=Europe/Berlin:20260321T114500
DTEND;TZID=Europe/Berlin:20260321T123000
UID:26-S23351-20260321T114500@BFODÜREN
SUMMARY:Kleine Wellen, großes Lächeln - Wasserspaß für Babys von 3 bis 12 Monaten mit einer Begleitperson Ein fröhliches Wassererlebnis für kleine Entdecker und ihre erwachsene Begleitperson (26-S23351) 
LOCATION:Kita am Sonnenweg Düren-Rölsdorf, Sonnenweg 52c, 52355 Düren
END:VEVENT
BEGIN:VEVENT
DTSTAMP:20260420T182037
DTSTART;TZID=Europe/Berlin:20260328T114500
DTEND;TZID=Europe/Berlin:20260328T123000
UID:26-S23351-20260328T114500@BFODÜREN
SUMMARY:Kleine Wellen, großes Lächeln - Wasserspaß für Babys von 3 bis 12 Monaten mit einer Begleitperson Ein fröhliches Wassererlebnis für kleine Entdecker und ihre erwachsene Begleitperson (26-S23351) 
LOCATION:Kita am Sonnenweg Düren-Rölsdorf, Sonnenweg 52c, 52355 Düren
END:VEVENT
BEGIN:VEVENT
DTSTAMP:20260420T182037
DTSTART;TZID=Europe/Berlin:20260411T114500
DTEND;TZID=Europe/Berlin:20260411T123000
UID:26-S23351-20260411T114500@BFODÜREN
DESCRIPTION:Ersatz für den 09.05.26
SUMMARY:Kleine Wellen, großes Lächeln - Wasserspaß für Babys von 3 bis 12 Monaten mit einer Begleitperson Ein fröhliches Wassererlebnis für kleine Entdecker und ihre erwachsene Begleitperson (26-S23351) 
LOCATION:Kita am Sonnenweg Düren-Rölsdorf, Sonnenweg 52c, 52355 Düren
END:VEVENT
BEGIN:VEVENT
DTSTAMP:20260420T182037
DTSTART;TZID=Europe/Berlin:20260418T114500
DTEND;TZID=Europe/Berlin:20260418T123000
UID:26-S23351-20260418T114500@BFODÜREN
SUMMARY:Kleine Wellen, großes Lächeln - Wasserspaß für Babys von 3 bis 12 Monaten mit einer Begleitperson Ein fröhliches Wassererlebnis für kleine Entdecker und ihre erwachsene Begleitperson (26-S23351) 
LOCATION:Kita am Sonnenweg Düren-Rölsdorf, Sonnenweg 52c, 52355 Düren
END:VEVENT
BEGIN:VEVENT
DTSTAMP:20260420T182037
DTSTART;TZID=Europe/Berlin:20260425T114500
DTEND;TZID=Europe/Berlin:20260425T123000
UID:26-S23351-20260425T114500@BFODÜREN
SUMMARY:Kleine Wellen, großes Lächeln - Wasserspaß für Babys von 3 bis 12 Monaten mit einer Begleitperson Ein fröhliches Wassererlebnis für kleine Entdecker und ihre erwachsene Begleitperson (26-S23351) 
LOCATION:Kita am Sonnenweg Düren-Rölsdorf, Sonnenweg 52c, 52355 Düren
END:VEVENT
BEGIN:VEVENT
DTSTAMP:20260420T182037
DTSTART;TZID=Europe/Berlin:20260530T114500
DTEND;TZID=Europe/Berlin:20260530T123000
UID:26-S23351-20260530T114500@BFODÜREN
SUMMARY:Kleine Wellen, großes Lächeln - Wasserspaß für Babys von 3 bis 12 Monaten mit einer Begleitperson Ein fröhliches Wassererlebnis für kleine Entdecker und ihre erwachsene Begleitperson (26-S23351) 
LOCATION:Kita am Sonnenweg Düren-Rölsdorf, Sonnenweg 52c, 52355 Düren
END:VEVENT
BEGIN:VEVENT
DTSTAMP:20260420T182037
DTSTART;TZID=Europe/Berlin:20260613T114500
DTEND;TZID=Europe/Berlin:20260613T123000
UID:26-S23351-20260613T114500@BFODÜREN
SUMMARY:Kleine Wellen, großes Lächeln - Wasserspaß für Babys von 3 bis 12 Monaten mit einer Begleitperson Ein fröhliches Wassererlebnis für kleine Entdecker und ihre erwachsene Begleitperson (26-S23351) 
LOCATION:Kita am Sonnenweg Düren-Rölsdorf, Sonnenweg 52c, 52355 Düren
END:VEVENT
BEGIN:VEVENT
DTSTAMP:20260420T182037
DTSTART;TZID=Europe/Berlin:20260620T114500
DTEND;TZID=Europe/Berlin:20260620T123000
UID:26-S23351-20260620T114500@BFODÜREN
SUMMARY:Kleine Wellen, großes Lächeln - Wasserspaß für Babys von 3 bis 12 Monaten mit einer Begleitperson Ein fröhliches Wassererlebnis für kleine Entdecker und ihre erwachsene Begleitperson (26-S23351) 
LOCATION:Kita am Sonnenweg Düren-Rölsdorf, Sonnenweg 52c, 52355 Düren
END:VEVENT
BEGIN:VEVENT
DTSTAMP:20260420T182037
DTSTART;TZID=Europe/Berlin:20260627T114500
DTEND;TZID=Europe/Berlin:20260627T123000
UID:26-S23351-20260627T114500@BFODÜREN
SUMMARY:Kleine Wellen, großes Lächeln - Wasserspaß für Babys von 3 bis 12 Monaten mit einer Begleitperson Ein fröhliches Wassererlebnis für kleine Entdecker und ihre erwachsene Begleitperson (26-S23351) 
LOCATION:Kita am Sonnenweg Düren-Rölsdorf, Sonnenweg 52c, 52355 Düren
END:VEVENT
BEGIN:VEVENT
DTSTAMP:20260420T182037
DTSTART;TZID=Europe/Berlin:20260704T114500
DTEND;TZID=Europe/Berlin:20260704T123000
UID:26-S23351-20260704T114500@BFODÜREN
SUMMARY:Kleine Wellen, großes Lächeln - Wasserspaß für Babys von 3 bis 12 Monaten mit einer Begleitperson Ein fröhliches Wassererlebnis für kleine Entdecker und ihre erwachsene Begleitperson (26-S23351) 
LOCATION:Kita am Sonnenweg Düren-Rölsdorf, Sonnenweg 52c, 52355 Düren
END:VEVENT
BEGIN:VEVENT
DTSTAMP:20260420T182037
DTSTART;TZID=Europe/Berlin:20260711T114500
DTEND;TZID=Europe/Berlin:20260711T123000
UID:26-S23351-20260711T114500@BFODÜREN
SUMMARY:Kleine Wellen, großes Lächeln - Wasserspaß für Babys von 3 bis 12 Monaten mit einer Begleitperson Ein fröhliches Wassererlebnis für kleine Entdecker und ihre erwachsene Begleitperson (26-S23351) 
LOCATION:Kita am Sonnenweg Düren-Rölsdorf, Sonnenweg 52c, 52355 Düren
END:VEVENT
END:VCALENDAR