BEGIN:VCALENDAR
VERSION:2.0
PRODID:https://www.kufer.de/kuferweb / DE
METHOD:PUBLISH
CALSCALE:GREGORIAN
X-WR-TIMEZONE:Europe/Berlin
BEGIN:VTIMEZONE
TZID:Europe/Berlin
X-LIC-LOCATION:Europe/Berlin
BEGIN:DAYLIGHT
TZOFFSETFROM:+0100
TZOFFSETTO:+0200
TZNAME:CEST
DTSTART:19700329T020000
RRULE:FREQ=YEARLY;INTERVAL=1;BYDAY=-1SU;BYMONTH=3
END:DAYLIGHT
BEGIN:STANDARD
TZOFFSETFROM:+0200
TZOFFSETTO:+0100
TZNAME:CET
DTSTART:19701025T030000
RRULE:FREQ=YEARLY;INTERVAL=1;BYDAY=-1SU;BYMONTH=10
END:STANDARD
END:VTIMEZONE
BEGIN:VEVENT
DTSTAMP:20260425T055442
DTSTART;TZID=Europe/Berlin:20260908T161500
DTEND;TZID=Europe/Berlin:20260908T170000
UID:26-S23402-20260908T161500@BFODÜREN
SUMMARY:Wellenstarter - Schwimmkurs für fortgeschrittene Anfänger ab 4 Jahren (26-S23402) 
LOCATION:Lehrschwimmbecken Birkesdorf, Weidenpesch 4-8, 52353 Düren
END:VEVENT
BEGIN:VEVENT
DTSTAMP:20260425T055442
DTSTART;TZID=Europe/Berlin:20260915T161500
DTEND;TZID=Europe/Berlin:20260915T170000
UID:26-S23402-20260915T161500@BFODÜREN
SUMMARY:Wellenstarter - Schwimmkurs für fortgeschrittene Anfänger ab 4 Jahren (26-S23402) 
LOCATION:Lehrschwimmbecken Birkesdorf, Weidenpesch 4-8, 52353 Düren
END:VEVENT
BEGIN:VEVENT
DTSTAMP:20260425T055442
DTSTART;TZID=Europe/Berlin:20260922T161500
DTEND;TZID=Europe/Berlin:20260922T170000
UID:26-S23402-20260922T161500@BFODÜREN
SUMMARY:Wellenstarter - Schwimmkurs für fortgeschrittene Anfänger ab 4 Jahren (26-S23402) 
LOCATION:Lehrschwimmbecken Birkesdorf, Weidenpesch 4-8, 52353 Düren
END:VEVENT
BEGIN:VEVENT
DTSTAMP:20260425T055442
DTSTART;TZID=Europe/Berlin:20260929T161500
DTEND;TZID=Europe/Berlin:20260929T170000
UID:26-S23402-20260929T161500@BFODÜREN
SUMMARY:Wellenstarter - Schwimmkurs für fortgeschrittene Anfänger ab 4 Jahren (26-S23402) 
LOCATION:Lehrschwimmbecken Birkesdorf, Weidenpesch 4-8, 52353 Düren
END:VEVENT
BEGIN:VEVENT
DTSTAMP:20260425T055442
DTSTART;TZID=Europe/Berlin:20261006T161500
DTEND;TZID=Europe/Berlin:20261006T170000
UID:26-S23402-20261006T161500@BFODÜREN
SUMMARY:Wellenstarter - Schwimmkurs für fortgeschrittene Anfänger ab 4 Jahren (26-S23402) 
LOCATION:Lehrschwimmbecken Birkesdorf, Weidenpesch 4-8, 52353 Düren
END:VEVENT
BEGIN:VEVENT
DTSTAMP:20260425T055442
DTSTART;TZID=Europe/Berlin:20261013T161500
DTEND;TZID=Europe/Berlin:20261013T170000
UID:26-S23402-20261013T161500@BFODÜREN
SUMMARY:Wellenstarter - Schwimmkurs für fortgeschrittene Anfänger ab 4 Jahren (26-S23402) 
LOCATION:Lehrschwimmbecken Birkesdorf, Weidenpesch 4-8, 52353 Düren
END:VEVENT
BEGIN:VEVENT
DTSTAMP:20260425T055442
DTSTART;TZID=Europe/Berlin:20261103T161500
DTEND;TZID=Europe/Berlin:20261103T170000
UID:26-S23402-20261103T161500@BFODÜREN
SUMMARY:Wellenstarter - Schwimmkurs für fortgeschrittene Anfänger ab 4 Jahren (26-S23402) 
LOCATION:Lehrschwimmbecken Birkesdorf, Weidenpesch 4-8, 52353 Düren
END:VEVENT
BEGIN:VEVENT
DTSTAMP:20260425T055442
DTSTART;TZID=Europe/Berlin:20261117T161500
DTEND;TZID=Europe/Berlin:20261117T170000
UID:26-S23402-20261117T161500@BFODÜREN
SUMMARY:Wellenstarter - Schwimmkurs für fortgeschrittene Anfänger ab 4 Jahren (26-S23402) 
LOCATION:Lehrschwimmbecken Birkesdorf, Weidenpesch 4-8, 52353 Düren
END:VEVENT
BEGIN:VEVENT
DTSTAMP:20260425T055442
DTSTART;TZID=Europe/Berlin:20261124T161500
DTEND;TZID=Europe/Berlin:20261124T170000
UID:26-S23402-20261124T161500@BFODÜREN
SUMMARY:Wellenstarter - Schwimmkurs für fortgeschrittene Anfänger ab 4 Jahren (26-S23402) 
LOCATION:Lehrschwimmbecken Birkesdorf, Weidenpesch 4-8, 52353 Düren
END:VEVENT
BEGIN:VEVENT
DTSTAMP:20260425T055442
DTSTART;TZID=Europe/Berlin:20261201T161500
DTEND;TZID=Europe/Berlin:20261201T170000
UID:26-S23402-20261201T161500@BFODÜREN
SUMMARY:Wellenstarter - Schwimmkurs für fortgeschrittene Anfänger ab 4 Jahren (26-S23402) 
LOCATION:Lehrschwimmbecken Birkesdorf, Weidenpesch 4-8, 52353 Düren
END:VEVENT
BEGIN:VEVENT
DTSTAMP:20260425T055442
DTSTART;TZID=Europe/Berlin:20261208T161500
DTEND;TZID=Europe/Berlin:20261208T170000
UID:26-S23402-20261208T161500@BFODÜREN
SUMMARY:Wellenstarter - Schwimmkurs für fortgeschrittene Anfänger ab 4 Jahren (26-S23402) 
LOCATION:Lehrschwimmbecken Birkesdorf, Weidenpesch 4-8, 52353 Düren
END:VEVENT
BEGIN:VEVENT
DTSTAMP:20260425T055442
DTSTART;TZID=Europe/Berlin:20261215T161500
DTEND;TZID=Europe/Berlin:20261215T170000
UID:26-S23402-20261215T161500@BFODÜREN
SUMMARY:Wellenstarter - Schwimmkurs für fortgeschrittene Anfänger ab 4 Jahren (26-S23402) 
LOCATION:Lehrschwimmbecken Birkesdorf, Weidenpesch 4-8, 52353 Düren
END:VEVENT
END:VCALENDAR