BEGIN:VCALENDAR
VERSION:2.0
PRODID:https://www.kufer.de/kuferweb / DE
METHOD:PUBLISH
CALSCALE:GREGORIAN
X-WR-TIMEZONE:Europe/Berlin
BEGIN:VTIMEZONE
TZID:Europe/Berlin
X-LIC-LOCATION:Europe/Berlin
BEGIN:DAYLIGHT
TZOFFSETFROM:+0100
TZOFFSETTO:+0200
TZNAME:CEST
DTSTART:19700329T020000
RRULE:FREQ=YEARLY;INTERVAL=1;BYDAY=-1SU;BYMONTH=3
END:DAYLIGHT
BEGIN:STANDARD
TZOFFSETFROM:+0200
TZOFFSETTO:+0100
TZNAME:CET
DTSTART:19701025T030000
RRULE:FREQ=YEARLY;INTERVAL=1;BYDAY=-1SU;BYMONTH=10
END:STANDARD
END:VTIMEZONE
BEGIN:VEVENT
DTSTAMP:20260425T044430
DTSTART;TZID=Europe/Berlin:20260908T170000
DTEND;TZID=Europe/Berlin:20260908T174500
UID:26-S23412-20260908T170000@BFODÜREN
SUMMARY:Wellenhelden – Schwimmkurs für fortgeschrittene Kinder ab 5 Jahren (26-S23412) 
LOCATION:Lehrschwimmbecken Birkesdorf, Weidenpesch 4-8, 52353 Düren
END:VEVENT
BEGIN:VEVENT
DTSTAMP:20260425T044430
DTSTART;TZID=Europe/Berlin:20260915T170000
DTEND;TZID=Europe/Berlin:20260915T174500
UID:26-S23412-20260915T170000@BFODÜREN
SUMMARY:Wellenhelden – Schwimmkurs für fortgeschrittene Kinder ab 5 Jahren (26-S23412) 
LOCATION:Lehrschwimmbecken Birkesdorf, Weidenpesch 4-8, 52353 Düren
END:VEVENT
BEGIN:VEVENT
DTSTAMP:20260425T044430
DTSTART;TZID=Europe/Berlin:20260922T170000
DTEND;TZID=Europe/Berlin:20260922T174500
UID:26-S23412-20260922T170000@BFODÜREN
SUMMARY:Wellenhelden – Schwimmkurs für fortgeschrittene Kinder ab 5 Jahren (26-S23412) 
LOCATION:Lehrschwimmbecken Birkesdorf, Weidenpesch 4-8, 52353 Düren
END:VEVENT
BEGIN:VEVENT
DTSTAMP:20260425T044430
DTSTART;TZID=Europe/Berlin:20260929T170000
DTEND;TZID=Europe/Berlin:20260929T174500
UID:26-S23412-20260929T170000@BFODÜREN
SUMMARY:Wellenhelden – Schwimmkurs für fortgeschrittene Kinder ab 5 Jahren (26-S23412) 
LOCATION:Lehrschwimmbecken Birkesdorf, Weidenpesch 4-8, 52353 Düren
END:VEVENT
BEGIN:VEVENT
DTSTAMP:20260425T044430
DTSTART;TZID=Europe/Berlin:20261006T170000
DTEND;TZID=Europe/Berlin:20261006T174500
UID:26-S23412-20261006T170000@BFODÜREN
SUMMARY:Wellenhelden – Schwimmkurs für fortgeschrittene Kinder ab 5 Jahren (26-S23412) 
LOCATION:Lehrschwimmbecken Birkesdorf, Weidenpesch 4-8, 52353 Düren
END:VEVENT
BEGIN:VEVENT
DTSTAMP:20260425T044430
DTSTART;TZID=Europe/Berlin:20261013T170000
DTEND;TZID=Europe/Berlin:20261013T174500
UID:26-S23412-20261013T170000@BFODÜREN
SUMMARY:Wellenhelden – Schwimmkurs für fortgeschrittene Kinder ab 5 Jahren (26-S23412) 
LOCATION:Lehrschwimmbecken Birkesdorf, Weidenpesch 4-8, 52353 Düren
END:VEVENT
BEGIN:VEVENT
DTSTAMP:20260425T044430
DTSTART;TZID=Europe/Berlin:20261103T170000
DTEND;TZID=Europe/Berlin:20261103T174500
UID:26-S23412-20261103T170000@BFODÜREN
SUMMARY:Wellenhelden – Schwimmkurs für fortgeschrittene Kinder ab 5 Jahren (26-S23412) 
LOCATION:Lehrschwimmbecken Birkesdorf, Weidenpesch 4-8, 52353 Düren
END:VEVENT
BEGIN:VEVENT
DTSTAMP:20260425T044430
DTSTART;TZID=Europe/Berlin:20261117T170000
DTEND;TZID=Europe/Berlin:20261117T174500
UID:26-S23412-20261117T170000@BFODÜREN
SUMMARY:Wellenhelden – Schwimmkurs für fortgeschrittene Kinder ab 5 Jahren (26-S23412) 
LOCATION:Lehrschwimmbecken Birkesdorf, Weidenpesch 4-8, 52353 Düren
END:VEVENT
BEGIN:VEVENT
DTSTAMP:20260425T044430
DTSTART;TZID=Europe/Berlin:20261124T170000
DTEND;TZID=Europe/Berlin:20261124T174500
UID:26-S23412-20261124T170000@BFODÜREN
SUMMARY:Wellenhelden – Schwimmkurs für fortgeschrittene Kinder ab 5 Jahren (26-S23412) 
LOCATION:Lehrschwimmbecken Birkesdorf, Weidenpesch 4-8, 52353 Düren
END:VEVENT
BEGIN:VEVENT
DTSTAMP:20260425T044430
DTSTART;TZID=Europe/Berlin:20261201T170000
DTEND;TZID=Europe/Berlin:20261201T174500
UID:26-S23412-20261201T170000@BFODÜREN
SUMMARY:Wellenhelden – Schwimmkurs für fortgeschrittene Kinder ab 5 Jahren (26-S23412) 
LOCATION:Lehrschwimmbecken Birkesdorf, Weidenpesch 4-8, 52353 Düren
END:VEVENT
BEGIN:VEVENT
DTSTAMP:20260425T044430
DTSTART;TZID=Europe/Berlin:20261208T170000
DTEND;TZID=Europe/Berlin:20261208T174500
UID:26-S23412-20261208T170000@BFODÜREN
SUMMARY:Wellenhelden – Schwimmkurs für fortgeschrittene Kinder ab 5 Jahren (26-S23412) 
LOCATION:Lehrschwimmbecken Birkesdorf, Weidenpesch 4-8, 52353 Düren
END:VEVENT
BEGIN:VEVENT
DTSTAMP:20260425T044430
DTSTART;TZID=Europe/Berlin:20261215T170000
DTEND;TZID=Europe/Berlin:20261215T174500
UID:26-S23412-20261215T170000@BFODÜREN
SUMMARY:Wellenhelden – Schwimmkurs für fortgeschrittene Kinder ab 5 Jahren (26-S23412) 
LOCATION:Lehrschwimmbecken Birkesdorf, Weidenpesch 4-8, 52353 Düren
END:VEVENT
END:VCALENDAR