BEGIN:VCALENDAR
VERSION:2.0
PRODID:https://www.kufer.de/kuferweb / DE
METHOD:PUBLISH
CALSCALE:GREGORIAN
X-WR-TIMEZONE:Europe/Berlin
BEGIN:VTIMEZONE
TZID:Europe/Berlin
X-LIC-LOCATION:Europe/Berlin
BEGIN:DAYLIGHT
TZOFFSETFROM:+0100
TZOFFSETTO:+0200
TZNAME:CEST
DTSTART:19700329T020000
RRULE:FREQ=YEARLY;INTERVAL=1;BYDAY=-1SU;BYMONTH=3
END:DAYLIGHT
BEGIN:STANDARD
TZOFFSETFROM:+0200
TZOFFSETTO:+0100
TZNAME:CET
DTSTART:19701025T030000
RRULE:FREQ=YEARLY;INTERVAL=1;BYDAY=-1SU;BYMONTH=10
END:STANDARD
END:VTIMEZONE
BEGIN:VEVENT
DTSTAMP:20260424T201534
DTSTART;TZID=Europe/Berlin:20261012T114500
DTEND;TZID=Europe/Berlin:20261012T124500
UID:26-S23462-20261012T114500@BFODÜREN
SUMMARY:fitdankbaby RÜCKBILDUNG (26-S23462) 
LOCATION:BFO, Raum 5, Holzstraße 50, 52349 Düren
END:VEVENT
BEGIN:VEVENT
DTSTAMP:20260424T201534
DTSTART;TZID=Europe/Berlin:20261026T114500
DTEND;TZID=Europe/Berlin:20261026T124500
UID:26-S23462-20261026T114500@BFODÜREN
SUMMARY:fitdankbaby RÜCKBILDUNG (26-S23462) 
LOCATION:BFO, Raum 5, Holzstraße 50, 52349 Düren
END:VEVENT
BEGIN:VEVENT
DTSTAMP:20260424T201534
DTSTART;TZID=Europe/Berlin:20261102T114500
DTEND;TZID=Europe/Berlin:20261102T124500
UID:26-S23462-20261102T114500@BFODÜREN
SUMMARY:fitdankbaby RÜCKBILDUNG (26-S23462) 
LOCATION:BFO, Raum 5, Holzstraße 50, 52349 Düren
END:VEVENT
BEGIN:VEVENT
DTSTAMP:20260424T201534
DTSTART;TZID=Europe/Berlin:20261109T114500
DTEND;TZID=Europe/Berlin:20261109T124500
UID:26-S23462-20261109T114500@BFODÜREN
SUMMARY:fitdankbaby RÜCKBILDUNG (26-S23462) 
LOCATION:BFO, Raum 5, Holzstraße 50, 52349 Düren
END:VEVENT
BEGIN:VEVENT
DTSTAMP:20260424T201534
DTSTART;TZID=Europe/Berlin:20261116T114500
DTEND;TZID=Europe/Berlin:20261116T124500
UID:26-S23462-20261116T114500@BFODÜREN
SUMMARY:fitdankbaby RÜCKBILDUNG (26-S23462) 
LOCATION:BFO, Raum 5, Holzstraße 50, 52349 Düren
END:VEVENT
BEGIN:VEVENT
DTSTAMP:20260424T201534
DTSTART;TZID=Europe/Berlin:20261123T114500
DTEND;TZID=Europe/Berlin:20261123T124500
UID:26-S23462-20261123T114500@BFODÜREN
SUMMARY:fitdankbaby RÜCKBILDUNG (26-S23462) 
LOCATION:BFO, Raum 5, Holzstraße 50, 52349 Düren
END:VEVENT
BEGIN:VEVENT
DTSTAMP:20260424T201534
DTSTART;TZID=Europe/Berlin:20261130T114500
DTEND;TZID=Europe/Berlin:20261130T124500
UID:26-S23462-20261130T114500@BFODÜREN
SUMMARY:fitdankbaby RÜCKBILDUNG (26-S23462) 
LOCATION:BFO, Raum 5, Holzstraße 50, 52349 Düren
END:VEVENT
BEGIN:VEVENT
DTSTAMP:20260424T201534
DTSTART;TZID=Europe/Berlin:20261207T114500
DTEND;TZID=Europe/Berlin:20261207T124500
UID:26-S23462-20261207T114500@BFODÜREN
SUMMARY:fitdankbaby RÜCKBILDUNG (26-S23462) 
LOCATION:BFO, Raum 5, Holzstraße 50, 52349 Düren
END:VEVENT
END:VCALENDAR