BEGIN:VCALENDAR
VERSION:2.0
PRODID:https://www.kufer.de/kuferweb / DE
METHOD:PUBLISH
CALSCALE:GREGORIAN
X-WR-TIMEZONE:Europe/Berlin
BEGIN:VTIMEZONE
TZID:Europe/Berlin
X-LIC-LOCATION:Europe/Berlin
BEGIN:DAYLIGHT
TZOFFSETFROM:+0100
TZOFFSETTO:+0200
TZNAME:CEST
DTSTART:19700329T020000
RRULE:FREQ=YEARLY;INTERVAL=1;BYDAY=-1SU;BYMONTH=3
END:DAYLIGHT
BEGIN:STANDARD
TZOFFSETFROM:+0200
TZOFFSETTO:+0100
TZNAME:CET
DTSTART:19701025T030000
RRULE:FREQ=YEARLY;INTERVAL=1;BYDAY=-1SU;BYMONTH=10
END:STANDARD
END:VTIMEZONE
BEGIN:VEVENT
DTSTAMP:20260424T190215
DTSTART;TZID=Europe/Berlin:20261214T114500
DTEND;TZID=Europe/Berlin:20261214T124500
UID:26-S23466-20261214T114500@BFODÜREN
SUMMARY:fitdankbaby RÜCKBILDUNG (26-S23466) 
LOCATION:BFO, Raum 5, Holzstraße 50, 52349 Düren
END:VEVENT
BEGIN:VEVENT
DTSTAMP:20260424T190215
DTSTART;TZID=Europe/Berlin:20261221T114500
DTEND;TZID=Europe/Berlin:20261221T124500
UID:26-S23466-20261221T114500@BFODÜREN
SUMMARY:fitdankbaby RÜCKBILDUNG (26-S23466) 
LOCATION:BFO, Raum 5, Holzstraße 50, 52349 Düren
END:VEVENT
BEGIN:VEVENT
DTSTAMP:20260424T190215
DTSTART;TZID=Europe/Berlin:20270111T114500
DTEND;TZID=Europe/Berlin:20270111T124500
UID:26-S23466-20270111T114500@BFODÜREN
SUMMARY:fitdankbaby RÜCKBILDUNG (26-S23466) 
LOCATION:BFO, Raum 5, Holzstraße 50, 52349 Düren
END:VEVENT
BEGIN:VEVENT
DTSTAMP:20260424T190215
DTSTART;TZID=Europe/Berlin:20270118T114500
DTEND;TZID=Europe/Berlin:20270118T124500
UID:26-S23466-20270118T114500@BFODÜREN
SUMMARY:fitdankbaby RÜCKBILDUNG (26-S23466) 
LOCATION:BFO, Raum 5, Holzstraße 50, 52349 Düren
END:VEVENT
BEGIN:VEVENT
DTSTAMP:20260424T190215
DTSTART;TZID=Europe/Berlin:20270125T114500
DTEND;TZID=Europe/Berlin:20270125T124500
UID:26-S23466-20270125T114500@BFODÜREN
SUMMARY:fitdankbaby RÜCKBILDUNG (26-S23466) 
LOCATION:BFO, Raum 5, Holzstraße 50, 52349 Düren
END:VEVENT
BEGIN:VEVENT
DTSTAMP:20260424T190215
DTSTART;TZID=Europe/Berlin:20270201T114500
DTEND;TZID=Europe/Berlin:20270201T124500
UID:26-S23466-20270201T114500@BFODÜREN
SUMMARY:fitdankbaby RÜCKBILDUNG (26-S23466) 
LOCATION:BFO, Raum 5, Holzstraße 50, 52349 Düren
END:VEVENT
BEGIN:VEVENT
DTSTAMP:20260424T190215
DTSTART;TZID=Europe/Berlin:20270215T114500
DTEND;TZID=Europe/Berlin:20270215T124500
UID:26-S23466-20270215T114500@BFODÜREN
SUMMARY:fitdankbaby RÜCKBILDUNG (26-S23466) 
LOCATION:BFO, Raum 5, Holzstraße 50, 52349 Düren
END:VEVENT
BEGIN:VEVENT
DTSTAMP:20260424T190215
DTSTART;TZID=Europe/Berlin:20270222T114500
DTEND;TZID=Europe/Berlin:20270222T124500
UID:26-S23466-20270222T114500@BFODÜREN
SUMMARY:fitdankbaby RÜCKBILDUNG (26-S23466) 
LOCATION:BFO, Raum 5, Holzstraße 50, 52349 Düren
END:VEVENT
END:VCALENDAR