BEGIN:VCALENDAR
VERSION:2.0
PRODID:https://www.kufer.de/kuferweb / DE
METHOD:PUBLISH
CALSCALE:GREGORIAN
X-WR-TIMEZONE:Europe/Berlin
BEGIN:VTIMEZONE
TZID:Europe/Berlin
X-LIC-LOCATION:Europe/Berlin
BEGIN:DAYLIGHT
TZOFFSETFROM:+0100
TZOFFSETTO:+0200
TZNAME:CEST
DTSTART:19700329T020000
RRULE:FREQ=YEARLY;INTERVAL=1;BYDAY=-1SU;BYMONTH=3
END:DAYLIGHT
BEGIN:STANDARD
TZOFFSETFROM:+0200
TZOFFSETTO:+0100
TZNAME:CET
DTSTART:19701025T030000
RRULE:FREQ=YEARLY;INTERVAL=1;BYDAY=-1SU;BYMONTH=10
END:STANDARD
END:VTIMEZONE
BEGIN:VEVENT
DTSTAMP:20260424T201539
DTSTART;TZID=Europe/Berlin:20260817T114500
DTEND;TZID=Europe/Berlin:20260817T124500
UID:26-S23472-20260817T114500@BFODÜREN
SUMMARY:fitdankbaby RÜCKBILDUNG (26-S23472) 
LOCATION:BFO, Raum 5, Holzstraße 50, 52349 Düren
END:VEVENT
BEGIN:VEVENT
DTSTAMP:20260424T201539
DTSTART;TZID=Europe/Berlin:20260824T114500
DTEND;TZID=Europe/Berlin:20260824T124500
UID:26-S23472-20260824T114500@BFODÜREN
SUMMARY:fitdankbaby RÜCKBILDUNG (26-S23472) 
LOCATION:BFO, Raum 5, Holzstraße 50, 52349 Düren
END:VEVENT
BEGIN:VEVENT
DTSTAMP:20260424T201539
DTSTART;TZID=Europe/Berlin:20260831T114500
DTEND;TZID=Europe/Berlin:20260831T124500
UID:26-S23472-20260831T114500@BFODÜREN
SUMMARY:fitdankbaby RÜCKBILDUNG (26-S23472) 
LOCATION:BFO, Raum 5, Holzstraße 50, 52349 Düren
END:VEVENT
BEGIN:VEVENT
DTSTAMP:20260424T201539
DTSTART;TZID=Europe/Berlin:20260907T114500
DTEND;TZID=Europe/Berlin:20260907T124500
UID:26-S23472-20260907T114500@BFODÜREN
SUMMARY:fitdankbaby RÜCKBILDUNG (26-S23472) 
LOCATION:BFO, Raum 5, Holzstraße 50, 52349 Düren
END:VEVENT
BEGIN:VEVENT
DTSTAMP:20260424T201539
DTSTART;TZID=Europe/Berlin:20260914T114500
DTEND;TZID=Europe/Berlin:20260914T124500
UID:26-S23472-20260914T114500@BFODÜREN
SUMMARY:fitdankbaby RÜCKBILDUNG (26-S23472) 
LOCATION:BFO, Raum 5, Holzstraße 50, 52349 Düren
END:VEVENT
BEGIN:VEVENT
DTSTAMP:20260424T201539
DTSTART;TZID=Europe/Berlin:20260921T114500
DTEND;TZID=Europe/Berlin:20260921T124500
UID:26-S23472-20260921T114500@BFODÜREN
SUMMARY:fitdankbaby RÜCKBILDUNG (26-S23472) 
LOCATION:BFO, Raum 5, Holzstraße 50, 52349 Düren
END:VEVENT
BEGIN:VEVENT
DTSTAMP:20260424T201539
DTSTART;TZID=Europe/Berlin:20260928T114500
DTEND;TZID=Europe/Berlin:20260928T124500
UID:26-S23472-20260928T114500@BFODÜREN
SUMMARY:fitdankbaby RÜCKBILDUNG (26-S23472) 
LOCATION:BFO, Raum 5, Holzstraße 50, 52349 Düren
END:VEVENT
BEGIN:VEVENT
DTSTAMP:20260424T201539
DTSTART;TZID=Europe/Berlin:20261005T114500
DTEND;TZID=Europe/Berlin:20261005T124500
UID:26-S23472-20261005T114500@BFODÜREN
SUMMARY:fitdankbaby RÜCKBILDUNG (26-S23472) 
LOCATION:BFO, Raum 5, Holzstraße 50, 52349 Düren
END:VEVENT
END:VCALENDAR