BEGIN:VCALENDAR
VERSION:2.0
PRODID:https://www.kufer.de/kuferweb / DE
METHOD:PUBLISH
CALSCALE:GREGORIAN
X-WR-TIMEZONE:Europe/Berlin
BEGIN:VTIMEZONE
TZID:Europe/Berlin
X-LIC-LOCATION:Europe/Berlin
BEGIN:DAYLIGHT
TZOFFSETFROM:+0100
TZOFFSETTO:+0200
TZNAME:CEST
DTSTART:19700329T020000
RRULE:FREQ=YEARLY;INTERVAL=1;BYDAY=-1SU;BYMONTH=3
END:DAYLIGHT
BEGIN:STANDARD
TZOFFSETFROM:+0200
TZOFFSETTO:+0100
TZNAME:CET
DTSTART:19701025T030000
RRULE:FREQ=YEARLY;INTERVAL=1;BYDAY=-1SU;BYMONTH=10
END:STANDARD
END:VTIMEZONE
BEGIN:VEVENT
DTSTAMP:20260425T001937
DTSTART;TZID=Europe/Berlin:20260909T171500
DTEND;TZID=Europe/Berlin:20260909T180000
UID:26-S23542-20260909T171500@BFODÜREN
SUMMARY:Wellenhelden – Schwimmkurs für Kinder ab 5 Jahren (26-S23542) 
LOCATION:Lehrschwimmbecken DN-Goethestraße, Goethestraße, 52349 Düren
END:VEVENT
BEGIN:VEVENT
DTSTAMP:20260425T001937
DTSTART;TZID=Europe/Berlin:20260916T171500
DTEND;TZID=Europe/Berlin:20260916T180000
UID:26-S23542-20260916T171500@BFODÜREN
SUMMARY:Wellenhelden – Schwimmkurs für Kinder ab 5 Jahren (26-S23542) 
LOCATION:Lehrschwimmbecken DN-Goethestraße, Goethestraße, 52349 Düren
END:VEVENT
BEGIN:VEVENT
DTSTAMP:20260425T001937
DTSTART;TZID=Europe/Berlin:20260923T171500
DTEND;TZID=Europe/Berlin:20260923T180000
UID:26-S23542-20260923T171500@BFODÜREN
SUMMARY:Wellenhelden – Schwimmkurs für Kinder ab 5 Jahren (26-S23542) 
LOCATION:Lehrschwimmbecken DN-Goethestraße, Goethestraße, 52349 Düren
END:VEVENT
BEGIN:VEVENT
DTSTAMP:20260425T001937
DTSTART;TZID=Europe/Berlin:20260930T171500
DTEND;TZID=Europe/Berlin:20260930T180000
UID:26-S23542-20260930T171500@BFODÜREN
SUMMARY:Wellenhelden – Schwimmkurs für Kinder ab 5 Jahren (26-S23542) 
LOCATION:Lehrschwimmbecken DN-Goethestraße, Goethestraße, 52349 Düren
END:VEVENT
BEGIN:VEVENT
DTSTAMP:20260425T001937
DTSTART;TZID=Europe/Berlin:20261007T171500
DTEND;TZID=Europe/Berlin:20261007T180000
UID:26-S23542-20261007T171500@BFODÜREN
SUMMARY:Wellenhelden – Schwimmkurs für Kinder ab 5 Jahren (26-S23542) 
LOCATION:Lehrschwimmbecken DN-Goethestraße, Goethestraße, 52349 Düren
END:VEVENT
BEGIN:VEVENT
DTSTAMP:20260425T001937
DTSTART;TZID=Europe/Berlin:20261014T171500
DTEND;TZID=Europe/Berlin:20261014T180000
UID:26-S23542-20261014T171500@BFODÜREN
SUMMARY:Wellenhelden – Schwimmkurs für Kinder ab 5 Jahren (26-S23542) 
LOCATION:Lehrschwimmbecken DN-Goethestraße, Goethestraße, 52349 Düren
END:VEVENT
BEGIN:VEVENT
DTSTAMP:20260425T001937
DTSTART;TZID=Europe/Berlin:20261104T171500
DTEND;TZID=Europe/Berlin:20261104T180000
UID:26-S23542-20261104T171500@BFODÜREN
SUMMARY:Wellenhelden – Schwimmkurs für Kinder ab 5 Jahren (26-S23542) 
LOCATION:Lehrschwimmbecken DN-Goethestraße, Goethestraße, 52349 Düren
END:VEVENT
BEGIN:VEVENT
DTSTAMP:20260425T001937
DTSTART;TZID=Europe/Berlin:20261111T171500
DTEND;TZID=Europe/Berlin:20261111T180000
UID:26-S23542-20261111T171500@BFODÜREN
SUMMARY:Wellenhelden – Schwimmkurs für Kinder ab 5 Jahren (26-S23542) 
LOCATION:Lehrschwimmbecken DN-Goethestraße, Goethestraße, 52349 Düren
END:VEVENT
BEGIN:VEVENT
DTSTAMP:20260425T001937
DTSTART;TZID=Europe/Berlin:20261118T171500
DTEND;TZID=Europe/Berlin:20261118T180000
UID:26-S23542-20261118T171500@BFODÜREN
SUMMARY:Wellenhelden – Schwimmkurs für Kinder ab 5 Jahren (26-S23542) 
LOCATION:Lehrschwimmbecken DN-Goethestraße, Goethestraße, 52349 Düren
END:VEVENT
BEGIN:VEVENT
DTSTAMP:20260425T001937
DTSTART;TZID=Europe/Berlin:20261125T171500
DTEND;TZID=Europe/Berlin:20261125T180000
UID:26-S23542-20261125T171500@BFODÜREN
SUMMARY:Wellenhelden – Schwimmkurs für Kinder ab 5 Jahren (26-S23542) 
LOCATION:Lehrschwimmbecken DN-Goethestraße, Goethestraße, 52349 Düren
END:VEVENT
BEGIN:VEVENT
DTSTAMP:20260425T001937
DTSTART;TZID=Europe/Berlin:20261202T171500
DTEND;TZID=Europe/Berlin:20261202T180000
UID:26-S23542-20261202T171500@BFODÜREN
SUMMARY:Wellenhelden – Schwimmkurs für Kinder ab 5 Jahren (26-S23542) 
LOCATION:Lehrschwimmbecken DN-Goethestraße, Goethestraße, 52349 Düren
END:VEVENT
BEGIN:VEVENT
DTSTAMP:20260425T001937
DTSTART;TZID=Europe/Berlin:20261209T171500
DTEND;TZID=Europe/Berlin:20261209T180000
UID:26-S23542-20261209T171500@BFODÜREN
SUMMARY:Wellenhelden – Schwimmkurs für Kinder ab 5 Jahren (26-S23542) 
LOCATION:Lehrschwimmbecken DN-Goethestraße, Goethestraße, 52349 Düren
END:VEVENT
BEGIN:VEVENT
DTSTAMP:20260425T001937
DTSTART;TZID=Europe/Berlin:20261216T171500
DTEND;TZID=Europe/Berlin:20261216T180000
UID:26-S23542-20261216T171500@BFODÜREN
SUMMARY:Wellenhelden – Schwimmkurs für Kinder ab 5 Jahren (26-S23542) 
LOCATION:Lehrschwimmbecken DN-Goethestraße, Goethestraße, 52349 Düren
END:VEVENT
END:VCALENDAR