BEGIN:VCALENDAR
VERSION:2.0
PRODID:https://www.kufer.de/kuferweb / DE
METHOD:PUBLISH
CALSCALE:GREGORIAN
X-WR-TIMEZONE:Europe/Berlin
BEGIN:VTIMEZONE
TZID:Europe/Berlin
X-LIC-LOCATION:Europe/Berlin
BEGIN:DAYLIGHT
TZOFFSETFROM:+0100
TZOFFSETTO:+0200
TZNAME:CEST
DTSTART:19700329T020000
RRULE:FREQ=YEARLY;INTERVAL=1;BYDAY=-1SU;BYMONTH=3
END:DAYLIGHT
BEGIN:STANDARD
TZOFFSETFROM:+0200
TZOFFSETTO:+0100
TZNAME:CET
DTSTART:19701025T030000
RRULE:FREQ=YEARLY;INTERVAL=1;BYDAY=-1SU;BYMONTH=10
END:STANDARD
END:VTIMEZONE
BEGIN:VEVENT
DTSTAMP:20260425T030952
DTSTART;TZID=Europe/Berlin:20260907T160000
DTEND;TZID=Europe/Berlin:20260907T164500
UID:26-S23562-20260907T160000@BFODÜREN
SUMMARY:Wellenstarter - Anfängerschwimmkurs für Kinder ab 3 Jahren (26-S23562) 
LOCATION:Schulzentrum Athenée Royal Düren, Rudolf-Diesel-Straße 19, 52351 Düren
END:VEVENT
BEGIN:VEVENT
DTSTAMP:20260425T030952
DTSTART;TZID=Europe/Berlin:20260914T160000
DTEND;TZID=Europe/Berlin:20260914T164500
UID:26-S23562-20260914T160000@BFODÜREN
SUMMARY:Wellenstarter - Anfängerschwimmkurs für Kinder ab 3 Jahren (26-S23562) 
LOCATION:Schulzentrum Athenée Royal Düren, Rudolf-Diesel-Straße 19, 52351 Düren
END:VEVENT
BEGIN:VEVENT
DTSTAMP:20260425T030952
DTSTART;TZID=Europe/Berlin:20260921T160000
DTEND;TZID=Europe/Berlin:20260921T164500
UID:26-S23562-20260921T160000@BFODÜREN
SUMMARY:Wellenstarter - Anfängerschwimmkurs für Kinder ab 3 Jahren (26-S23562) 
LOCATION:Schulzentrum Athenée Royal Düren, Rudolf-Diesel-Straße 19, 52351 Düren
END:VEVENT
BEGIN:VEVENT
DTSTAMP:20260425T030952
DTSTART;TZID=Europe/Berlin:20260928T160000
DTEND;TZID=Europe/Berlin:20260928T164500
UID:26-S23562-20260928T160000@BFODÜREN
SUMMARY:Wellenstarter - Anfängerschwimmkurs für Kinder ab 3 Jahren (26-S23562) 
LOCATION:Schulzentrum Athenée Royal Düren, Rudolf-Diesel-Straße 19, 52351 Düren
END:VEVENT
BEGIN:VEVENT
DTSTAMP:20260425T030952
DTSTART;TZID=Europe/Berlin:20261005T160000
DTEND;TZID=Europe/Berlin:20261005T164500
UID:26-S23562-20261005T160000@BFODÜREN
SUMMARY:Wellenstarter - Anfängerschwimmkurs für Kinder ab 3 Jahren (26-S23562) 
LOCATION:Schulzentrum Athenée Royal Düren, Rudolf-Diesel-Straße 19, 52351 Düren
END:VEVENT
BEGIN:VEVENT
DTSTAMP:20260425T030952
DTSTART;TZID=Europe/Berlin:20261012T160000
DTEND;TZID=Europe/Berlin:20261012T164500
UID:26-S23562-20261012T160000@BFODÜREN
SUMMARY:Wellenstarter - Anfängerschwimmkurs für Kinder ab 3 Jahren (26-S23562) 
LOCATION:Schulzentrum Athenée Royal Düren, Rudolf-Diesel-Straße 19, 52351 Düren
END:VEVENT
BEGIN:VEVENT
DTSTAMP:20260425T030952
DTSTART;TZID=Europe/Berlin:20261102T160000
DTEND;TZID=Europe/Berlin:20261102T164500
UID:26-S23562-20261102T160000@BFODÜREN
SUMMARY:Wellenstarter - Anfängerschwimmkurs für Kinder ab 3 Jahren (26-S23562) 
LOCATION:Schulzentrum Athenée Royal Düren, Rudolf-Diesel-Straße 19, 52351 Düren
END:VEVENT
BEGIN:VEVENT
DTSTAMP:20260425T030952
DTSTART;TZID=Europe/Berlin:20261109T160000
DTEND;TZID=Europe/Berlin:20261109T164500
UID:26-S23562-20261109T160000@BFODÜREN
SUMMARY:Wellenstarter - Anfängerschwimmkurs für Kinder ab 3 Jahren (26-S23562) 
LOCATION:Schulzentrum Athenée Royal Düren, Rudolf-Diesel-Straße 19, 52351 Düren
END:VEVENT
BEGIN:VEVENT
DTSTAMP:20260425T030952
DTSTART;TZID=Europe/Berlin:20261116T160000
DTEND;TZID=Europe/Berlin:20261116T164500
UID:26-S23562-20261116T160000@BFODÜREN
SUMMARY:Wellenstarter - Anfängerschwimmkurs für Kinder ab 3 Jahren (26-S23562) 
LOCATION:Schulzentrum Athenée Royal Düren, Rudolf-Diesel-Straße 19, 52351 Düren
END:VEVENT
BEGIN:VEVENT
DTSTAMP:20260425T030952
DTSTART;TZID=Europe/Berlin:20261123T160000
DTEND;TZID=Europe/Berlin:20261123T164500
UID:26-S23562-20261123T160000@BFODÜREN
SUMMARY:Wellenstarter - Anfängerschwimmkurs für Kinder ab 3 Jahren (26-S23562) 
LOCATION:Schulzentrum Athenée Royal Düren, Rudolf-Diesel-Straße 19, 52351 Düren
END:VEVENT
BEGIN:VEVENT
DTSTAMP:20260425T030952
DTSTART;TZID=Europe/Berlin:20261130T160000
DTEND;TZID=Europe/Berlin:20261130T164500
UID:26-S23562-20261130T160000@BFODÜREN
SUMMARY:Wellenstarter - Anfängerschwimmkurs für Kinder ab 3 Jahren (26-S23562) 
LOCATION:Schulzentrum Athenée Royal Düren, Rudolf-Diesel-Straße 19, 52351 Düren
END:VEVENT
BEGIN:VEVENT
DTSTAMP:20260425T030952
DTSTART;TZID=Europe/Berlin:20261207T160000
DTEND;TZID=Europe/Berlin:20261207T164500
UID:26-S23562-20261207T160000@BFODÜREN
SUMMARY:Wellenstarter - Anfängerschwimmkurs für Kinder ab 3 Jahren (26-S23562) 
LOCATION:Schulzentrum Athenée Royal Düren, Rudolf-Diesel-Straße 19, 52351 Düren
END:VEVENT
END:VCALENDAR