BEGIN:VCALENDAR
VERSION:2.0
PRODID:https://www.kufer.de/kuferweb / DE
METHOD:PUBLISH
CALSCALE:GREGORIAN
X-WR-TIMEZONE:Europe/Berlin
BEGIN:VTIMEZONE
TZID:Europe/Berlin
X-LIC-LOCATION:Europe/Berlin
BEGIN:DAYLIGHT
TZOFFSETFROM:+0100
TZOFFSETTO:+0200
TZNAME:CEST
DTSTART:19700329T020000
RRULE:FREQ=YEARLY;INTERVAL=1;BYDAY=-1SU;BYMONTH=3
END:DAYLIGHT
BEGIN:STANDARD
TZOFFSETFROM:+0200
TZOFFSETTO:+0100
TZNAME:CET
DTSTART:19701025T030000
RRULE:FREQ=YEARLY;INTERVAL=1;BYDAY=-1SU;BYMONTH=10
END:STANDARD
END:VTIMEZONE
BEGIN:VEVENT
DTSTAMP:20260425T031118
DTSTART;TZID=Europe/Berlin:20260907T164500
DTEND;TZID=Europe/Berlin:20260907T173000
UID:26-S23572-20260907T164500@BFODÜREN
SUMMARY:Wellenhelden – Fortgeschrittenen-Schwimmkurs für Kinder ab 5 Jahren (26-S23572) 
LOCATION:Schulzentrum Athenée Royal Düren, Rudolf-Diesel-Straße 19, 52351 Düren
END:VEVENT
BEGIN:VEVENT
DTSTAMP:20260425T031118
DTSTART;TZID=Europe/Berlin:20260914T164500
DTEND;TZID=Europe/Berlin:20260914T173000
UID:26-S23572-20260914T164500@BFODÜREN
SUMMARY:Wellenhelden – Fortgeschrittenen-Schwimmkurs für Kinder ab 5 Jahren (26-S23572) 
LOCATION:Schulzentrum Athenée Royal Düren, Rudolf-Diesel-Straße 19, 52351 Düren
END:VEVENT
BEGIN:VEVENT
DTSTAMP:20260425T031118
DTSTART;TZID=Europe/Berlin:20260921T164500
DTEND;TZID=Europe/Berlin:20260921T173000
UID:26-S23572-20260921T164500@BFODÜREN
SUMMARY:Wellenhelden – Fortgeschrittenen-Schwimmkurs für Kinder ab 5 Jahren (26-S23572) 
LOCATION:Schulzentrum Athenée Royal Düren, Rudolf-Diesel-Straße 19, 52351 Düren
END:VEVENT
BEGIN:VEVENT
DTSTAMP:20260425T031118
DTSTART;TZID=Europe/Berlin:20260928T164500
DTEND;TZID=Europe/Berlin:20260928T173000
UID:26-S23572-20260928T164500@BFODÜREN
SUMMARY:Wellenhelden – Fortgeschrittenen-Schwimmkurs für Kinder ab 5 Jahren (26-S23572) 
LOCATION:Schulzentrum Athenée Royal Düren, Rudolf-Diesel-Straße 19, 52351 Düren
END:VEVENT
BEGIN:VEVENT
DTSTAMP:20260425T031118
DTSTART;TZID=Europe/Berlin:20261005T164500
DTEND;TZID=Europe/Berlin:20261005T173000
UID:26-S23572-20261005T164500@BFODÜREN
SUMMARY:Wellenhelden – Fortgeschrittenen-Schwimmkurs für Kinder ab 5 Jahren (26-S23572) 
LOCATION:Schulzentrum Athenée Royal Düren, Rudolf-Diesel-Straße 19, 52351 Düren
END:VEVENT
BEGIN:VEVENT
DTSTAMP:20260425T031118
DTSTART;TZID=Europe/Berlin:20261012T164500
DTEND;TZID=Europe/Berlin:20261012T173000
UID:26-S23572-20261012T164500@BFODÜREN
SUMMARY:Wellenhelden – Fortgeschrittenen-Schwimmkurs für Kinder ab 5 Jahren (26-S23572) 
LOCATION:Schulzentrum Athenée Royal Düren, Rudolf-Diesel-Straße 19, 52351 Düren
END:VEVENT
BEGIN:VEVENT
DTSTAMP:20260425T031118
DTSTART;TZID=Europe/Berlin:20261102T164500
DTEND;TZID=Europe/Berlin:20261102T173000
UID:26-S23572-20261102T164500@BFODÜREN
SUMMARY:Wellenhelden – Fortgeschrittenen-Schwimmkurs für Kinder ab 5 Jahren (26-S23572) 
LOCATION:Schulzentrum Athenée Royal Düren, Rudolf-Diesel-Straße 19, 52351 Düren
END:VEVENT
BEGIN:VEVENT
DTSTAMP:20260425T031118
DTSTART;TZID=Europe/Berlin:20261109T164500
DTEND;TZID=Europe/Berlin:20261109T173000
UID:26-S23572-20261109T164500@BFODÜREN
SUMMARY:Wellenhelden – Fortgeschrittenen-Schwimmkurs für Kinder ab 5 Jahren (26-S23572) 
LOCATION:Schulzentrum Athenée Royal Düren, Rudolf-Diesel-Straße 19, 52351 Düren
END:VEVENT
BEGIN:VEVENT
DTSTAMP:20260425T031118
DTSTART;TZID=Europe/Berlin:20261116T164500
DTEND;TZID=Europe/Berlin:20261116T173000
UID:26-S23572-20261116T164500@BFODÜREN
SUMMARY:Wellenhelden – Fortgeschrittenen-Schwimmkurs für Kinder ab 5 Jahren (26-S23572) 
LOCATION:Schulzentrum Athenée Royal Düren, Rudolf-Diesel-Straße 19, 52351 Düren
END:VEVENT
BEGIN:VEVENT
DTSTAMP:20260425T031118
DTSTART;TZID=Europe/Berlin:20261123T164500
DTEND;TZID=Europe/Berlin:20261123T173000
UID:26-S23572-20261123T164500@BFODÜREN
SUMMARY:Wellenhelden – Fortgeschrittenen-Schwimmkurs für Kinder ab 5 Jahren (26-S23572) 
LOCATION:Schulzentrum Athenée Royal Düren, Rudolf-Diesel-Straße 19, 52351 Düren
END:VEVENT
BEGIN:VEVENT
DTSTAMP:20260425T031118
DTSTART;TZID=Europe/Berlin:20261130T164500
DTEND;TZID=Europe/Berlin:20261130T173000
UID:26-S23572-20261130T164500@BFODÜREN
SUMMARY:Wellenhelden – Fortgeschrittenen-Schwimmkurs für Kinder ab 5 Jahren (26-S23572) 
LOCATION:Schulzentrum Athenée Royal Düren, Rudolf-Diesel-Straße 19, 52351 Düren
END:VEVENT
BEGIN:VEVENT
DTSTAMP:20260425T031118
DTSTART;TZID=Europe/Berlin:20261207T164500
DTEND;TZID=Europe/Berlin:20261207T173000
UID:26-S23572-20261207T164500@BFODÜREN
SUMMARY:Wellenhelden – Fortgeschrittenen-Schwimmkurs für Kinder ab 5 Jahren (26-S23572) 
LOCATION:Schulzentrum Athenée Royal Düren, Rudolf-Diesel-Straße 19, 52351 Düren
END:VEVENT
END:VCALENDAR