BEGIN:VCALENDAR
VERSION:2.0
PRODID:https://www.kufer.de/kuferweb / DE
METHOD:PUBLISH
CALSCALE:GREGORIAN
X-WR-TIMEZONE:Europe/Berlin
BEGIN:VTIMEZONE
TZID:Europe/Berlin
X-LIC-LOCATION:Europe/Berlin
BEGIN:DAYLIGHT
TZOFFSETFROM:+0100
TZOFFSETTO:+0200
TZNAME:CEST
DTSTART:19700329T020000
RRULE:FREQ=YEARLY;INTERVAL=1;BYDAY=-1SU;BYMONTH=3
END:DAYLIGHT
BEGIN:STANDARD
TZOFFSETFROM:+0200
TZOFFSETTO:+0100
TZNAME:CET
DTSTART:19701025T030000
RRULE:FREQ=YEARLY;INTERVAL=1;BYDAY=-1SU;BYMONTH=10
END:STANDARD
END:VTIMEZONE
BEGIN:VEVENT
DTSTAMP:20260424T201516
DTSTART;TZID=Europe/Berlin:20261204T103500
DTEND;TZID=Europe/Berlin:20261204T113500
UID:26-S23616-20261204T103500@BFODÜREN
SUMMARY:fitdankbaby Mini (3 - 8 Monate) (26-S23616) 
LOCATION:BFO, Raum 3, Holzstraße 50, 52349 Düren
END:VEVENT
BEGIN:VEVENT
DTSTAMP:20260424T201516
DTSTART;TZID=Europe/Berlin:20261211T103500
DTEND;TZID=Europe/Berlin:20261211T113500
UID:26-S23616-20261211T103500@BFODÜREN
SUMMARY:fitdankbaby Mini (3 - 8 Monate) (26-S23616) 
LOCATION:BFO, Raum 3, Holzstraße 50, 52349 Düren
END:VEVENT
BEGIN:VEVENT
DTSTAMP:20260424T201516
DTSTART;TZID=Europe/Berlin:20261218T103500
DTEND;TZID=Europe/Berlin:20261218T113500
UID:26-S23616-20261218T103500@BFODÜREN
SUMMARY:fitdankbaby Mini (3 - 8 Monate) (26-S23616) 
LOCATION:BFO, Raum 3, Holzstraße 50, 52349 Düren
END:VEVENT
BEGIN:VEVENT
DTSTAMP:20260424T201516
DTSTART;TZID=Europe/Berlin:20270108T103500
DTEND;TZID=Europe/Berlin:20270108T113500
UID:26-S23616-20270108T103500@BFODÜREN
SUMMARY:fitdankbaby Mini (3 - 8 Monate) (26-S23616) 
LOCATION:BFO, Raum 3, Holzstraße 50, 52349 Düren
END:VEVENT
BEGIN:VEVENT
DTSTAMP:20260424T201516
DTSTART;TZID=Europe/Berlin:20270115T103500
DTEND;TZID=Europe/Berlin:20270115T113500
UID:26-S23616-20270115T103500@BFODÜREN
SUMMARY:fitdankbaby Mini (3 - 8 Monate) (26-S23616) 
LOCATION:BFO, Raum 3, Holzstraße 50, 52349 Düren
END:VEVENT
BEGIN:VEVENT
DTSTAMP:20260424T201516
DTSTART;TZID=Europe/Berlin:20270122T103500
DTEND;TZID=Europe/Berlin:20270122T113500
UID:26-S23616-20270122T103500@BFODÜREN
SUMMARY:fitdankbaby Mini (3 - 8 Monate) (26-S23616) 
LOCATION:BFO, Raum 3, Holzstraße 50, 52349 Düren
END:VEVENT
BEGIN:VEVENT
DTSTAMP:20260424T201516
DTSTART;TZID=Europe/Berlin:20270129T103500
DTEND;TZID=Europe/Berlin:20270129T113500
UID:26-S23616-20270129T103500@BFODÜREN
SUMMARY:fitdankbaby Mini (3 - 8 Monate) (26-S23616) 
LOCATION:BFO, Raum 3, Holzstraße 50, 52349 Düren
END:VEVENT
BEGIN:VEVENT
DTSTAMP:20260424T201516
DTSTART;TZID=Europe/Berlin:20270205T103500
DTEND;TZID=Europe/Berlin:20270205T113500
UID:26-S23616-20270205T103500@BFODÜREN
SUMMARY:fitdankbaby Mini (3 - 8 Monate) (26-S23616) 
LOCATION:BFO, Raum 3, Holzstraße 50, 52349 Düren
END:VEVENT
END:VCALENDAR