BEGIN:VCALENDAR
VERSION:2.0
PRODID:https://www.kufer.de/kuferweb / DE
METHOD:PUBLISH
CALSCALE:GREGORIAN
X-WR-TIMEZONE:Europe/Berlin
BEGIN:VTIMEZONE
TZID:Europe/Berlin
X-LIC-LOCATION:Europe/Berlin
BEGIN:DAYLIGHT
TZOFFSETFROM:+0100
TZOFFSETTO:+0200
TZNAME:CEST
DTSTART:19700329T020000
RRULE:FREQ=YEARLY;INTERVAL=1;BYDAY=-1SU;BYMONTH=3
END:DAYLIGHT
BEGIN:STANDARD
TZOFFSETFROM:+0200
TZOFFSETTO:+0100
TZNAME:CET
DTSTART:19701025T030000
RRULE:FREQ=YEARLY;INTERVAL=1;BYDAY=-1SU;BYMONTH=10
END:STANDARD
END:VTIMEZONE
BEGIN:VEVENT
DTSTAMP:20260424T201522
DTSTART;TZID=Europe/Berlin:20260717T103500
DTEND;TZID=Europe/Berlin:20260717T113500
UID:26-S23622-20260717T103500@BFODÜREN
SUMMARY:fitdankbaby Mini (3 - 8 Monate) (26-S23622) 
LOCATION:BFO, Raum 3, Holzstraße 50, 52349 Düren
END:VEVENT
BEGIN:VEVENT
DTSTAMP:20260424T201522
DTSTART;TZID=Europe/Berlin:20260724T103500
DTEND;TZID=Europe/Berlin:20260724T113500
UID:26-S23622-20260724T103500@BFODÜREN
SUMMARY:fitdankbaby Mini (3 - 8 Monate) (26-S23622) 
LOCATION:BFO, Raum 3, Holzstraße 50, 52349 Düren
END:VEVENT
BEGIN:VEVENT
DTSTAMP:20260424T201522
DTSTART;TZID=Europe/Berlin:20260821T103500
DTEND;TZID=Europe/Berlin:20260821T113500
UID:26-S23622-20260821T103500@BFODÜREN
SUMMARY:fitdankbaby Mini (3 - 8 Monate) (26-S23622) 
LOCATION:BFO, Raum 3, Holzstraße 50, 52349 Düren
END:VEVENT
BEGIN:VEVENT
DTSTAMP:20260424T201522
DTSTART;TZID=Europe/Berlin:20260828T103500
DTEND;TZID=Europe/Berlin:20260828T113500
UID:26-S23622-20260828T103500@BFODÜREN
SUMMARY:fitdankbaby Mini (3 - 8 Monate) (26-S23622) 
LOCATION:BFO, Raum 3, Holzstraße 50, 52349 Düren
END:VEVENT
BEGIN:VEVENT
DTSTAMP:20260424T201522
DTSTART;TZID=Europe/Berlin:20260904T103500
DTEND;TZID=Europe/Berlin:20260904T113500
UID:26-S23622-20260904T103500@BFODÜREN
SUMMARY:fitdankbaby Mini (3 - 8 Monate) (26-S23622) 
LOCATION:BFO, Raum 3, Holzstraße 50, 52349 Düren
END:VEVENT
BEGIN:VEVENT
DTSTAMP:20260424T201522
DTSTART;TZID=Europe/Berlin:20260911T103500
DTEND;TZID=Europe/Berlin:20260911T113500
UID:26-S23622-20260911T103500@BFODÜREN
SUMMARY:fitdankbaby Mini (3 - 8 Monate) (26-S23622) 
LOCATION:BFO, Raum 3, Holzstraße 50, 52349 Düren
END:VEVENT
BEGIN:VEVENT
DTSTAMP:20260424T201522
DTSTART;TZID=Europe/Berlin:20260918T103500
DTEND;TZID=Europe/Berlin:20260918T113500
UID:26-S23622-20260918T103500@BFODÜREN
SUMMARY:fitdankbaby Mini (3 - 8 Monate) (26-S23622) 
LOCATION:BFO, Raum 3, Holzstraße 50, 52349 Düren
END:VEVENT
BEGIN:VEVENT
DTSTAMP:20260424T201522
DTSTART;TZID=Europe/Berlin:20260925T103500
DTEND;TZID=Europe/Berlin:20260925T113500
UID:26-S23622-20260925T103500@BFODÜREN
SUMMARY:fitdankbaby Mini (3 - 8 Monate) (26-S23622) 
LOCATION:BFO, Raum 3, Holzstraße 50, 52349 Düren
END:VEVENT
END:VCALENDAR