BEGIN:VCALENDAR
VERSION:2.0
PRODID:https://www.kufer.de/kuferweb / DE
METHOD:PUBLISH
CALSCALE:GREGORIAN
X-WR-TIMEZONE:Europe/Berlin
BEGIN:VTIMEZONE
TZID:Europe/Berlin
X-LIC-LOCATION:Europe/Berlin
BEGIN:DAYLIGHT
TZOFFSETFROM:+0100
TZOFFSETTO:+0200
TZNAME:CEST
DTSTART:19700329T020000
RRULE:FREQ=YEARLY;INTERVAL=1;BYDAY=-1SU;BYMONTH=3
END:DAYLIGHT
BEGIN:STANDARD
TZOFFSETFROM:+0200
TZOFFSETTO:+0100
TZNAME:CET
DTSTART:19701025T030000
RRULE:FREQ=YEARLY;INTERVAL=1;BYDAY=-1SU;BYMONTH=10
END:STANDARD
END:VTIMEZONE
BEGIN:VEVENT
DTSTAMP:20260424T190143
DTSTART;TZID=Europe/Berlin:20261002T103500
DTEND;TZID=Europe/Berlin:20261002T113500
UID:26-S23632-20261002T103500@BFODÜREN
SUMMARY:fitdankbaby Mini (3 - 8 Monate) (26-S23632) 
LOCATION:BFO, Raum 3, Holzstraße 50, 52349 Düren
END:VEVENT
BEGIN:VEVENT
DTSTAMP:20260424T190143
DTSTART;TZID=Europe/Berlin:20261009T103500
DTEND;TZID=Europe/Berlin:20261009T113500
UID:26-S23632-20261009T103500@BFODÜREN
SUMMARY:fitdankbaby Mini (3 - 8 Monate) (26-S23632) 
LOCATION:BFO, Raum 3, Holzstraße 50, 52349 Düren
END:VEVENT
BEGIN:VEVENT
DTSTAMP:20260424T190143
DTSTART;TZID=Europe/Berlin:20261016T103500
DTEND;TZID=Europe/Berlin:20261016T113500
UID:26-S23632-20261016T103500@BFODÜREN
SUMMARY:fitdankbaby Mini (3 - 8 Monate) (26-S23632) 
LOCATION:BFO, Raum 3, Holzstraße 50, 52349 Düren
END:VEVENT
BEGIN:VEVENT
DTSTAMP:20260424T190143
DTSTART;TZID=Europe/Berlin:20261030T103500
DTEND;TZID=Europe/Berlin:20261030T113500
UID:26-S23632-20261030T103500@BFODÜREN
SUMMARY:fitdankbaby Mini (3 - 8 Monate) (26-S23632) 
LOCATION:BFO, Raum 3, Holzstraße 50, 52349 Düren
END:VEVENT
BEGIN:VEVENT
DTSTAMP:20260424T190143
DTSTART;TZID=Europe/Berlin:20261106T103500
DTEND;TZID=Europe/Berlin:20261106T113500
UID:26-S23632-20261106T103500@BFODÜREN
SUMMARY:fitdankbaby Mini (3 - 8 Monate) (26-S23632) 
LOCATION:BFO, Raum 3, Holzstraße 50, 52349 Düren
END:VEVENT
BEGIN:VEVENT
DTSTAMP:20260424T190143
DTSTART;TZID=Europe/Berlin:20261113T103500
DTEND;TZID=Europe/Berlin:20261113T113500
UID:26-S23632-20261113T103500@BFODÜREN
SUMMARY:fitdankbaby Mini (3 - 8 Monate) (26-S23632) 
LOCATION:BFO, Raum 3, Holzstraße 50, 52349 Düren
END:VEVENT
BEGIN:VEVENT
DTSTAMP:20260424T190143
DTSTART;TZID=Europe/Berlin:20261120T103500
DTEND;TZID=Europe/Berlin:20261120T113500
UID:26-S23632-20261120T103500@BFODÜREN
SUMMARY:fitdankbaby Mini (3 - 8 Monate) (26-S23632) 
LOCATION:BFO, Raum 3, Holzstraße 50, 52349 Düren
END:VEVENT
BEGIN:VEVENT
DTSTAMP:20260424T190143
DTSTART;TZID=Europe/Berlin:20261127T103500
DTEND;TZID=Europe/Berlin:20261127T113500
UID:26-S23632-20261127T103500@BFODÜREN
SUMMARY:fitdankbaby Mini (3 - 8 Monate) (26-S23632) 
LOCATION:BFO, Raum 3, Holzstraße 50, 52349 Düren
END:VEVENT
END:VCALENDAR