BEGIN:VCALENDAR
VERSION:2.0
PRODID:https://www.kufer.de/kuferweb / DE
METHOD:PUBLISH
CALSCALE:GREGORIAN
X-WR-TIMEZONE:Europe/Berlin
BEGIN:VTIMEZONE
TZID:Europe/Berlin
X-LIC-LOCATION:Europe/Berlin
BEGIN:DAYLIGHT
TZOFFSETFROM:+0100
TZOFFSETTO:+0200
TZNAME:CEST
DTSTART:19700329T020000
RRULE:FREQ=YEARLY;INTERVAL=1;BYDAY=-1SU;BYMONTH=3
END:DAYLIGHT
BEGIN:STANDARD
TZOFFSETFROM:+0200
TZOFFSETTO:+0100
TZNAME:CET
DTSTART:19701025T030000
RRULE:FREQ=YEARLY;INTERVAL=1;BYDAY=-1SU;BYMONTH=10
END:STANDARD
END:VTIMEZONE
BEGIN:VEVENT
DTSTAMP:20260424T201520
DTSTART;TZID=Europe/Berlin:20261002T093000
DTEND;TZID=Europe/Berlin:20261002T103000
UID:26-S23636-20261002T093000@BFODÜREN
SUMMARY:fitdankbaby Maxi (26-S23636) 
LOCATION:BFO, Raum 3, Holzstraße 50, 52349 Düren
END:VEVENT
BEGIN:VEVENT
DTSTAMP:20260424T201520
DTSTART;TZID=Europe/Berlin:20261009T093000
DTEND;TZID=Europe/Berlin:20261009T103000
UID:26-S23636-20261009T093000@BFODÜREN
SUMMARY:fitdankbaby Maxi (26-S23636) 
LOCATION:BFO, Raum 3, Holzstraße 50, 52349 Düren
END:VEVENT
BEGIN:VEVENT
DTSTAMP:20260424T201520
DTSTART;TZID=Europe/Berlin:20261016T093000
DTEND;TZID=Europe/Berlin:20261016T103000
UID:26-S23636-20261016T093000@BFODÜREN
SUMMARY:fitdankbaby Maxi (26-S23636) 
LOCATION:BFO, Raum 3, Holzstraße 50, 52349 Düren
END:VEVENT
BEGIN:VEVENT
DTSTAMP:20260424T201520
DTSTART;TZID=Europe/Berlin:20261030T093000
DTEND;TZID=Europe/Berlin:20261030T103000
UID:26-S23636-20261030T093000@BFODÜREN
SUMMARY:fitdankbaby Maxi (26-S23636) 
LOCATION:BFO, Raum 3, Holzstraße 50, 52349 Düren
END:VEVENT
BEGIN:VEVENT
DTSTAMP:20260424T201520
DTSTART;TZID=Europe/Berlin:20261106T093000
DTEND;TZID=Europe/Berlin:20261106T103000
UID:26-S23636-20261106T093000@BFODÜREN
SUMMARY:fitdankbaby Maxi (26-S23636) 
LOCATION:BFO, Raum 3, Holzstraße 50, 52349 Düren
END:VEVENT
BEGIN:VEVENT
DTSTAMP:20260424T201520
DTSTART;TZID=Europe/Berlin:20261113T093000
DTEND;TZID=Europe/Berlin:20261113T103000
UID:26-S23636-20261113T093000@BFODÜREN
SUMMARY:fitdankbaby Maxi (26-S23636) 
LOCATION:BFO, Raum 3, Holzstraße 50, 52349 Düren
END:VEVENT
BEGIN:VEVENT
DTSTAMP:20260424T201520
DTSTART;TZID=Europe/Berlin:20261120T093000
DTEND;TZID=Europe/Berlin:20261120T103000
UID:26-S23636-20261120T093000@BFODÜREN
SUMMARY:fitdankbaby Maxi (26-S23636) 
LOCATION:BFO, Raum 3, Holzstraße 50, 52349 Düren
END:VEVENT
BEGIN:VEVENT
DTSTAMP:20260424T201520
DTSTART;TZID=Europe/Berlin:20261127T093000
DTEND;TZID=Europe/Berlin:20261127T103000
UID:26-S23636-20261127T093000@BFODÜREN
SUMMARY:fitdankbaby Maxi (26-S23636) 
LOCATION:BFO, Raum 3, Holzstraße 50, 52349 Düren
END:VEVENT
END:VCALENDAR