BEGIN:VCALENDAR
VERSION:2.0
PRODID:https://www.kufer.de/kuferweb / DE
METHOD:PUBLISH
CALSCALE:GREGORIAN
X-WR-TIMEZONE:Europe/Berlin
BEGIN:VTIMEZONE
TZID:Europe/Berlin
X-LIC-LOCATION:Europe/Berlin
BEGIN:DAYLIGHT
TZOFFSETFROM:+0100
TZOFFSETTO:+0200
TZNAME:CEST
DTSTART:19700329T020000
RRULE:FREQ=YEARLY;INTERVAL=1;BYDAY=-1SU;BYMONTH=3
END:DAYLIGHT
BEGIN:STANDARD
TZOFFSETFROM:+0200
TZOFFSETTO:+0100
TZNAME:CET
DTSTART:19701025T030000
RRULE:FREQ=YEARLY;INTERVAL=1;BYDAY=-1SU;BYMONTH=10
END:STANDARD
END:VTIMEZONE
BEGIN:VEVENT
DTSTAMP:20260425T001921
DTSTART;TZID=Europe/Berlin:20260909T161500
DTEND;TZID=Europe/Berlin:20260909T170000
UID:26-S23722-20260909T161500@BFODÜREN
SUMMARY:Wellenstarter - Anfängerschwimmkurs für Kinder ab 3 Jahren (26-S23722) 
LOCATION:Lehrschwimmbecken Derichsweiler, Kreuzherrenstraße 2 - 4, 52355 Düren
END:VEVENT
BEGIN:VEVENT
DTSTAMP:20260425T001921
DTSTART;TZID=Europe/Berlin:20260916T161500
DTEND;TZID=Europe/Berlin:20260916T170000
UID:26-S23722-20260916T161500@BFODÜREN
SUMMARY:Wellenstarter - Anfängerschwimmkurs für Kinder ab 3 Jahren (26-S23722) 
LOCATION:Lehrschwimmbecken Derichsweiler, Kreuzherrenstraße 2 - 4, 52355 Düren
END:VEVENT
BEGIN:VEVENT
DTSTAMP:20260425T001921
DTSTART;TZID=Europe/Berlin:20260923T161500
DTEND;TZID=Europe/Berlin:20260923T170000
UID:26-S23722-20260923T161500@BFODÜREN
SUMMARY:Wellenstarter - Anfängerschwimmkurs für Kinder ab 3 Jahren (26-S23722) 
LOCATION:Lehrschwimmbecken Derichsweiler, Kreuzherrenstraße 2 - 4, 52355 Düren
END:VEVENT
BEGIN:VEVENT
DTSTAMP:20260425T001921
DTSTART;TZID=Europe/Berlin:20260930T161500
DTEND;TZID=Europe/Berlin:20260930T170000
UID:26-S23722-20260930T161500@BFODÜREN
SUMMARY:Wellenstarter - Anfängerschwimmkurs für Kinder ab 3 Jahren (26-S23722) 
LOCATION:Lehrschwimmbecken Derichsweiler, Kreuzherrenstraße 2 - 4, 52355 Düren
END:VEVENT
BEGIN:VEVENT
DTSTAMP:20260425T001921
DTSTART;TZID=Europe/Berlin:20261007T161500
DTEND;TZID=Europe/Berlin:20261007T170000
UID:26-S23722-20261007T161500@BFODÜREN
SUMMARY:Wellenstarter - Anfängerschwimmkurs für Kinder ab 3 Jahren (26-S23722) 
LOCATION:Lehrschwimmbecken Derichsweiler, Kreuzherrenstraße 2 - 4, 52355 Düren
END:VEVENT
BEGIN:VEVENT
DTSTAMP:20260425T001921
DTSTART;TZID=Europe/Berlin:20261014T161500
DTEND;TZID=Europe/Berlin:20261014T170000
UID:26-S23722-20261014T161500@BFODÜREN
SUMMARY:Wellenstarter - Anfängerschwimmkurs für Kinder ab 3 Jahren (26-S23722) 
LOCATION:Lehrschwimmbecken Derichsweiler, Kreuzherrenstraße 2 - 4, 52355 Düren
END:VEVENT
BEGIN:VEVENT
DTSTAMP:20260425T001921
DTSTART;TZID=Europe/Berlin:20261104T161500
DTEND;TZID=Europe/Berlin:20261104T170000
UID:26-S23722-20261104T161500@BFODÜREN
SUMMARY:Wellenstarter - Anfängerschwimmkurs für Kinder ab 3 Jahren (26-S23722) 
LOCATION:Lehrschwimmbecken Derichsweiler, Kreuzherrenstraße 2 - 4, 52355 Düren
END:VEVENT
BEGIN:VEVENT
DTSTAMP:20260425T001921
DTSTART;TZID=Europe/Berlin:20261111T161500
DTEND;TZID=Europe/Berlin:20261111T170000
UID:26-S23722-20261111T161500@BFODÜREN
SUMMARY:Wellenstarter - Anfängerschwimmkurs für Kinder ab 3 Jahren (26-S23722) 
LOCATION:Lehrschwimmbecken Derichsweiler, Kreuzherrenstraße 2 - 4, 52355 Düren
END:VEVENT
BEGIN:VEVENT
DTSTAMP:20260425T001921
DTSTART;TZID=Europe/Berlin:20261118T161500
DTEND;TZID=Europe/Berlin:20261118T170000
UID:26-S23722-20261118T161500@BFODÜREN
SUMMARY:Wellenstarter - Anfängerschwimmkurs für Kinder ab 3 Jahren (26-S23722) 
LOCATION:Lehrschwimmbecken Derichsweiler, Kreuzherrenstraße 2 - 4, 52355 Düren
END:VEVENT
BEGIN:VEVENT
DTSTAMP:20260425T001921
DTSTART;TZID=Europe/Berlin:20261125T161500
DTEND;TZID=Europe/Berlin:20261125T170000
UID:26-S23722-20261125T161500@BFODÜREN
SUMMARY:Wellenstarter - Anfängerschwimmkurs für Kinder ab 3 Jahren (26-S23722) 
LOCATION:Lehrschwimmbecken Derichsweiler, Kreuzherrenstraße 2 - 4, 52355 Düren
END:VEVENT
BEGIN:VEVENT
DTSTAMP:20260425T001921
DTSTART;TZID=Europe/Berlin:20261202T161500
DTEND;TZID=Europe/Berlin:20261202T170000
UID:26-S23722-20261202T161500@BFODÜREN
SUMMARY:Wellenstarter - Anfängerschwimmkurs für Kinder ab 3 Jahren (26-S23722) 
LOCATION:Lehrschwimmbecken Derichsweiler, Kreuzherrenstraße 2 - 4, 52355 Düren
END:VEVENT
BEGIN:VEVENT
DTSTAMP:20260425T001921
DTSTART;TZID=Europe/Berlin:20261209T161500
DTEND;TZID=Europe/Berlin:20261209T170000
UID:26-S23722-20261209T161500@BFODÜREN
SUMMARY:Wellenstarter - Anfängerschwimmkurs für Kinder ab 3 Jahren (26-S23722) 
LOCATION:Lehrschwimmbecken Derichsweiler, Kreuzherrenstraße 2 - 4, 52355 Düren
END:VEVENT
BEGIN:VEVENT
DTSTAMP:20260425T001921
DTSTART;TZID=Europe/Berlin:20261216T161500
DTEND;TZID=Europe/Berlin:20261216T170000
UID:26-S23722-20261216T161500@BFODÜREN
SUMMARY:Wellenstarter - Anfängerschwimmkurs für Kinder ab 3 Jahren (26-S23722) 
LOCATION:Lehrschwimmbecken Derichsweiler, Kreuzherrenstraße 2 - 4, 52355 Düren
END:VEVENT
END:VCALENDAR