BEGIN:VCALENDAR
VERSION:2.0
PRODID:https://www.kufer.de/kuferweb / DE
METHOD:PUBLISH
CALSCALE:GREGORIAN
X-WR-TIMEZONE:Europe/Berlin
BEGIN:VTIMEZONE
TZID:Europe/Berlin
X-LIC-LOCATION:Europe/Berlin
BEGIN:DAYLIGHT
TZOFFSETFROM:+0100
TZOFFSETTO:+0200
TZNAME:CEST
DTSTART:19700329T020000
RRULE:FREQ=YEARLY;INTERVAL=1;BYDAY=-1SU;BYMONTH=3
END:DAYLIGHT
BEGIN:STANDARD
TZOFFSETFROM:+0200
TZOFFSETTO:+0100
TZNAME:CET
DTSTART:19701025T030000
RRULE:FREQ=YEARLY;INTERVAL=1;BYDAY=-1SU;BYMONTH=10
END:STANDARD
END:VTIMEZONE
BEGIN:VEVENT
DTSTAMP:20260424T230647
DTSTART;TZID=Europe/Berlin:20260905T101500
DTEND;TZID=Europe/Berlin:20260905T110000
UID:26-S23822-20260905T101500@BFODÜREN
SUMMARY:Kleine Wellen, großes Lächeln - Wasserspaß für Kleinkinder von 1 bis 2 Jahren mit einer Begleitperson Ein fröhliches Wassererlebnis für kleine Entdecker und ihre erwachsene Begleitperson (26-S23822) 
LOCATION:Kita am Sonnenweg Düren-Rölsdorf, Sonnenweg 52c, 52355 Düren
END:VEVENT
BEGIN:VEVENT
DTSTAMP:20260424T230647
DTSTART;TZID=Europe/Berlin:20260912T101500
DTEND;TZID=Europe/Berlin:20260912T110000
UID:26-S23822-20260912T101500@BFODÜREN
SUMMARY:Kleine Wellen, großes Lächeln - Wasserspaß für Kleinkinder von 1 bis 2 Jahren mit einer Begleitperson Ein fröhliches Wassererlebnis für kleine Entdecker und ihre erwachsene Begleitperson (26-S23822) 
LOCATION:Kita am Sonnenweg Düren-Rölsdorf, Sonnenweg 52c, 52355 Düren
END:VEVENT
BEGIN:VEVENT
DTSTAMP:20260424T230647
DTSTART;TZID=Europe/Berlin:20260919T101500
DTEND;TZID=Europe/Berlin:20260919T110000
UID:26-S23822-20260919T101500@BFODÜREN
SUMMARY:Kleine Wellen, großes Lächeln - Wasserspaß für Kleinkinder von 1 bis 2 Jahren mit einer Begleitperson Ein fröhliches Wassererlebnis für kleine Entdecker und ihre erwachsene Begleitperson (26-S23822) 
LOCATION:Kita am Sonnenweg Düren-Rölsdorf, Sonnenweg 52c, 52355 Düren
END:VEVENT
BEGIN:VEVENT
DTSTAMP:20260424T230647
DTSTART;TZID=Europe/Berlin:20261010T101500
DTEND;TZID=Europe/Berlin:20261010T110000
UID:26-S23822-20261010T101500@BFODÜREN
SUMMARY:Kleine Wellen, großes Lächeln - Wasserspaß für Kleinkinder von 1 bis 2 Jahren mit einer Begleitperson Ein fröhliches Wassererlebnis für kleine Entdecker und ihre erwachsene Begleitperson (26-S23822) 
LOCATION:Kita am Sonnenweg Düren-Rölsdorf, Sonnenweg 52c, 52355 Düren
END:VEVENT
BEGIN:VEVENT
DTSTAMP:20260424T230647
DTSTART;TZID=Europe/Berlin:20261107T101500
DTEND;TZID=Europe/Berlin:20261107T110000
UID:26-S23822-20261107T101500@BFODÜREN
SUMMARY:Kleine Wellen, großes Lächeln - Wasserspaß für Kleinkinder von 1 bis 2 Jahren mit einer Begleitperson Ein fröhliches Wassererlebnis für kleine Entdecker und ihre erwachsene Begleitperson (26-S23822) 
LOCATION:Kita am Sonnenweg Düren-Rölsdorf, Sonnenweg 52c, 52355 Düren
END:VEVENT
BEGIN:VEVENT
DTSTAMP:20260424T230647
DTSTART;TZID=Europe/Berlin:20261114T101500
DTEND;TZID=Europe/Berlin:20261114T110000
UID:26-S23822-20261114T101500@BFODÜREN
SUMMARY:Kleine Wellen, großes Lächeln - Wasserspaß für Kleinkinder von 1 bis 2 Jahren mit einer Begleitperson Ein fröhliches Wassererlebnis für kleine Entdecker und ihre erwachsene Begleitperson (26-S23822) 
LOCATION:Kita am Sonnenweg Düren-Rölsdorf, Sonnenweg 52c, 52355 Düren
END:VEVENT
BEGIN:VEVENT
DTSTAMP:20260424T230647
DTSTART;TZID=Europe/Berlin:20261121T101500
DTEND;TZID=Europe/Berlin:20261121T110000
UID:26-S23822-20261121T101500@BFODÜREN
SUMMARY:Kleine Wellen, großes Lächeln - Wasserspaß für Kleinkinder von 1 bis 2 Jahren mit einer Begleitperson Ein fröhliches Wassererlebnis für kleine Entdecker und ihre erwachsene Begleitperson (26-S23822) 
LOCATION:Kita am Sonnenweg Düren-Rölsdorf, Sonnenweg 52c, 52355 Düren
END:VEVENT
BEGIN:VEVENT
DTSTAMP:20260424T230647
DTSTART;TZID=Europe/Berlin:20261128T101500
DTEND;TZID=Europe/Berlin:20261128T110000
UID:26-S23822-20261128T101500@BFODÜREN
SUMMARY:Kleine Wellen, großes Lächeln - Wasserspaß für Kleinkinder von 1 bis 2 Jahren mit einer Begleitperson Ein fröhliches Wassererlebnis für kleine Entdecker und ihre erwachsene Begleitperson (26-S23822) 
LOCATION:Kita am Sonnenweg Düren-Rölsdorf, Sonnenweg 52c, 52355 Düren
END:VEVENT
BEGIN:VEVENT
DTSTAMP:20260424T230647
DTSTART;TZID=Europe/Berlin:20261205T101500
DTEND;TZID=Europe/Berlin:20261205T110000
UID:26-S23822-20261205T101500@BFODÜREN
SUMMARY:Kleine Wellen, großes Lächeln - Wasserspaß für Kleinkinder von 1 bis 2 Jahren mit einer Begleitperson Ein fröhliches Wassererlebnis für kleine Entdecker und ihre erwachsene Begleitperson (26-S23822) 
LOCATION:Kita am Sonnenweg Düren-Rölsdorf, Sonnenweg 52c, 52355 Düren
END:VEVENT
BEGIN:VEVENT
DTSTAMP:20260424T230647
DTSTART;TZID=Europe/Berlin:20261212T101500
DTEND;TZID=Europe/Berlin:20261212T110000
UID:26-S23822-20261212T101500@BFODÜREN
SUMMARY:Kleine Wellen, großes Lächeln - Wasserspaß für Kleinkinder von 1 bis 2 Jahren mit einer Begleitperson Ein fröhliches Wassererlebnis für kleine Entdecker und ihre erwachsene Begleitperson (26-S23822) 
LOCATION:Kita am Sonnenweg Düren-Rölsdorf, Sonnenweg 52c, 52355 Düren
END:VEVENT
END:VCALENDAR