BEGIN:VCALENDAR
VERSION:2.0
PRODID:https://www.kufer.de/kuferweb / DE
METHOD:PUBLISH
CALSCALE:GREGORIAN
X-WR-TIMEZONE:Europe/Berlin
BEGIN:VTIMEZONE
TZID:Europe/Berlin
X-LIC-LOCATION:Europe/Berlin
BEGIN:DAYLIGHT
TZOFFSETFROM:+0100
TZOFFSETTO:+0200
TZNAME:CEST
DTSTART:19700329T020000
RRULE:FREQ=YEARLY;INTERVAL=1;BYDAY=-1SU;BYMONTH=3
END:DAYLIGHT
BEGIN:STANDARD
TZOFFSETFROM:+0200
TZOFFSETTO:+0100
TZNAME:CET
DTSTART:19701025T030000
RRULE:FREQ=YEARLY;INTERVAL=1;BYDAY=-1SU;BYMONTH=10
END:STANDARD
END:VTIMEZONE
BEGIN:VEVENT
DTSTAMP:20260425T031040
DTSTART;TZID=Europe/Berlin:20260907T150000
DTEND;TZID=Europe/Berlin:20260907T154500
UID:26-S23832-20260907T150000@BFODÜREN
SUMMARY:Wellenstarter - Anfängerschwimmkurs für Kinder ab 3 Jahren (26-S23832) 
LOCATION:Lehrschwimmbecken Derichsweiler, Kreuzherrenstraße 2 - 4, 52355 Düren
END:VEVENT
BEGIN:VEVENT
DTSTAMP:20260425T031040
DTSTART;TZID=Europe/Berlin:20260914T150000
DTEND;TZID=Europe/Berlin:20260914T154500
UID:26-S23832-20260914T150000@BFODÜREN
SUMMARY:Wellenstarter - Anfängerschwimmkurs für Kinder ab 3 Jahren (26-S23832) 
LOCATION:Lehrschwimmbecken Derichsweiler, Kreuzherrenstraße 2 - 4, 52355 Düren
END:VEVENT
BEGIN:VEVENT
DTSTAMP:20260425T031040
DTSTART;TZID=Europe/Berlin:20260921T150000
DTEND;TZID=Europe/Berlin:20260921T154500
UID:26-S23832-20260921T150000@BFODÜREN
SUMMARY:Wellenstarter - Anfängerschwimmkurs für Kinder ab 3 Jahren (26-S23832) 
LOCATION:Lehrschwimmbecken Derichsweiler, Kreuzherrenstraße 2 - 4, 52355 Düren
END:VEVENT
BEGIN:VEVENT
DTSTAMP:20260425T031040
DTSTART;TZID=Europe/Berlin:20260928T150000
DTEND;TZID=Europe/Berlin:20260928T154500
UID:26-S23832-20260928T150000@BFODÜREN
SUMMARY:Wellenstarter - Anfängerschwimmkurs für Kinder ab 3 Jahren (26-S23832) 
LOCATION:Lehrschwimmbecken Derichsweiler, Kreuzherrenstraße 2 - 4, 52355 Düren
END:VEVENT
BEGIN:VEVENT
DTSTAMP:20260425T031040
DTSTART;TZID=Europe/Berlin:20261005T150000
DTEND;TZID=Europe/Berlin:20261005T154500
UID:26-S23832-20261005T150000@BFODÜREN
SUMMARY:Wellenstarter - Anfängerschwimmkurs für Kinder ab 3 Jahren (26-S23832) 
LOCATION:Lehrschwimmbecken Derichsweiler, Kreuzherrenstraße 2 - 4, 52355 Düren
END:VEVENT
BEGIN:VEVENT
DTSTAMP:20260425T031040
DTSTART;TZID=Europe/Berlin:20261012T150000
DTEND;TZID=Europe/Berlin:20261012T154500
UID:26-S23832-20261012T150000@BFODÜREN
SUMMARY:Wellenstarter - Anfängerschwimmkurs für Kinder ab 3 Jahren (26-S23832) 
LOCATION:Lehrschwimmbecken Derichsweiler, Kreuzherrenstraße 2 - 4, 52355 Düren
END:VEVENT
BEGIN:VEVENT
DTSTAMP:20260425T031040
DTSTART;TZID=Europe/Berlin:20261102T150000
DTEND;TZID=Europe/Berlin:20261102T154500
UID:26-S23832-20261102T150000@BFODÜREN
SUMMARY:Wellenstarter - Anfängerschwimmkurs für Kinder ab 3 Jahren (26-S23832) 
LOCATION:Lehrschwimmbecken Derichsweiler, Kreuzherrenstraße 2 - 4, 52355 Düren
END:VEVENT
BEGIN:VEVENT
DTSTAMP:20260425T031040
DTSTART;TZID=Europe/Berlin:20261109T150000
DTEND;TZID=Europe/Berlin:20261109T154500
UID:26-S23832-20261109T150000@BFODÜREN
SUMMARY:Wellenstarter - Anfängerschwimmkurs für Kinder ab 3 Jahren (26-S23832) 
LOCATION:Lehrschwimmbecken Derichsweiler, Kreuzherrenstraße 2 - 4, 52355 Düren
END:VEVENT
BEGIN:VEVENT
DTSTAMP:20260425T031040
DTSTART;TZID=Europe/Berlin:20261116T150000
DTEND;TZID=Europe/Berlin:20261116T154500
UID:26-S23832-20261116T150000@BFODÜREN
SUMMARY:Wellenstarter - Anfängerschwimmkurs für Kinder ab 3 Jahren (26-S23832) 
LOCATION:Lehrschwimmbecken Derichsweiler, Kreuzherrenstraße 2 - 4, 52355 Düren
END:VEVENT
BEGIN:VEVENT
DTSTAMP:20260425T031040
DTSTART;TZID=Europe/Berlin:20261123T150000
DTEND;TZID=Europe/Berlin:20261123T154500
UID:26-S23832-20261123T150000@BFODÜREN
SUMMARY:Wellenstarter - Anfängerschwimmkurs für Kinder ab 3 Jahren (26-S23832) 
LOCATION:Lehrschwimmbecken Derichsweiler, Kreuzherrenstraße 2 - 4, 52355 Düren
END:VEVENT
BEGIN:VEVENT
DTSTAMP:20260425T031040
DTSTART;TZID=Europe/Berlin:20261130T150000
DTEND;TZID=Europe/Berlin:20261130T154500
UID:26-S23832-20261130T150000@BFODÜREN
SUMMARY:Wellenstarter - Anfängerschwimmkurs für Kinder ab 3 Jahren (26-S23832) 
LOCATION:Lehrschwimmbecken Derichsweiler, Kreuzherrenstraße 2 - 4, 52355 Düren
END:VEVENT
BEGIN:VEVENT
DTSTAMP:20260425T031040
DTSTART;TZID=Europe/Berlin:20261207T150000
DTEND;TZID=Europe/Berlin:20261207T154500
UID:26-S23832-20261207T150000@BFODÜREN
SUMMARY:Wellenstarter - Anfängerschwimmkurs für Kinder ab 3 Jahren (26-S23832) 
LOCATION:Lehrschwimmbecken Derichsweiler, Kreuzherrenstraße 2 - 4, 52355 Düren
END:VEVENT
BEGIN:VEVENT
DTSTAMP:20260425T031040
DTSTART;TZID=Europe/Berlin:20261214T150000
DTEND;TZID=Europe/Berlin:20261214T154500
UID:26-S23832-20261214T150000@BFODÜREN
SUMMARY:Wellenstarter - Anfängerschwimmkurs für Kinder ab 3 Jahren (26-S23832) 
LOCATION:Lehrschwimmbecken Derichsweiler, Kreuzherrenstraße 2 - 4, 52355 Düren
END:VEVENT
END:VCALENDAR