BEGIN:VCALENDAR
VERSION:2.0
PRODID:https://www.kufer.de/kuferweb / DE
METHOD:PUBLISH
CALSCALE:GREGORIAN
X-WR-TIMEZONE:Europe/Berlin
BEGIN:VTIMEZONE
TZID:Europe/Berlin
X-LIC-LOCATION:Europe/Berlin
BEGIN:DAYLIGHT
TZOFFSETFROM:+0100
TZOFFSETTO:+0200
TZNAME:CEST
DTSTART:19700329T020000
RRULE:FREQ=YEARLY;INTERVAL=1;BYDAY=-1SU;BYMONTH=3
END:DAYLIGHT
BEGIN:STANDARD
TZOFFSETFROM:+0200
TZOFFSETTO:+0100
TZNAME:CET
DTSTART:19701025T030000
RRULE:FREQ=YEARLY;INTERVAL=1;BYDAY=-1SU;BYMONTH=10
END:STANDARD
END:VTIMEZONE
BEGIN:VEVENT
DTSTAMP:20260425T013855
DTSTART;TZID=Europe/Berlin:20260907T171500
DTEND;TZID=Europe/Berlin:20260907T180000
UID:26-S23852-20260907T171500@BFODÜREN
SUMMARY:Wellenhelden – Schwimmkurs für Kinder ab 5 Jahren (26-S23852) 
LOCATION:Lehrschwimmbecken Derichsweiler, Kreuzherrenstraße 2 - 4, 52355 Düren
END:VEVENT
BEGIN:VEVENT
DTSTAMP:20260425T013855
DTSTART;TZID=Europe/Berlin:20260914T171500
DTEND;TZID=Europe/Berlin:20260914T180000
UID:26-S23852-20260914T171500@BFODÜREN
SUMMARY:Wellenhelden – Schwimmkurs für Kinder ab 5 Jahren (26-S23852) 
LOCATION:Lehrschwimmbecken Derichsweiler, Kreuzherrenstraße 2 - 4, 52355 Düren
END:VEVENT
BEGIN:VEVENT
DTSTAMP:20260425T013855
DTSTART;TZID=Europe/Berlin:20260921T171500
DTEND;TZID=Europe/Berlin:20260921T180000
UID:26-S23852-20260921T171500@BFODÜREN
SUMMARY:Wellenhelden – Schwimmkurs für Kinder ab 5 Jahren (26-S23852) 
LOCATION:Lehrschwimmbecken Derichsweiler, Kreuzherrenstraße 2 - 4, 52355 Düren
END:VEVENT
BEGIN:VEVENT
DTSTAMP:20260425T013855
DTSTART;TZID=Europe/Berlin:20260928T171500
DTEND;TZID=Europe/Berlin:20260928T180000
UID:26-S23852-20260928T171500@BFODÜREN
SUMMARY:Wellenhelden – Schwimmkurs für Kinder ab 5 Jahren (26-S23852) 
LOCATION:Lehrschwimmbecken Derichsweiler, Kreuzherrenstraße 2 - 4, 52355 Düren
END:VEVENT
BEGIN:VEVENT
DTSTAMP:20260425T013855
DTSTART;TZID=Europe/Berlin:20261005T171500
DTEND;TZID=Europe/Berlin:20261005T180000
UID:26-S23852-20261005T171500@BFODÜREN
SUMMARY:Wellenhelden – Schwimmkurs für Kinder ab 5 Jahren (26-S23852) 
LOCATION:Lehrschwimmbecken Derichsweiler, Kreuzherrenstraße 2 - 4, 52355 Düren
END:VEVENT
BEGIN:VEVENT
DTSTAMP:20260425T013855
DTSTART;TZID=Europe/Berlin:20261012T171500
DTEND;TZID=Europe/Berlin:20261012T180000
UID:26-S23852-20261012T171500@BFODÜREN
SUMMARY:Wellenhelden – Schwimmkurs für Kinder ab 5 Jahren (26-S23852) 
LOCATION:Lehrschwimmbecken Derichsweiler, Kreuzherrenstraße 2 - 4, 52355 Düren
END:VEVENT
BEGIN:VEVENT
DTSTAMP:20260425T013855
DTSTART;TZID=Europe/Berlin:20261102T171500
DTEND;TZID=Europe/Berlin:20261102T180000
UID:26-S23852-20261102T171500@BFODÜREN
SUMMARY:Wellenhelden – Schwimmkurs für Kinder ab 5 Jahren (26-S23852) 
LOCATION:Lehrschwimmbecken Derichsweiler, Kreuzherrenstraße 2 - 4, 52355 Düren
END:VEVENT
BEGIN:VEVENT
DTSTAMP:20260425T013855
DTSTART;TZID=Europe/Berlin:20261109T171500
DTEND;TZID=Europe/Berlin:20261109T180000
UID:26-S23852-20261109T171500@BFODÜREN
SUMMARY:Wellenhelden – Schwimmkurs für Kinder ab 5 Jahren (26-S23852) 
LOCATION:Lehrschwimmbecken Derichsweiler, Kreuzherrenstraße 2 - 4, 52355 Düren
END:VEVENT
BEGIN:VEVENT
DTSTAMP:20260425T013855
DTSTART;TZID=Europe/Berlin:20261116T171500
DTEND;TZID=Europe/Berlin:20261116T180000
UID:26-S23852-20261116T171500@BFODÜREN
SUMMARY:Wellenhelden – Schwimmkurs für Kinder ab 5 Jahren (26-S23852) 
LOCATION:Lehrschwimmbecken Derichsweiler, Kreuzherrenstraße 2 - 4, 52355 Düren
END:VEVENT
BEGIN:VEVENT
DTSTAMP:20260425T013855
DTSTART;TZID=Europe/Berlin:20261123T171500
DTEND;TZID=Europe/Berlin:20261123T180000
UID:26-S23852-20261123T171500@BFODÜREN
SUMMARY:Wellenhelden – Schwimmkurs für Kinder ab 5 Jahren (26-S23852) 
LOCATION:Lehrschwimmbecken Derichsweiler, Kreuzherrenstraße 2 - 4, 52355 Düren
END:VEVENT
BEGIN:VEVENT
DTSTAMP:20260425T013855
DTSTART;TZID=Europe/Berlin:20261130T171500
DTEND;TZID=Europe/Berlin:20261130T180000
UID:26-S23852-20261130T171500@BFODÜREN
SUMMARY:Wellenhelden – Schwimmkurs für Kinder ab 5 Jahren (26-S23852) 
LOCATION:Lehrschwimmbecken Derichsweiler, Kreuzherrenstraße 2 - 4, 52355 Düren
END:VEVENT
BEGIN:VEVENT
DTSTAMP:20260425T013855
DTSTART;TZID=Europe/Berlin:20261207T171500
DTEND;TZID=Europe/Berlin:20261207T180000
UID:26-S23852-20261207T171500@BFODÜREN
SUMMARY:Wellenhelden – Schwimmkurs für Kinder ab 5 Jahren (26-S23852) 
LOCATION:Lehrschwimmbecken Derichsweiler, Kreuzherrenstraße 2 - 4, 52355 Düren
END:VEVENT
BEGIN:VEVENT
DTSTAMP:20260425T013855
DTSTART;TZID=Europe/Berlin:20261214T171500
DTEND;TZID=Europe/Berlin:20261214T180000
UID:26-S23852-20261214T171500@BFODÜREN
SUMMARY:Wellenhelden – Schwimmkurs für Kinder ab 5 Jahren (26-S23852) 
LOCATION:Lehrschwimmbecken Derichsweiler, Kreuzherrenstraße 2 - 4, 52355 Düren
END:VEVENT
END:VCALENDAR