BEGIN:VCALENDAR
VERSION:2.0
PRODID:https://www.kufer.de/kuferweb / DE
METHOD:PUBLISH
CALSCALE:GREGORIAN
X-WR-TIMEZONE:Europe/Berlin
BEGIN:VTIMEZONE
TZID:Europe/Berlin
X-LIC-LOCATION:Europe/Berlin
BEGIN:DAYLIGHT
TZOFFSETFROM:+0100
TZOFFSETTO:+0200
TZNAME:CEST
DTSTART:19700329T020000
RRULE:FREQ=YEARLY;INTERVAL=1;BYDAY=-1SU;BYMONTH=3
END:DAYLIGHT
BEGIN:STANDARD
TZOFFSETFROM:+0200
TZOFFSETTO:+0100
TZNAME:CET
DTSTART:19701025T030000
RRULE:FREQ=YEARLY;INTERVAL=1;BYDAY=-1SU;BYMONTH=10
END:STANDARD
END:VTIMEZONE
BEGIN:VEVENT
DTSTAMP:20260424T190213
DTSTART;TZID=Europe/Berlin:20261124T173000
DTEND;TZID=Europe/Berlin:20261124T183000
UID:26-S23946-20261124T173000@BFODÜREN
SUMMARY:fitdankbaby - Für Dich (26-S23946) 
LOCATION:Parkplatz FC Niederau, Franz-Josef Keimes Sportpark, Franz-Josef Keimes Sportpark, 52355 Düren
END:VEVENT
BEGIN:VEVENT
DTSTAMP:20260424T190213
DTSTART;TZID=Europe/Berlin:20261201T173000
DTEND;TZID=Europe/Berlin:20261201T183000
UID:26-S23946-20261201T173000@BFODÜREN
SUMMARY:fitdankbaby - Für Dich (26-S23946) 
LOCATION:Parkplatz FC Niederau, Franz-Josef Keimes Sportpark, Franz-Josef Keimes Sportpark, 52355 Düren
END:VEVENT
BEGIN:VEVENT
DTSTAMP:20260424T190213
DTSTART;TZID=Europe/Berlin:20261208T173000
DTEND;TZID=Europe/Berlin:20261208T183000
UID:26-S23946-20261208T173000@BFODÜREN
SUMMARY:fitdankbaby - Für Dich (26-S23946) 
LOCATION:Parkplatz FC Niederau, Franz-Josef Keimes Sportpark, Franz-Josef Keimes Sportpark, 52355 Düren
END:VEVENT
BEGIN:VEVENT
DTSTAMP:20260424T190213
DTSTART;TZID=Europe/Berlin:20261215T173000
DTEND;TZID=Europe/Berlin:20261215T183000
UID:26-S23946-20261215T173000@BFODÜREN
SUMMARY:fitdankbaby - Für Dich (26-S23946) 
LOCATION:Parkplatz FC Niederau, Franz-Josef Keimes Sportpark, Franz-Josef Keimes Sportpark, 52355 Düren
END:VEVENT
BEGIN:VEVENT
DTSTAMP:20260424T190213
DTSTART;TZID=Europe/Berlin:20261222T173000
DTEND;TZID=Europe/Berlin:20261222T183000
UID:26-S23946-20261222T173000@BFODÜREN
SUMMARY:fitdankbaby - Für Dich (26-S23946) 
LOCATION:Parkplatz FC Niederau, Franz-Josef Keimes Sportpark, Franz-Josef Keimes Sportpark, 52355 Düren
END:VEVENT
BEGIN:VEVENT
DTSTAMP:20260424T190213
DTSTART;TZID=Europe/Berlin:20270112T173000
DTEND;TZID=Europe/Berlin:20270112T183000
UID:26-S23946-20270112T173000@BFODÜREN
SUMMARY:fitdankbaby - Für Dich (26-S23946) 
LOCATION:Parkplatz FC Niederau, Franz-Josef Keimes Sportpark, Franz-Josef Keimes Sportpark, 52355 Düren
END:VEVENT
BEGIN:VEVENT
DTSTAMP:20260424T190213
DTSTART;TZID=Europe/Berlin:20270119T173000
DTEND;TZID=Europe/Berlin:20270119T183000
UID:26-S23946-20270119T173000@BFODÜREN
SUMMARY:fitdankbaby - Für Dich (26-S23946) 
LOCATION:Parkplatz FC Niederau, Franz-Josef Keimes Sportpark, Franz-Josef Keimes Sportpark, 52355 Düren
END:VEVENT
BEGIN:VEVENT
DTSTAMP:20260424T190213
DTSTART;TZID=Europe/Berlin:20270126T173000
DTEND;TZID=Europe/Berlin:20270126T183000
UID:26-S23946-20270126T173000@BFODÜREN
SUMMARY:fitdankbaby - Für Dich (26-S23946) 
LOCATION:Parkplatz FC Niederau, Franz-Josef Keimes Sportpark, Franz-Josef Keimes Sportpark, 52355 Düren
END:VEVENT
END:VCALENDAR