BEGIN:VCALENDAR
VERSION:2.0
PRODID:https://www.kufer.de/kuferweb / DE
METHOD:PUBLISH
CALSCALE:GREGORIAN
X-WR-TIMEZONE:Europe/Berlin
BEGIN:VTIMEZONE
TZID:Europe/Berlin
X-LIC-LOCATION:Europe/Berlin
BEGIN:DAYLIGHT
TZOFFSETFROM:+0100
TZOFFSETTO:+0200
TZNAME:CEST
DTSTART:19700329T020000
RRULE:FREQ=YEARLY;INTERVAL=1;BYDAY=-1SU;BYMONTH=3
END:DAYLIGHT
BEGIN:STANDARD
TZOFFSETFROM:+0200
TZOFFSETTO:+0100
TZNAME:CET
DTSTART:19701025T030000
RRULE:FREQ=YEARLY;INTERVAL=1;BYDAY=-1SU;BYMONTH=10
END:STANDARD
END:VTIMEZONE
BEGIN:VEVENT
DTSTAMP:20260424T190223
DTSTART;TZID=Europe/Berlin:20261214T083000
DTEND;TZID=Europe/Berlin:20261214T093000
UID:26-S23986-20261214T083000@BFODÜREN
SUMMARY:fitdankbaby Maxi (26-S23986) 
LOCATION:BFO, Raum 5, Holzstraße 50, 52349 Düren
END:VEVENT
BEGIN:VEVENT
DTSTAMP:20260424T190223
DTSTART;TZID=Europe/Berlin:20261221T083000
DTEND;TZID=Europe/Berlin:20261221T093000
UID:26-S23986-20261221T083000@BFODÜREN
SUMMARY:fitdankbaby Maxi (26-S23986) 
LOCATION:BFO, Raum 5, Holzstraße 50, 52349 Düren
END:VEVENT
BEGIN:VEVENT
DTSTAMP:20260424T190223
DTSTART;TZID=Europe/Berlin:20270111T083000
DTEND;TZID=Europe/Berlin:20270111T093000
UID:26-S23986-20270111T083000@BFODÜREN
SUMMARY:fitdankbaby Maxi (26-S23986) 
LOCATION:BFO, Raum 5, Holzstraße 50, 52349 Düren
END:VEVENT
BEGIN:VEVENT
DTSTAMP:20260424T190223
DTSTART;TZID=Europe/Berlin:20270118T083000
DTEND;TZID=Europe/Berlin:20270118T093000
UID:26-S23986-20270118T083000@BFODÜREN
SUMMARY:fitdankbaby Maxi (26-S23986) 
LOCATION:BFO, Raum 5, Holzstraße 50, 52349 Düren
END:VEVENT
BEGIN:VEVENT
DTSTAMP:20260424T190223
DTSTART;TZID=Europe/Berlin:20270125T083000
DTEND;TZID=Europe/Berlin:20270125T093000
UID:26-S23986-20270125T083000@BFODÜREN
SUMMARY:fitdankbaby Maxi (26-S23986) 
LOCATION:BFO, Raum 5, Holzstraße 50, 52349 Düren
END:VEVENT
BEGIN:VEVENT
DTSTAMP:20260424T190223
DTSTART;TZID=Europe/Berlin:20270201T083000
DTEND;TZID=Europe/Berlin:20270201T093000
UID:26-S23986-20270201T083000@BFODÜREN
SUMMARY:fitdankbaby Maxi (26-S23986) 
LOCATION:BFO, Raum 5, Holzstraße 50, 52349 Düren
END:VEVENT
BEGIN:VEVENT
DTSTAMP:20260424T190223
DTSTART;TZID=Europe/Berlin:20270215T083000
DTEND;TZID=Europe/Berlin:20270215T093000
UID:26-S23986-20270215T083000@BFODÜREN
SUMMARY:fitdankbaby Maxi (26-S23986) 
LOCATION:BFO, Raum 5, Holzstraße 50, 52349 Düren
END:VEVENT
BEGIN:VEVENT
DTSTAMP:20260424T190223
DTSTART;TZID=Europe/Berlin:20270222T083000
DTEND;TZID=Europe/Berlin:20270222T093000
UID:26-S23986-20270222T083000@BFODÜREN
SUMMARY:fitdankbaby Maxi (26-S23986) 
LOCATION:BFO, Raum 5, Holzstraße 50, 52349 Düren
END:VEVENT
END:VCALENDAR