BEGIN:VCALENDAR
VERSION:2.0
PRODID:https://www.kufer.de/kuferweb / DE
METHOD:PUBLISH
CALSCALE:GREGORIAN
X-WR-TIMEZONE:Europe/Berlin
BEGIN:VTIMEZONE
TZID:Europe/Berlin
X-LIC-LOCATION:Europe/Berlin
BEGIN:DAYLIGHT
TZOFFSETFROM:+0100
TZOFFSETTO:+0200
TZNAME:CEST
DTSTART:19700329T020000
RRULE:FREQ=YEARLY;INTERVAL=1;BYDAY=-1SU;BYMONTH=3
END:DAYLIGHT
BEGIN:STANDARD
TZOFFSETFROM:+0200
TZOFFSETTO:+0100
TZNAME:CET
DTSTART:19701025T030000
RRULE:FREQ=YEARLY;INTERVAL=1;BYDAY=-1SU;BYMONTH=10
END:STANDARD
END:VTIMEZONE
BEGIN:VEVENT
DTSTAMP:20260424T190211
DTSTART;TZID=Europe/Berlin:20260817T093500
DTEND;TZID=Europe/Berlin:20260817T103500
UID:26-S23992-20260817T093500@BFODÜREN
SUMMARY:fitdankbaby Maxi (26-S23992) 
LOCATION:BFO, Raum 5, Holzstraße 50, 52349 Düren
END:VEVENT
BEGIN:VEVENT
DTSTAMP:20260424T190211
DTSTART;TZID=Europe/Berlin:20260824T093500
DTEND;TZID=Europe/Berlin:20260824T103500
UID:26-S23992-20260824T093500@BFODÜREN
SUMMARY:fitdankbaby Maxi (26-S23992) 
LOCATION:BFO, Raum 5, Holzstraße 50, 52349 Düren
END:VEVENT
BEGIN:VEVENT
DTSTAMP:20260424T190211
DTSTART;TZID=Europe/Berlin:20260831T093500
DTEND;TZID=Europe/Berlin:20260831T103500
UID:26-S23992-20260831T093500@BFODÜREN
SUMMARY:fitdankbaby Maxi (26-S23992) 
LOCATION:BFO, Raum 5, Holzstraße 50, 52349 Düren
END:VEVENT
BEGIN:VEVENT
DTSTAMP:20260424T190211
DTSTART;TZID=Europe/Berlin:20260907T093500
DTEND;TZID=Europe/Berlin:20260907T103500
UID:26-S23992-20260907T093500@BFODÜREN
SUMMARY:fitdankbaby Maxi (26-S23992) 
LOCATION:BFO, Raum 5, Holzstraße 50, 52349 Düren
END:VEVENT
BEGIN:VEVENT
DTSTAMP:20260424T190211
DTSTART;TZID=Europe/Berlin:20260914T093500
DTEND;TZID=Europe/Berlin:20260914T103500
UID:26-S23992-20260914T093500@BFODÜREN
SUMMARY:fitdankbaby Maxi (26-S23992) 
LOCATION:BFO, Raum 5, Holzstraße 50, 52349 Düren
END:VEVENT
BEGIN:VEVENT
DTSTAMP:20260424T190211
DTSTART;TZID=Europe/Berlin:20260921T093500
DTEND;TZID=Europe/Berlin:20260921T103500
UID:26-S23992-20260921T093500@BFODÜREN
SUMMARY:fitdankbaby Maxi (26-S23992) 
LOCATION:BFO, Raum 5, Holzstraße 50, 52349 Düren
END:VEVENT
BEGIN:VEVENT
DTSTAMP:20260424T190211
DTSTART;TZID=Europe/Berlin:20260928T093500
DTEND;TZID=Europe/Berlin:20260928T103500
UID:26-S23992-20260928T093500@BFODÜREN
SUMMARY:fitdankbaby Maxi (26-S23992) 
LOCATION:BFO, Raum 5, Holzstraße 50, 52349 Düren
END:VEVENT
BEGIN:VEVENT
DTSTAMP:20260424T190211
DTSTART;TZID=Europe/Berlin:20261005T093500
DTEND;TZID=Europe/Berlin:20261005T103500
UID:26-S23992-20261005T093500@BFODÜREN
SUMMARY:fitdankbaby Maxi (26-S23992) 
LOCATION:BFO, Raum 5, Holzstraße 50, 52349 Düren
END:VEVENT
END:VCALENDAR