BEGIN:VCALENDAR
VERSION:2.0
PRODID:https://www.kufer.de/kuferweb / DE
METHOD:PUBLISH
CALSCALE:GREGORIAN
X-WR-TIMEZONE:Europe/Berlin
BEGIN:VTIMEZONE
TZID:Europe/Berlin
X-LIC-LOCATION:Europe/Berlin
BEGIN:DAYLIGHT
TZOFFSETFROM:+0100
TZOFFSETTO:+0200
TZNAME:CEST
DTSTART:19700329T020000
RRULE:FREQ=YEARLY;INTERVAL=1;BYDAY=-1SU;BYMONTH=3
END:DAYLIGHT
BEGIN:STANDARD
TZOFFSETFROM:+0200
TZOFFSETTO:+0100
TZNAME:CET
DTSTART:19701025T030000
RRULE:FREQ=YEARLY;INTERVAL=1;BYDAY=-1SU;BYMONTH=10
END:STANDARD
END:VTIMEZONE
BEGIN:VEVENT
DTSTAMP:20260425T030959
DTSTART;TZID=Europe/Berlin:20260916T090000
DTEND;TZID=Europe/Berlin:20260916T103000
UID:26-S50122-20260916T090000@BFODÜREN
SUMMARY:Fit in den Tag; Gymnastik für den ganzen Körper (26-S50122) 
LOCATION:BFO, Raum 5, Holzstraße 50, 52349 Düren
END:VEVENT
BEGIN:VEVENT
DTSTAMP:20260425T030959
DTSTART;TZID=Europe/Berlin:20260923T090000
DTEND;TZID=Europe/Berlin:20260923T103000
UID:26-S50122-20260923T090000@BFODÜREN
SUMMARY:Fit in den Tag; Gymnastik für den ganzen Körper (26-S50122) 
LOCATION:BFO, Raum 5, Holzstraße 50, 52349 Düren
END:VEVENT
BEGIN:VEVENT
DTSTAMP:20260425T030959
DTSTART;TZID=Europe/Berlin:20260930T090000
DTEND;TZID=Europe/Berlin:20260930T103000
UID:26-S50122-20260930T090000@BFODÜREN
SUMMARY:Fit in den Tag; Gymnastik für den ganzen Körper (26-S50122) 
LOCATION:BFO, Raum 5, Holzstraße 50, 52349 Düren
END:VEVENT
BEGIN:VEVENT
DTSTAMP:20260425T030959
DTSTART;TZID=Europe/Berlin:20261007T090000
DTEND;TZID=Europe/Berlin:20261007T103000
UID:26-S50122-20261007T090000@BFODÜREN
SUMMARY:Fit in den Tag; Gymnastik für den ganzen Körper (26-S50122) 
LOCATION:BFO, Raum 5, Holzstraße 50, 52349 Düren
END:VEVENT
BEGIN:VEVENT
DTSTAMP:20260425T030959
DTSTART;TZID=Europe/Berlin:20261014T090000
DTEND;TZID=Europe/Berlin:20261014T103000
UID:26-S50122-20261014T090000@BFODÜREN
SUMMARY:Fit in den Tag; Gymnastik für den ganzen Körper (26-S50122) 
LOCATION:BFO, Raum 5, Holzstraße 50, 52349 Düren
END:VEVENT
BEGIN:VEVENT
DTSTAMP:20260425T030959
DTSTART;TZID=Europe/Berlin:20261104T090000
DTEND;TZID=Europe/Berlin:20261104T103000
UID:26-S50122-20261104T090000@BFODÜREN
SUMMARY:Fit in den Tag; Gymnastik für den ganzen Körper (26-S50122) 
LOCATION:BFO, Raum 5, Holzstraße 50, 52349 Düren
END:VEVENT
BEGIN:VEVENT
DTSTAMP:20260425T030959
DTSTART;TZID=Europe/Berlin:20261111T090000
DTEND;TZID=Europe/Berlin:20261111T103000
UID:26-S50122-20261111T090000@BFODÜREN
SUMMARY:Fit in den Tag; Gymnastik für den ganzen Körper (26-S50122) 
LOCATION:BFO, Raum 5, Holzstraße 50, 52349 Düren
END:VEVENT
BEGIN:VEVENT
DTSTAMP:20260425T030959
DTSTART;TZID=Europe/Berlin:20261118T090000
DTEND;TZID=Europe/Berlin:20261118T103000
UID:26-S50122-20261118T090000@BFODÜREN
SUMMARY:Fit in den Tag; Gymnastik für den ganzen Körper (26-S50122) 
LOCATION:BFO, Raum 5, Holzstraße 50, 52349 Düren
END:VEVENT
BEGIN:VEVENT
DTSTAMP:20260425T030959
DTSTART;TZID=Europe/Berlin:20261125T090000
DTEND;TZID=Europe/Berlin:20261125T103000
UID:26-S50122-20261125T090000@BFODÜREN
SUMMARY:Fit in den Tag; Gymnastik für den ganzen Körper (26-S50122) 
LOCATION:BFO, Raum 5, Holzstraße 50, 52349 Düren
END:VEVENT
BEGIN:VEVENT
DTSTAMP:20260425T030959
DTSTART;TZID=Europe/Berlin:20261202T090000
DTEND;TZID=Europe/Berlin:20261202T103000
UID:26-S50122-20261202T090000@BFODÜREN
SUMMARY:Fit in den Tag; Gymnastik für den ganzen Körper (26-S50122) 
LOCATION:BFO, Raum 5, Holzstraße 50, 52349 Düren
END:VEVENT
BEGIN:VEVENT
DTSTAMP:20260425T030959
DTSTART;TZID=Europe/Berlin:20261209T090000
DTEND;TZID=Europe/Berlin:20261209T103000
UID:26-S50122-20261209T090000@BFODÜREN
SUMMARY:Fit in den Tag; Gymnastik für den ganzen Körper (26-S50122) 
LOCATION:BFO, Raum 5, Holzstraße 50, 52349 Düren
END:VEVENT
END:VCALENDAR