BEGIN:VCALENDAR
VERSION:2.0
PRODID:https://www.kufer.de/kuferweb / DE
METHOD:PUBLISH
CALSCALE:GREGORIAN
X-WR-TIMEZONE:Europe/Berlin
BEGIN:VTIMEZONE
TZID:Europe/Berlin
X-LIC-LOCATION:Europe/Berlin
BEGIN:DAYLIGHT
TZOFFSETFROM:+0100
TZOFFSETTO:+0200
TZNAME:CEST
DTSTART:19700329T020000
RRULE:FREQ=YEARLY;INTERVAL=1;BYDAY=-1SU;BYMONTH=3
END:DAYLIGHT
BEGIN:STANDARD
TZOFFSETFROM:+0200
TZOFFSETTO:+0100
TZNAME:CET
DTSTART:19701025T030000
RRULE:FREQ=YEARLY;INTERVAL=1;BYDAY=-1SU;BYMONTH=10
END:STANDARD
END:VTIMEZONE
BEGIN:VEVENT
DTSTAMP:20260425T043910
DTSTART;TZID=Europe/Berlin:20260908T180000
DTEND;TZID=Europe/Berlin:20260908T190000
UID:26-S50162-20260908T180000@BFODÜREN
SUMMARY:Rückenfit für Fortgeschrittene; Frauen und Männer (26-S50162) 
LOCATION:BFO, Raum 3, Holzstraße 50, 52349 Düren
END:VEVENT
BEGIN:VEVENT
DTSTAMP:20260425T043910
DTSTART;TZID=Europe/Berlin:20260915T180000
DTEND;TZID=Europe/Berlin:20260915T190000
UID:26-S50162-20260915T180000@BFODÜREN
SUMMARY:Rückenfit für Fortgeschrittene; Frauen und Männer (26-S50162) 
LOCATION:BFO, Raum 3, Holzstraße 50, 52349 Düren
END:VEVENT
BEGIN:VEVENT
DTSTAMP:20260425T043910
DTSTART;TZID=Europe/Berlin:20260922T180000
DTEND;TZID=Europe/Berlin:20260922T190000
UID:26-S50162-20260922T180000@BFODÜREN
SUMMARY:Rückenfit für Fortgeschrittene; Frauen und Männer (26-S50162) 
LOCATION:BFO, Raum 3, Holzstraße 50, 52349 Düren
END:VEVENT
BEGIN:VEVENT
DTSTAMP:20260425T043910
DTSTART;TZID=Europe/Berlin:20260929T180000
DTEND;TZID=Europe/Berlin:20260929T190000
UID:26-S50162-20260929T180000@BFODÜREN
SUMMARY:Rückenfit für Fortgeschrittene; Frauen und Männer (26-S50162) 
LOCATION:BFO, Raum 3, Holzstraße 50, 52349 Düren
END:VEVENT
BEGIN:VEVENT
DTSTAMP:20260425T043910
DTSTART;TZID=Europe/Berlin:20261006T180000
DTEND;TZID=Europe/Berlin:20261006T190000
UID:26-S50162-20261006T180000@BFODÜREN
SUMMARY:Rückenfit für Fortgeschrittene; Frauen und Männer (26-S50162) 
LOCATION:BFO, Raum 3, Holzstraße 50, 52349 Düren
END:VEVENT
BEGIN:VEVENT
DTSTAMP:20260425T043910
DTSTART;TZID=Europe/Berlin:20261013T180000
DTEND;TZID=Europe/Berlin:20261013T190000
UID:26-S50162-20261013T180000@BFODÜREN
SUMMARY:Rückenfit für Fortgeschrittene; Frauen und Männer (26-S50162) 
LOCATION:BFO, Raum 3, Holzstraße 50, 52349 Düren
END:VEVENT
BEGIN:VEVENT
DTSTAMP:20260425T043910
DTSTART;TZID=Europe/Berlin:20261103T180000
DTEND;TZID=Europe/Berlin:20261103T190000
UID:26-S50162-20261103T180000@BFODÜREN
SUMMARY:Rückenfit für Fortgeschrittene; Frauen und Männer (26-S50162) 
LOCATION:BFO, Raum 3, Holzstraße 50, 52349 Düren
END:VEVENT
BEGIN:VEVENT
DTSTAMP:20260425T043910
DTSTART;TZID=Europe/Berlin:20261110T180000
DTEND;TZID=Europe/Berlin:20261110T190000
UID:26-S50162-20261110T180000@BFODÜREN
SUMMARY:Rückenfit für Fortgeschrittene; Frauen und Männer (26-S50162) 
LOCATION:BFO, Raum 3, Holzstraße 50, 52349 Düren
END:VEVENT
BEGIN:VEVENT
DTSTAMP:20260425T043910
DTSTART;TZID=Europe/Berlin:20261117T180000
DTEND;TZID=Europe/Berlin:20261117T190000
UID:26-S50162-20261117T180000@BFODÜREN
SUMMARY:Rückenfit für Fortgeschrittene; Frauen und Männer (26-S50162) 
LOCATION:BFO, Raum 3, Holzstraße 50, 52349 Düren
END:VEVENT
BEGIN:VEVENT
DTSTAMP:20260425T043910
DTSTART;TZID=Europe/Berlin:20261124T180000
DTEND;TZID=Europe/Berlin:20261124T190000
UID:26-S50162-20261124T180000@BFODÜREN
SUMMARY:Rückenfit für Fortgeschrittene; Frauen und Männer (26-S50162) 
LOCATION:BFO, Raum 3, Holzstraße 50, 52349 Düren
END:VEVENT
BEGIN:VEVENT
DTSTAMP:20260425T043910
DTSTART;TZID=Europe/Berlin:20261201T180000
DTEND;TZID=Europe/Berlin:20261201T190000
UID:26-S50162-20261201T180000@BFODÜREN
SUMMARY:Rückenfit für Fortgeschrittene; Frauen und Männer (26-S50162) 
LOCATION:BFO, Raum 3, Holzstraße 50, 52349 Düren
END:VEVENT
BEGIN:VEVENT
DTSTAMP:20260425T043910
DTSTART;TZID=Europe/Berlin:20261208T180000
DTEND;TZID=Europe/Berlin:20261208T190000
UID:26-S50162-20261208T180000@BFODÜREN
SUMMARY:Rückenfit für Fortgeschrittene; Frauen und Männer (26-S50162) 
LOCATION:BFO, Raum 3, Holzstraße 50, 52349 Düren
END:VEVENT
END:VCALENDAR