BEGIN:VCALENDAR
VERSION:2.0
PRODID:https://www.kufer.de/kuferweb / DE
METHOD:PUBLISH
CALSCALE:GREGORIAN
X-WR-TIMEZONE:Europe/Berlin
BEGIN:VTIMEZONE
TZID:Europe/Berlin
X-LIC-LOCATION:Europe/Berlin
BEGIN:DAYLIGHT
TZOFFSETFROM:+0100
TZOFFSETTO:+0200
TZNAME:CEST
DTSTART:19700329T020000
RRULE:FREQ=YEARLY;INTERVAL=1;BYDAY=-1SU;BYMONTH=3
END:DAYLIGHT
BEGIN:STANDARD
TZOFFSETFROM:+0200
TZOFFSETTO:+0100
TZNAME:CET
DTSTART:19701025T030000
RRULE:FREQ=YEARLY;INTERVAL=1;BYDAY=-1SU;BYMONTH=10
END:STANDARD
END:VTIMEZONE
BEGIN:VEVENT
DTSTAMP:20260424T163844
DTSTART;TZID=Europe/Berlin:20260115T083000
DTEND;TZID=Europe/Berlin:20260115T093000
UID:26-S50491-20260115T083000@BFODÜREN
SUMMARY:Aquafitness für Damen und Herren (26-S50491) 
LOCATION:Freizeitbad Monte Mare Kreuzau, Windener Weg 7, 52372 Kreuzau
END:VEVENT
BEGIN:VEVENT
DTSTAMP:20260424T163844
DTSTART;TZID=Europe/Berlin:20260122T083000
DTEND;TZID=Europe/Berlin:20260122T093000
UID:26-S50491-20260122T083000@BFODÜREN
SUMMARY:Aquafitness für Damen und Herren (26-S50491) 
LOCATION:Freizeitbad Monte Mare Kreuzau, Windener Weg 7, 52372 Kreuzau
END:VEVENT
BEGIN:VEVENT
DTSTAMP:20260424T163844
DTSTART;TZID=Europe/Berlin:20260129T083000
DTEND;TZID=Europe/Berlin:20260129T093000
UID:26-S50491-20260129T083000@BFODÜREN
SUMMARY:Aquafitness für Damen und Herren (26-S50491) 
LOCATION:Freizeitbad Monte Mare Kreuzau, Windener Weg 7, 52372 Kreuzau
END:VEVENT
BEGIN:VEVENT
DTSTAMP:20260424T163844
DTSTART;TZID=Europe/Berlin:20260205T083000
DTEND;TZID=Europe/Berlin:20260205T093000
UID:26-S50491-20260205T083000@BFODÜREN
SUMMARY:Aquafitness für Damen und Herren (26-S50491) 
LOCATION:Freizeitbad Monte Mare Kreuzau, Windener Weg 7, 52372 Kreuzau
END:VEVENT
BEGIN:VEVENT
DTSTAMP:20260424T163844
DTSTART;TZID=Europe/Berlin:20260219T083000
DTEND;TZID=Europe/Berlin:20260219T093000
UID:26-S50491-20260219T083000@BFODÜREN
SUMMARY:Aquafitness für Damen und Herren (26-S50491) 
LOCATION:Freizeitbad Monte Mare Kreuzau, Windener Weg 7, 52372 Kreuzau
END:VEVENT
BEGIN:VEVENT
DTSTAMP:20260424T163844
DTSTART;TZID=Europe/Berlin:20260226T083000
DTEND;TZID=Europe/Berlin:20260226T093000
UID:26-S50491-20260226T083000@BFODÜREN
SUMMARY:Aquafitness für Damen und Herren (26-S50491) 
LOCATION:Freizeitbad Monte Mare Kreuzau, Windener Weg 7, 52372 Kreuzau
END:VEVENT
BEGIN:VEVENT
DTSTAMP:20260424T163844
DTSTART;TZID=Europe/Berlin:20260305T083000
DTEND;TZID=Europe/Berlin:20260305T093000
UID:26-S50491-20260305T083000@BFODÜREN
SUMMARY:Aquafitness für Damen und Herren (26-S50491) 
LOCATION:Freizeitbad Monte Mare Kreuzau, Windener Weg 7, 52372 Kreuzau
END:VEVENT
BEGIN:VEVENT
DTSTAMP:20260424T163844
DTSTART;TZID=Europe/Berlin:20260312T083000
DTEND;TZID=Europe/Berlin:20260312T093000
UID:26-S50491-20260312T083000@BFODÜREN
SUMMARY:Aquafitness für Damen und Herren (26-S50491) 
LOCATION:Freizeitbad Monte Mare Kreuzau, Windener Weg 7, 52372 Kreuzau
END:VEVENT
BEGIN:VEVENT
DTSTAMP:20260424T163844
DTSTART;TZID=Europe/Berlin:20260319T083000
DTEND;TZID=Europe/Berlin:20260319T093000
UID:26-S50491-20260319T083000@BFODÜREN
SUMMARY:Aquafitness für Damen und Herren (26-S50491) 
LOCATION:Freizeitbad Monte Mare Kreuzau, Windener Weg 7, 52372 Kreuzau
END:VEVENT
BEGIN:VEVENT
DTSTAMP:20260424T163844
DTSTART;TZID=Europe/Berlin:20260326T083000
DTEND;TZID=Europe/Berlin:20260326T093000
UID:26-S50491-20260326T083000@BFODÜREN
SUMMARY:Aquafitness für Damen und Herren (26-S50491) 
LOCATION:Freizeitbad Monte Mare Kreuzau, Windener Weg 7, 52372 Kreuzau
END:VEVENT
BEGIN:VEVENT
DTSTAMP:20260424T163844
DTSTART;TZID=Europe/Berlin:20260416T083000
DTEND;TZID=Europe/Berlin:20260416T093000
UID:26-S50491-20260416T083000@BFODÜREN
SUMMARY:Aquafitness für Damen und Herren (26-S50491) 
LOCATION:Freizeitbad Monte Mare Kreuzau, Windener Weg 7, 52372 Kreuzau
END:VEVENT
BEGIN:VEVENT
DTSTAMP:20260424T163844
DTSTART;TZID=Europe/Berlin:20260423T083000
DTEND;TZID=Europe/Berlin:20260423T093000
UID:26-S50491-20260423T083000@BFODÜREN
SUMMARY:Aquafitness für Damen und Herren (26-S50491) 
LOCATION:Freizeitbad Monte Mare Kreuzau, Windener Weg 7, 52372 Kreuzau
END:VEVENT
BEGIN:VEVENT
DTSTAMP:20260424T163844
DTSTART;TZID=Europe/Berlin:20260430T083000
DTEND;TZID=Europe/Berlin:20260430T093000
UID:26-S50491-20260430T083000@BFODÜREN
SUMMARY:Aquafitness für Damen und Herren (26-S50491) 
LOCATION:Freizeitbad Monte Mare Kreuzau, Windener Weg 7, 52372 Kreuzau
END:VEVENT
BEGIN:VEVENT
DTSTAMP:20260424T163844
DTSTART;TZID=Europe/Berlin:20260507T083000
DTEND;TZID=Europe/Berlin:20260507T093000
UID:26-S50491-20260507T083000@BFODÜREN
SUMMARY:Aquafitness für Damen und Herren (26-S50491) 
LOCATION:Freizeitbad Monte Mare Kreuzau, Windener Weg 7, 52372 Kreuzau
END:VEVENT
BEGIN:VEVENT
DTSTAMP:20260424T163844
DTSTART;TZID=Europe/Berlin:20260521T083000
DTEND;TZID=Europe/Berlin:20260521T093000
UID:26-S50491-20260521T083000@BFODÜREN
SUMMARY:Aquafitness für Damen und Herren (26-S50491) 
LOCATION:Freizeitbad Monte Mare Kreuzau, Windener Weg 7, 52372 Kreuzau
END:VEVENT
BEGIN:VEVENT
DTSTAMP:20260424T163844
DTSTART;TZID=Europe/Berlin:20260528T083000
DTEND;TZID=Europe/Berlin:20260528T093000
UID:26-S50491-20260528T083000@BFODÜREN
SUMMARY:Aquafitness für Damen und Herren (26-S50491) 
LOCATION:Freizeitbad Monte Mare Kreuzau, Windener Weg 7, 52372 Kreuzau
END:VEVENT
BEGIN:VEVENT
DTSTAMP:20260424T163844
DTSTART;TZID=Europe/Berlin:20260611T083000
DTEND;TZID=Europe/Berlin:20260611T093000
UID:26-S50491-20260611T083000@BFODÜREN
SUMMARY:Aquafitness für Damen und Herren (26-S50491) 
LOCATION:Freizeitbad Monte Mare Kreuzau, Windener Weg 7, 52372 Kreuzau
END:VEVENT
BEGIN:VEVENT
DTSTAMP:20260424T163844
DTSTART;TZID=Europe/Berlin:20260618T083000
DTEND;TZID=Europe/Berlin:20260618T093000
UID:26-S50491-20260618T083000@BFODÜREN
SUMMARY:Aquafitness für Damen und Herren (26-S50491) 
LOCATION:Freizeitbad Monte Mare Kreuzau, Windener Weg 7, 52372 Kreuzau
END:VEVENT
BEGIN:VEVENT
DTSTAMP:20260424T163844
DTSTART;TZID=Europe/Berlin:20260625T083000
DTEND;TZID=Europe/Berlin:20260625T093000
UID:26-S50491-20260625T083000@BFODÜREN
SUMMARY:Aquafitness für Damen und Herren (26-S50491) 
LOCATION:Freizeitbad Monte Mare Kreuzau, Windener Weg 7, 52372 Kreuzau
END:VEVENT
BEGIN:VEVENT
DTSTAMP:20260424T163844
DTSTART;TZID=Europe/Berlin:20260702T083000
DTEND;TZID=Europe/Berlin:20260702T093000
UID:26-S50491-20260702T083000@BFODÜREN
SUMMARY:Aquafitness für Damen und Herren (26-S50491) 
LOCATION:Freizeitbad Monte Mare Kreuzau, Windener Weg 7, 52372 Kreuzau
END:VEVENT
BEGIN:VEVENT
DTSTAMP:20260424T163844
DTSTART;TZID=Europe/Berlin:20260709T083000
DTEND;TZID=Europe/Berlin:20260709T093000
UID:26-S50491-20260709T083000@BFODÜREN
SUMMARY:Aquafitness für Damen und Herren (26-S50491) 
LOCATION:Freizeitbad Monte Mare Kreuzau, Windener Weg 7, 52372 Kreuzau
END:VEVENT
END:VCALENDAR