BEGIN:VCALENDAR
VERSION:2.0
PRODID:https://www.kufer.de/kuferweb / DE
METHOD:PUBLISH
CALSCALE:GREGORIAN
X-WR-TIMEZONE:Europe/Berlin
BEGIN:VTIMEZONE
TZID:Europe/Berlin
X-LIC-LOCATION:Europe/Berlin
BEGIN:DAYLIGHT
TZOFFSETFROM:+0100
TZOFFSETTO:+0200
TZNAME:CEST
DTSTART:19700329T020000
RRULE:FREQ=YEARLY;INTERVAL=1;BYDAY=-1SU;BYMONTH=3
END:DAYLIGHT
BEGIN:STANDARD
TZOFFSETFROM:+0200
TZOFFSETTO:+0100
TZNAME:CET
DTSTART:19701025T030000
RRULE:FREQ=YEARLY;INTERVAL=1;BYDAY=-1SU;BYMONTH=10
END:STANDARD
END:VTIMEZONE
BEGIN:VEVENT
DTSTAMP:20260424T145130
DTSTART;TZID=Europe/Berlin:20260116T091500
DTEND;TZID=Europe/Berlin:20260116T100000
UID:26-S50501-20260116T091500@BFODÜREN
SUMMARY:Aquafitness; Wassergymnastik für Damen (26-S50501) 
LOCATION:Freizeitbad Monte Mare Kreuzau, Windener Weg 7, 52372 Kreuzau
END:VEVENT
BEGIN:VEVENT
DTSTAMP:20260424T145130
DTSTART;TZID=Europe/Berlin:20260123T091500
DTEND;TZID=Europe/Berlin:20260123T100000
UID:26-S50501-20260123T091500@BFODÜREN
SUMMARY:Aquafitness; Wassergymnastik für Damen (26-S50501) 
LOCATION:Freizeitbad Monte Mare Kreuzau, Windener Weg 7, 52372 Kreuzau
END:VEVENT
BEGIN:VEVENT
DTSTAMP:20260424T145130
DTSTART;TZID=Europe/Berlin:20260130T091500
DTEND;TZID=Europe/Berlin:20260130T100000
UID:26-S50501-20260130T091500@BFODÜREN
SUMMARY:Aquafitness; Wassergymnastik für Damen (26-S50501) 
LOCATION:Freizeitbad Monte Mare Kreuzau, Windener Weg 7, 52372 Kreuzau
END:VEVENT
BEGIN:VEVENT
DTSTAMP:20260424T145130
DTSTART;TZID=Europe/Berlin:20260206T091500
DTEND;TZID=Europe/Berlin:20260206T100000
UID:26-S50501-20260206T091500@BFODÜREN
SUMMARY:Aquafitness; Wassergymnastik für Damen (26-S50501) 
LOCATION:Freizeitbad Monte Mare Kreuzau, Windener Weg 7, 52372 Kreuzau
END:VEVENT
BEGIN:VEVENT
DTSTAMP:20260424T145130
DTSTART;TZID=Europe/Berlin:20260220T091500
DTEND;TZID=Europe/Berlin:20260220T100000
UID:26-S50501-20260220T091500@BFODÜREN
SUMMARY:Aquafitness; Wassergymnastik für Damen (26-S50501) 
LOCATION:Freizeitbad Monte Mare Kreuzau, Windener Weg 7, 52372 Kreuzau
END:VEVENT
BEGIN:VEVENT
DTSTAMP:20260424T145130
DTSTART;TZID=Europe/Berlin:20260227T091500
DTEND;TZID=Europe/Berlin:20260227T100000
UID:26-S50501-20260227T091500@BFODÜREN
SUMMARY:Aquafitness; Wassergymnastik für Damen (26-S50501) 
LOCATION:Freizeitbad Monte Mare Kreuzau, Windener Weg 7, 52372 Kreuzau
END:VEVENT
BEGIN:VEVENT
DTSTAMP:20260424T145130
DTSTART;TZID=Europe/Berlin:20260306T091500
DTEND;TZID=Europe/Berlin:20260306T100000
UID:26-S50501-20260306T091500@BFODÜREN
SUMMARY:Aquafitness; Wassergymnastik für Damen (26-S50501) 
LOCATION:Freizeitbad Monte Mare Kreuzau, Windener Weg 7, 52372 Kreuzau
END:VEVENT
BEGIN:VEVENT
DTSTAMP:20260424T145130
DTSTART;TZID=Europe/Berlin:20260313T091500
DTEND;TZID=Europe/Berlin:20260313T100000
UID:26-S50501-20260313T091500@BFODÜREN
SUMMARY:Aquafitness; Wassergymnastik für Damen (26-S50501) 
LOCATION:Freizeitbad Monte Mare Kreuzau, Windener Weg 7, 52372 Kreuzau
END:VEVENT
BEGIN:VEVENT
DTSTAMP:20260424T145130
DTSTART;TZID=Europe/Berlin:20260320T091500
DTEND;TZID=Europe/Berlin:20260320T100000
UID:26-S50501-20260320T091500@BFODÜREN
SUMMARY:Aquafitness; Wassergymnastik für Damen (26-S50501) 
LOCATION:Freizeitbad Monte Mare Kreuzau, Windener Weg 7, 52372 Kreuzau
END:VEVENT
BEGIN:VEVENT
DTSTAMP:20260424T145130
DTSTART;TZID=Europe/Berlin:20260327T091500
DTEND;TZID=Europe/Berlin:20260327T100000
UID:26-S50501-20260327T091500@BFODÜREN
SUMMARY:Aquafitness; Wassergymnastik für Damen (26-S50501) 
LOCATION:Freizeitbad Monte Mare Kreuzau, Windener Weg 7, 52372 Kreuzau
END:VEVENT
BEGIN:VEVENT
DTSTAMP:20260424T145130
DTSTART;TZID=Europe/Berlin:20260417T091500
DTEND;TZID=Europe/Berlin:20260417T100000
UID:26-S50501-20260417T091500@BFODÜREN
SUMMARY:Aquafitness; Wassergymnastik für Damen (26-S50501) 
LOCATION:Freizeitbad Monte Mare Kreuzau, Windener Weg 7, 52372 Kreuzau
END:VEVENT
BEGIN:VEVENT
DTSTAMP:20260424T145130
DTSTART;TZID=Europe/Berlin:20260424T091500
DTEND;TZID=Europe/Berlin:20260424T100000
UID:26-S50501-20260424T091500@BFODÜREN
SUMMARY:Aquafitness; Wassergymnastik für Damen (26-S50501) 
LOCATION:Freizeitbad Monte Mare Kreuzau, Windener Weg 7, 52372 Kreuzau
END:VEVENT
BEGIN:VEVENT
DTSTAMP:20260424T145130
DTSTART;TZID=Europe/Berlin:20260508T091500
DTEND;TZID=Europe/Berlin:20260508T100000
UID:26-S50501-20260508T091500@BFODÜREN
SUMMARY:Aquafitness; Wassergymnastik für Damen (26-S50501) 
LOCATION:Freizeitbad Monte Mare Kreuzau, Windener Weg 7, 52372 Kreuzau
END:VEVENT
BEGIN:VEVENT
DTSTAMP:20260424T145130
DTSTART;TZID=Europe/Berlin:20260522T091500
DTEND;TZID=Europe/Berlin:20260522T100000
UID:26-S50501-20260522T091500@BFODÜREN
SUMMARY:Aquafitness; Wassergymnastik für Damen (26-S50501) 
LOCATION:Freizeitbad Monte Mare Kreuzau, Windener Weg 7, 52372 Kreuzau
END:VEVENT
BEGIN:VEVENT
DTSTAMP:20260424T145130
DTSTART;TZID=Europe/Berlin:20260529T091500
DTEND;TZID=Europe/Berlin:20260529T100000
UID:26-S50501-20260529T091500@BFODÜREN
SUMMARY:Aquafitness; Wassergymnastik für Damen (26-S50501) 
LOCATION:Freizeitbad Monte Mare Kreuzau, Windener Weg 7, 52372 Kreuzau
END:VEVENT
BEGIN:VEVENT
DTSTAMP:20260424T145130
DTSTART;TZID=Europe/Berlin:20260612T091500
DTEND;TZID=Europe/Berlin:20260612T100000
UID:26-S50501-20260612T091500@BFODÜREN
SUMMARY:Aquafitness; Wassergymnastik für Damen (26-S50501) 
LOCATION:Freizeitbad Monte Mare Kreuzau, Windener Weg 7, 52372 Kreuzau
END:VEVENT
BEGIN:VEVENT
DTSTAMP:20260424T145130
DTSTART;TZID=Europe/Berlin:20260619T091500
DTEND;TZID=Europe/Berlin:20260619T100000
UID:26-S50501-20260619T091500@BFODÜREN
SUMMARY:Aquafitness; Wassergymnastik für Damen (26-S50501) 
LOCATION:Freizeitbad Monte Mare Kreuzau, Windener Weg 7, 52372 Kreuzau
END:VEVENT
BEGIN:VEVENT
DTSTAMP:20260424T145130
DTSTART;TZID=Europe/Berlin:20260626T091500
DTEND;TZID=Europe/Berlin:20260626T100000
UID:26-S50501-20260626T091500@BFODÜREN
SUMMARY:Aquafitness; Wassergymnastik für Damen (26-S50501) 
LOCATION:Freizeitbad Monte Mare Kreuzau, Windener Weg 7, 52372 Kreuzau
END:VEVENT
BEGIN:VEVENT
DTSTAMP:20260424T145130
DTSTART;TZID=Europe/Berlin:20260703T091500
DTEND;TZID=Europe/Berlin:20260703T100000
UID:26-S50501-20260703T091500@BFODÜREN
SUMMARY:Aquafitness; Wassergymnastik für Damen (26-S50501) 
LOCATION:Freizeitbad Monte Mare Kreuzau, Windener Weg 7, 52372 Kreuzau
END:VEVENT
BEGIN:VEVENT
DTSTAMP:20260424T145130
DTSTART;TZID=Europe/Berlin:20260710T091500
DTEND;TZID=Europe/Berlin:20260710T100000
UID:26-S50501-20260710T091500@BFODÜREN
SUMMARY:Aquafitness; Wassergymnastik für Damen (26-S50501) 
LOCATION:Freizeitbad Monte Mare Kreuzau, Windener Weg 7, 52372 Kreuzau
END:VEVENT
END:VCALENDAR