BEGIN:VCALENDAR
VERSION:2.0
PRODID:https://www.kufer.de/kuferweb / DE
METHOD:PUBLISH
CALSCALE:GREGORIAN
X-WR-TIMEZONE:Europe/Berlin
BEGIN:VTIMEZONE
TZID:Europe/Berlin
X-LIC-LOCATION:Europe/Berlin
BEGIN:DAYLIGHT
TZOFFSETFROM:+0100
TZOFFSETTO:+0200
TZNAME:CEST
DTSTART:19700329T020000
RRULE:FREQ=YEARLY;INTERVAL=1;BYDAY=-1SU;BYMONTH=3
END:DAYLIGHT
BEGIN:STANDARD
TZOFFSETFROM:+0200
TZOFFSETTO:+0100
TZNAME:CET
DTSTART:19701025T030000
RRULE:FREQ=YEARLY;INTERVAL=1;BYDAY=-1SU;BYMONTH=10
END:STANDARD
END:VTIMEZONE
BEGIN:VEVENT
DTSTAMP:20260424T161957
DTSTART;TZID=Europe/Berlin:20260911T100000
DTEND;TZID=Europe/Berlin:20260911T104500
UID:26-S50512-20260911T100000@BFODÜREN
SUMMARY:Aquafitness für Damen (26-S50512) 
LOCATION:Freizeitbad Monte Mare Kreuzau, Windener Weg 7, 52372 Kreuzau
END:VEVENT
BEGIN:VEVENT
DTSTAMP:20260424T161957
DTSTART;TZID=Europe/Berlin:20260918T100000
DTEND;TZID=Europe/Berlin:20260918T104500
UID:26-S50512-20260918T100000@BFODÜREN
SUMMARY:Aquafitness für Damen (26-S50512) 
LOCATION:Freizeitbad Monte Mare Kreuzau, Windener Weg 7, 52372 Kreuzau
END:VEVENT
BEGIN:VEVENT
DTSTAMP:20260424T161957
DTSTART;TZID=Europe/Berlin:20260925T100000
DTEND;TZID=Europe/Berlin:20260925T104500
UID:26-S50512-20260925T100000@BFODÜREN
SUMMARY:Aquafitness für Damen (26-S50512) 
LOCATION:Freizeitbad Monte Mare Kreuzau, Windener Weg 7, 52372 Kreuzau
END:VEVENT
BEGIN:VEVENT
DTSTAMP:20260424T161957
DTSTART;TZID=Europe/Berlin:20261002T100000
DTEND;TZID=Europe/Berlin:20261002T104500
UID:26-S50512-20261002T100000@BFODÜREN
SUMMARY:Aquafitness für Damen (26-S50512) 
LOCATION:Freizeitbad Monte Mare Kreuzau, Windener Weg 7, 52372 Kreuzau
END:VEVENT
BEGIN:VEVENT
DTSTAMP:20260424T161957
DTSTART;TZID=Europe/Berlin:20261009T100000
DTEND;TZID=Europe/Berlin:20261009T104500
UID:26-S50512-20261009T100000@BFODÜREN
SUMMARY:Aquafitness für Damen (26-S50512) 
LOCATION:Freizeitbad Monte Mare Kreuzau, Windener Weg 7, 52372 Kreuzau
END:VEVENT
BEGIN:VEVENT
DTSTAMP:20260424T161957
DTSTART;TZID=Europe/Berlin:20261016T100000
DTEND;TZID=Europe/Berlin:20261016T104500
UID:26-S50512-20261016T100000@BFODÜREN
SUMMARY:Aquafitness für Damen (26-S50512) 
LOCATION:Freizeitbad Monte Mare Kreuzau, Windener Weg 7, 52372 Kreuzau
END:VEVENT
BEGIN:VEVENT
DTSTAMP:20260424T161957
DTSTART;TZID=Europe/Berlin:20261106T100000
DTEND;TZID=Europe/Berlin:20261106T104500
UID:26-S50512-20261106T100000@BFODÜREN
SUMMARY:Aquafitness für Damen (26-S50512) 
LOCATION:Freizeitbad Monte Mare Kreuzau, Windener Weg 7, 52372 Kreuzau
END:VEVENT
BEGIN:VEVENT
DTSTAMP:20260424T161957
DTSTART;TZID=Europe/Berlin:20261113T100000
DTEND;TZID=Europe/Berlin:20261113T104500
UID:26-S50512-20261113T100000@BFODÜREN
SUMMARY:Aquafitness für Damen (26-S50512) 
LOCATION:Freizeitbad Monte Mare Kreuzau, Windener Weg 7, 52372 Kreuzau
END:VEVENT
BEGIN:VEVENT
DTSTAMP:20260424T161957
DTSTART;TZID=Europe/Berlin:20261120T100000
DTEND;TZID=Europe/Berlin:20261120T104500
UID:26-S50512-20261120T100000@BFODÜREN
SUMMARY:Aquafitness für Damen (26-S50512) 
LOCATION:Freizeitbad Monte Mare Kreuzau, Windener Weg 7, 52372 Kreuzau
END:VEVENT
BEGIN:VEVENT
DTSTAMP:20260424T161957
DTSTART;TZID=Europe/Berlin:20261127T100000
DTEND;TZID=Europe/Berlin:20261127T104500
UID:26-S50512-20261127T100000@BFODÜREN
SUMMARY:Aquafitness für Damen (26-S50512) 
LOCATION:Freizeitbad Monte Mare Kreuzau, Windener Weg 7, 52372 Kreuzau
END:VEVENT
BEGIN:VEVENT
DTSTAMP:20260424T161957
DTSTART;TZID=Europe/Berlin:20261204T100000
DTEND;TZID=Europe/Berlin:20261204T104500
UID:26-S50512-20261204T100000@BFODÜREN
SUMMARY:Aquafitness für Damen (26-S50512) 
LOCATION:Freizeitbad Monte Mare Kreuzau, Windener Weg 7, 52372 Kreuzau
END:VEVENT
BEGIN:VEVENT
DTSTAMP:20260424T161957
DTSTART;TZID=Europe/Berlin:20261211T100000
DTEND;TZID=Europe/Berlin:20261211T104500
UID:26-S50512-20261211T100000@BFODÜREN
SUMMARY:Aquafitness für Damen (26-S50512) 
LOCATION:Freizeitbad Monte Mare Kreuzau, Windener Weg 7, 52372 Kreuzau
END:VEVENT
BEGIN:VEVENT
DTSTAMP:20260424T161957
DTSTART;TZID=Europe/Berlin:20261218T100000
DTEND;TZID=Europe/Berlin:20261218T104500
UID:26-S50512-20261218T100000@BFODÜREN
SUMMARY:Aquafitness für Damen (26-S50512) 
LOCATION:Freizeitbad Monte Mare Kreuzau, Windener Weg 7, 52372 Kreuzau
END:VEVENT
END:VCALENDAR