BEGIN:VCALENDAR
VERSION:2.0
PRODID:https://www.kufer.de/kuferweb / DE
METHOD:PUBLISH
CALSCALE:GREGORIAN
X-WR-TIMEZONE:Europe/Berlin
BEGIN:VTIMEZONE
TZID:Europe/Berlin
X-LIC-LOCATION:Europe/Berlin
BEGIN:DAYLIGHT
TZOFFSETFROM:+0100
TZOFFSETTO:+0200
TZNAME:CEST
DTSTART:19700329T020000
RRULE:FREQ=YEARLY;INTERVAL=1;BYDAY=-1SU;BYMONTH=3
END:DAYLIGHT
BEGIN:STANDARD
TZOFFSETFROM:+0200
TZOFFSETTO:+0100
TZNAME:CET
DTSTART:19701025T030000
RRULE:FREQ=YEARLY;INTERVAL=1;BYDAY=-1SU;BYMONTH=10
END:STANDARD
END:VTIMEZONE
BEGIN:VEVENT
DTSTAMP:20260425T013854
DTSTART;TZID=Europe/Berlin:20260909T160000
DTEND;TZID=Europe/Berlin:20260909T164500
UID:26-S50532-20260909T160000@BFODÜREN
SUMMARY:Aqua - Fitness 50+ Präventsorientierte Wassergymnastik (26-S50532) 
LOCATION:Rurbad Düren, Nippesstraße, Düren
END:VEVENT
BEGIN:VEVENT
DTSTAMP:20260425T013854
DTSTART;TZID=Europe/Berlin:20260916T160000
DTEND;TZID=Europe/Berlin:20260916T164500
UID:26-S50532-20260916T160000@BFODÜREN
SUMMARY:Aqua - Fitness 50+ Präventsorientierte Wassergymnastik (26-S50532) 
LOCATION:Rurbad Düren, Nippesstraße, Düren
END:VEVENT
BEGIN:VEVENT
DTSTAMP:20260425T013854
DTSTART;TZID=Europe/Berlin:20260923T160000
DTEND;TZID=Europe/Berlin:20260923T164500
UID:26-S50532-20260923T160000@BFODÜREN
SUMMARY:Aqua - Fitness 50+ Präventsorientierte Wassergymnastik (26-S50532) 
LOCATION:Rurbad Düren, Nippesstraße, Düren
END:VEVENT
BEGIN:VEVENT
DTSTAMP:20260425T013854
DTSTART;TZID=Europe/Berlin:20260930T160000
DTEND;TZID=Europe/Berlin:20260930T164500
UID:26-S50532-20260930T160000@BFODÜREN
SUMMARY:Aqua - Fitness 50+ Präventsorientierte Wassergymnastik (26-S50532) 
LOCATION:Rurbad Düren, Nippesstraße, Düren
END:VEVENT
BEGIN:VEVENT
DTSTAMP:20260425T013854
DTSTART;TZID=Europe/Berlin:20261007T160000
DTEND;TZID=Europe/Berlin:20261007T164500
UID:26-S50532-20261007T160000@BFODÜREN
SUMMARY:Aqua - Fitness 50+ Präventsorientierte Wassergymnastik (26-S50532) 
LOCATION:Rurbad Düren, Nippesstraße, Düren
END:VEVENT
BEGIN:VEVENT
DTSTAMP:20260425T013854
DTSTART;TZID=Europe/Berlin:20261104T160000
DTEND;TZID=Europe/Berlin:20261104T164500
UID:26-S50532-20261104T160000@BFODÜREN
SUMMARY:Aqua - Fitness 50+ Präventsorientierte Wassergymnastik (26-S50532) 
LOCATION:Rurbad Düren, Nippesstraße, Düren
END:VEVENT
BEGIN:VEVENT
DTSTAMP:20260425T013854
DTSTART;TZID=Europe/Berlin:20261111T160000
DTEND;TZID=Europe/Berlin:20261111T164500
UID:26-S50532-20261111T160000@BFODÜREN
SUMMARY:Aqua - Fitness 50+ Präventsorientierte Wassergymnastik (26-S50532) 
LOCATION:Rurbad Düren, Nippesstraße, Düren
END:VEVENT
BEGIN:VEVENT
DTSTAMP:20260425T013854
DTSTART;TZID=Europe/Berlin:20261118T160000
DTEND;TZID=Europe/Berlin:20261118T164500
UID:26-S50532-20261118T160000@BFODÜREN
SUMMARY:Aqua - Fitness 50+ Präventsorientierte Wassergymnastik (26-S50532) 
LOCATION:Rurbad Düren, Nippesstraße, Düren
END:VEVENT
BEGIN:VEVENT
DTSTAMP:20260425T013854
DTSTART;TZID=Europe/Berlin:20261125T160000
DTEND;TZID=Europe/Berlin:20261125T164500
UID:26-S50532-20261125T160000@BFODÜREN
SUMMARY:Aqua - Fitness 50+ Präventsorientierte Wassergymnastik (26-S50532) 
LOCATION:Rurbad Düren, Nippesstraße, Düren
END:VEVENT
BEGIN:VEVENT
DTSTAMP:20260425T013854
DTSTART;TZID=Europe/Berlin:20261202T160000
DTEND;TZID=Europe/Berlin:20261202T164500
UID:26-S50532-20261202T160000@BFODÜREN
SUMMARY:Aqua - Fitness 50+ Präventsorientierte Wassergymnastik (26-S50532) 
LOCATION:Rurbad Düren, Nippesstraße, Düren
END:VEVENT
END:VCALENDAR