BEGIN:VCALENDAR
VERSION:2.0
PRODID:https://www.kufer.de/kuferweb / DE
METHOD:PUBLISH
CALSCALE:GREGORIAN
X-WR-TIMEZONE:Europe/Berlin
BEGIN:VTIMEZONE
TZID:Europe/Berlin
X-LIC-LOCATION:Europe/Berlin
BEGIN:DAYLIGHT
TZOFFSETFROM:+0100
TZOFFSETTO:+0200
TZNAME:CEST
DTSTART:19700329T020000
RRULE:FREQ=YEARLY;INTERVAL=1;BYDAY=-1SU;BYMONTH=3
END:DAYLIGHT
BEGIN:STANDARD
TZOFFSETFROM:+0200
TZOFFSETTO:+0100
TZNAME:CET
DTSTART:19701025T030000
RRULE:FREQ=YEARLY;INTERVAL=1;BYDAY=-1SU;BYMONTH=10
END:STANDARD
END:VTIMEZONE
BEGIN:VEVENT
DTSTAMP:20260425T031121
DTSTART;TZID=Europe/Berlin:20260908T194500
DTEND;TZID=Europe/Berlin:20260908T203000
UID:26-S50542-20260908T194500@BFODÜREN
SUMMARY:Aqua - Fitness 50+ Präventsorientierte Wassergymnastik (26-S50542) 
LOCATION:Rurbad Düren, Nippesstraße, Düren
END:VEVENT
BEGIN:VEVENT
DTSTAMP:20260425T031121
DTSTART;TZID=Europe/Berlin:20260915T194500
DTEND;TZID=Europe/Berlin:20260915T203000
UID:26-S50542-20260915T194500@BFODÜREN
SUMMARY:Aqua - Fitness 50+ Präventsorientierte Wassergymnastik (26-S50542) 
LOCATION:Rurbad Düren, Nippesstraße, Düren
END:VEVENT
BEGIN:VEVENT
DTSTAMP:20260425T031121
DTSTART;TZID=Europe/Berlin:20260922T194500
DTEND;TZID=Europe/Berlin:20260922T203000
UID:26-S50542-20260922T194500@BFODÜREN
SUMMARY:Aqua - Fitness 50+ Präventsorientierte Wassergymnastik (26-S50542) 
LOCATION:Rurbad Düren, Nippesstraße, Düren
END:VEVENT
BEGIN:VEVENT
DTSTAMP:20260425T031121
DTSTART;TZID=Europe/Berlin:20260929T194500
DTEND;TZID=Europe/Berlin:20260929T203000
UID:26-S50542-20260929T194500@BFODÜREN
SUMMARY:Aqua - Fitness 50+ Präventsorientierte Wassergymnastik (26-S50542) 
LOCATION:Rurbad Düren, Nippesstraße, Düren
END:VEVENT
BEGIN:VEVENT
DTSTAMP:20260425T031121
DTSTART;TZID=Europe/Berlin:20261006T194500
DTEND;TZID=Europe/Berlin:20261006T203000
UID:26-S50542-20261006T194500@BFODÜREN
SUMMARY:Aqua - Fitness 50+ Präventsorientierte Wassergymnastik (26-S50542) 
LOCATION:Rurbad Düren, Nippesstraße, Düren
END:VEVENT
BEGIN:VEVENT
DTSTAMP:20260425T031121
DTSTART;TZID=Europe/Berlin:20261103T194500
DTEND;TZID=Europe/Berlin:20261103T203000
UID:26-S50542-20261103T194500@BFODÜREN
SUMMARY:Aqua - Fitness 50+ Präventsorientierte Wassergymnastik (26-S50542) 
LOCATION:Rurbad Düren, Nippesstraße, Düren
END:VEVENT
BEGIN:VEVENT
DTSTAMP:20260425T031121
DTSTART;TZID=Europe/Berlin:20261110T194500
DTEND;TZID=Europe/Berlin:20261110T203000
UID:26-S50542-20261110T194500@BFODÜREN
SUMMARY:Aqua - Fitness 50+ Präventsorientierte Wassergymnastik (26-S50542) 
LOCATION:Rurbad Düren, Nippesstraße, Düren
END:VEVENT
BEGIN:VEVENT
DTSTAMP:20260425T031121
DTSTART;TZID=Europe/Berlin:20261117T194500
DTEND;TZID=Europe/Berlin:20261117T203000
UID:26-S50542-20261117T194500@BFODÜREN
SUMMARY:Aqua - Fitness 50+ Präventsorientierte Wassergymnastik (26-S50542) 
LOCATION:Rurbad Düren, Nippesstraße, Düren
END:VEVENT
BEGIN:VEVENT
DTSTAMP:20260425T031121
DTSTART;TZID=Europe/Berlin:20261124T194500
DTEND;TZID=Europe/Berlin:20261124T203000
UID:26-S50542-20261124T194500@BFODÜREN
SUMMARY:Aqua - Fitness 50+ Präventsorientierte Wassergymnastik (26-S50542) 
LOCATION:Rurbad Düren, Nippesstraße, Düren
END:VEVENT
BEGIN:VEVENT
DTSTAMP:20260425T031121
DTSTART;TZID=Europe/Berlin:20261201T194500
DTEND;TZID=Europe/Berlin:20261201T203000
UID:26-S50542-20261201T194500@BFODÜREN
SUMMARY:Aqua - Fitness 50+ Präventsorientierte Wassergymnastik (26-S50542) 
LOCATION:Rurbad Düren, Nippesstraße, Düren
END:VEVENT
END:VCALENDAR