BEGIN:VCALENDAR
VERSION:2.0
PRODID:https://www.kufer.de/kuferweb / DE
METHOD:PUBLISH
CALSCALE:GREGORIAN
X-WR-TIMEZONE:Europe/Berlin
BEGIN:VTIMEZONE
TZID:Europe/Berlin
X-LIC-LOCATION:Europe/Berlin
BEGIN:DAYLIGHT
TZOFFSETFROM:+0100
TZOFFSETTO:+0200
TZNAME:CEST
DTSTART:19700329T020000
RRULE:FREQ=YEARLY;INTERVAL=1;BYDAY=-1SU;BYMONTH=3
END:DAYLIGHT
BEGIN:STANDARD
TZOFFSETFROM:+0200
TZOFFSETTO:+0100
TZNAME:CET
DTSTART:19701025T030000
RRULE:FREQ=YEARLY;INTERVAL=1;BYDAY=-1SU;BYMONTH=10
END:STANDARD
END:VTIMEZONE
BEGIN:VEVENT
DTSTAMP:20260425T030954
DTSTART;TZID=Europe/Berlin:20260930T173000
DTEND;TZID=Europe/Berlin:20260930T190000
UID:26-S52042-20260930T173000@BFODÜREN
SUMMARY:After Work Yoga im Herbst In Balance mit den Chakren (26-S52042) 
LOCATION:BFO, Raum 13, Holzstraße 50,  
END:VEVENT
BEGIN:VEVENT
DTSTAMP:20260425T030954
DTSTART;TZID=Europe/Berlin:20261007T173000
DTEND;TZID=Europe/Berlin:20261007T190000
UID:26-S52042-20261007T173000@BFODÜREN
SUMMARY:After Work Yoga im Herbst In Balance mit den Chakren (26-S52042) 
LOCATION:BFO, Raum 13, Holzstraße 50,  
END:VEVENT
BEGIN:VEVENT
DTSTAMP:20260425T030954
DTSTART;TZID=Europe/Berlin:20261014T173000
DTEND;TZID=Europe/Berlin:20261014T190000
UID:26-S52042-20261014T173000@BFODÜREN
SUMMARY:After Work Yoga im Herbst In Balance mit den Chakren (26-S52042) 
LOCATION:BFO, Raum 13, Holzstraße 50,  
END:VEVENT
BEGIN:VEVENT
DTSTAMP:20260425T030954
DTSTART;TZID=Europe/Berlin:20261104T173000
DTEND;TZID=Europe/Berlin:20261104T190000
UID:26-S52042-20261104T173000@BFODÜREN
SUMMARY:After Work Yoga im Herbst In Balance mit den Chakren (26-S52042) 
LOCATION:BFO, Raum 13, Holzstraße 50,  
END:VEVENT
BEGIN:VEVENT
DTSTAMP:20260425T030954
DTSTART;TZID=Europe/Berlin:20261111T173000
DTEND;TZID=Europe/Berlin:20261111T190000
UID:26-S52042-20261111T173000@BFODÜREN
SUMMARY:After Work Yoga im Herbst In Balance mit den Chakren (26-S52042) 
LOCATION:BFO, Raum 13, Holzstraße 50,  
END:VEVENT
BEGIN:VEVENT
DTSTAMP:20260425T030954
DTSTART;TZID=Europe/Berlin:20261118T173000
DTEND;TZID=Europe/Berlin:20261118T190000
UID:26-S52042-20261118T173000@BFODÜREN
SUMMARY:After Work Yoga im Herbst In Balance mit den Chakren (26-S52042) 
LOCATION:BFO, Raum 13, Holzstraße 50,  
END:VEVENT
BEGIN:VEVENT
DTSTAMP:20260425T030954
DTSTART;TZID=Europe/Berlin:20261125T173000
DTEND;TZID=Europe/Berlin:20261125T190000
UID:26-S52042-20261125T173000@BFODÜREN
SUMMARY:After Work Yoga im Herbst In Balance mit den Chakren (26-S52042) 
LOCATION:BFO, Raum 13, Holzstraße 50,  
END:VEVENT
BEGIN:VEVENT
DTSTAMP:20260425T030954
DTSTART;TZID=Europe/Berlin:20261202T173000
DTEND;TZID=Europe/Berlin:20261202T190000
UID:26-S52042-20261202T173000@BFODÜREN
SUMMARY:After Work Yoga im Herbst In Balance mit den Chakren (26-S52042) 
LOCATION:BFO, Raum 13, Holzstraße 50,  
END:VEVENT
BEGIN:VEVENT
DTSTAMP:20260425T030954
DTSTART;TZID=Europe/Berlin:20261209T173000
DTEND;TZID=Europe/Berlin:20261209T190000
UID:26-S52042-20261209T173000@BFODÜREN
SUMMARY:After Work Yoga im Herbst In Balance mit den Chakren (26-S52042) 
LOCATION:BFO, Raum 13, Holzstraße 50,  
END:VEVENT
BEGIN:VEVENT
DTSTAMP:20260425T030954
DTSTART;TZID=Europe/Berlin:20261216T173000
DTEND;TZID=Europe/Berlin:20261216T190000
UID:26-S52042-20261216T173000@BFODÜREN
SUMMARY:After Work Yoga im Herbst In Balance mit den Chakren (26-S52042) 
LOCATION:BFO, Raum 13, Holzstraße 50,  
END:VEVENT
END:VCALENDAR