BEGIN:VCALENDAR
VERSION:2.0
PRODID:https://www.kufer.de/kuferweb / DE
METHOD:PUBLISH
CALSCALE:GREGORIAN
X-WR-TIMEZONE:Europe/Berlin
BEGIN:VTIMEZONE
TZID:Europe/Berlin
X-LIC-LOCATION:Europe/Berlin
BEGIN:DAYLIGHT
TZOFFSETFROM:+0100
TZOFFSETTO:+0200
TZNAME:CEST
DTSTART:19700329T020000
RRULE:FREQ=YEARLY;INTERVAL=1;BYDAY=-1SU;BYMONTH=3
END:DAYLIGHT
BEGIN:STANDARD
TZOFFSETFROM:+0200
TZOFFSETTO:+0100
TZNAME:CET
DTSTART:19701025T030000
RRULE:FREQ=YEARLY;INTERVAL=1;BYDAY=-1SU;BYMONTH=10
END:STANDARD
END:VTIMEZONE
BEGIN:VEVENT
DTSTAMP:20260425T043915
DTSTART;TZID=Europe/Berlin:20261103T090000
DTEND;TZID=Europe/Berlin:20261103T111500
UID:26-S60012-20261103T090000@BFODÜREN
SUMMARY:Aquarellmalen am Dienstag (26-S60012) 
LOCATION:BFO, Raum 22, Holzstraße 50, 52349 Düren
END:VEVENT
BEGIN:VEVENT
DTSTAMP:20260425T043915
DTSTART;TZID=Europe/Berlin:20261110T090000
DTEND;TZID=Europe/Berlin:20261110T111500
UID:26-S60012-20261110T090000@BFODÜREN
SUMMARY:Aquarellmalen am Dienstag (26-S60012) 
LOCATION:BFO, Raum 22, Holzstraße 50, 52349 Düren
END:VEVENT
BEGIN:VEVENT
DTSTAMP:20260425T043915
DTSTART;TZID=Europe/Berlin:20261117T090000
DTEND;TZID=Europe/Berlin:20261117T111500
UID:26-S60012-20261117T090000@BFODÜREN
SUMMARY:Aquarellmalen am Dienstag (26-S60012) 
LOCATION:BFO, Raum 22, Holzstraße 50, 52349 Düren
END:VEVENT
BEGIN:VEVENT
DTSTAMP:20260425T043915
DTSTART;TZID=Europe/Berlin:20261124T090000
DTEND;TZID=Europe/Berlin:20261124T111500
UID:26-S60012-20261124T090000@BFODÜREN
SUMMARY:Aquarellmalen am Dienstag (26-S60012) 
LOCATION:BFO, Raum 22, Holzstraße 50, 52349 Düren
END:VEVENT
BEGIN:VEVENT
DTSTAMP:20260425T043915
DTSTART;TZID=Europe/Berlin:20261201T090000
DTEND;TZID=Europe/Berlin:20261201T111500
UID:26-S60012-20261201T090000@BFODÜREN
SUMMARY:Aquarellmalen am Dienstag (26-S60012) 
LOCATION:BFO, Raum 22, Holzstraße 50, 52349 Düren
END:VEVENT
END:VCALENDAR