BEGIN:VCALENDAR
VERSION:2.0
PRODID:https://www.kufer.de/kuferweb / DE
METHOD:PUBLISH
CALSCALE:GREGORIAN
X-WR-TIMEZONE:Europe/Berlin
BEGIN:VTIMEZONE
TZID:Europe/Berlin
X-LIC-LOCATION:Europe/Berlin
BEGIN:DAYLIGHT
TZOFFSETFROM:+0100
TZOFFSETTO:+0200
TZNAME:CEST
DTSTART:19700329T020000
RRULE:FREQ=YEARLY;INTERVAL=1;BYDAY=-1SU;BYMONTH=3
END:DAYLIGHT
BEGIN:STANDARD
TZOFFSETFROM:+0200
TZOFFSETTO:+0100
TZNAME:CET
DTSTART:19701025T030000
RRULE:FREQ=YEARLY;INTERVAL=1;BYDAY=-1SU;BYMONTH=10
END:STANDARD
END:VTIMEZONE
BEGIN:VEVENT
DTSTAMP:20260425T031009
DTSTART;TZID=Europe/Berlin:20260916T090000
DTEND;TZID=Europe/Berlin:20260916T111500
UID:26-S62012-20260916T090000@BFODÜREN
SUMMARY:Originelle Nähprojekte (26-S62012) 
LOCATION:BFO, Raum 31, Holzstraße 50, 52349 Düren
END:VEVENT
BEGIN:VEVENT
DTSTAMP:20260425T031009
DTSTART;TZID=Europe/Berlin:20260923T090000
DTEND;TZID=Europe/Berlin:20260923T111500
UID:26-S62012-20260923T090000@BFODÜREN
SUMMARY:Originelle Nähprojekte (26-S62012) 
LOCATION:BFO, Raum 31, Holzstraße 50, 52349 Düren
END:VEVENT
BEGIN:VEVENT
DTSTAMP:20260425T031009
DTSTART;TZID=Europe/Berlin:20260930T090000
DTEND;TZID=Europe/Berlin:20260930T111500
UID:26-S62012-20260930T090000@BFODÜREN
SUMMARY:Originelle Nähprojekte (26-S62012) 
LOCATION:BFO, Raum 31, Holzstraße 50, 52349 Düren
END:VEVENT
BEGIN:VEVENT
DTSTAMP:20260425T031009
DTSTART;TZID=Europe/Berlin:20261007T090000
DTEND;TZID=Europe/Berlin:20261007T111500
UID:26-S62012-20261007T090000@BFODÜREN
SUMMARY:Originelle Nähprojekte (26-S62012) 
LOCATION:BFO, Raum 31, Holzstraße 50, 52349 Düren
END:VEVENT
BEGIN:VEVENT
DTSTAMP:20260425T031009
DTSTART;TZID=Europe/Berlin:20261014T090000
DTEND;TZID=Europe/Berlin:20261014T111500
UID:26-S62012-20261014T090000@BFODÜREN
SUMMARY:Originelle Nähprojekte (26-S62012) 
LOCATION:BFO, Raum 31, Holzstraße 50, 52349 Düren
END:VEVENT
BEGIN:VEVENT
DTSTAMP:20260425T031009
DTSTART;TZID=Europe/Berlin:20261104T090000
DTEND;TZID=Europe/Berlin:20261104T111500
UID:26-S62012-20261104T090000@BFODÜREN
SUMMARY:Originelle Nähprojekte (26-S62012) 
LOCATION:BFO, Raum 31, Holzstraße 50, 52349 Düren
END:VEVENT
BEGIN:VEVENT
DTSTAMP:20260425T031009
DTSTART;TZID=Europe/Berlin:20261111T090000
DTEND;TZID=Europe/Berlin:20261111T111500
UID:26-S62012-20261111T090000@BFODÜREN
SUMMARY:Originelle Nähprojekte (26-S62012) 
LOCATION:BFO, Raum 31, Holzstraße 50, 52349 Düren
END:VEVENT
BEGIN:VEVENT
DTSTAMP:20260425T031009
DTSTART;TZID=Europe/Berlin:20261118T090000
DTEND;TZID=Europe/Berlin:20261118T111500
UID:26-S62012-20261118T090000@BFODÜREN
SUMMARY:Originelle Nähprojekte (26-S62012) 
LOCATION:BFO, Raum 31, Holzstraße 50, 52349 Düren
END:VEVENT
BEGIN:VEVENT
DTSTAMP:20260425T031009
DTSTART;TZID=Europe/Berlin:20261125T090000
DTEND;TZID=Europe/Berlin:20261125T111500
UID:26-S62012-20261125T090000@BFODÜREN
SUMMARY:Originelle Nähprojekte (26-S62012) 
LOCATION:BFO, Raum 31, Holzstraße 50, 52349 Düren
END:VEVENT
BEGIN:VEVENT
DTSTAMP:20260425T031009
DTSTART;TZID=Europe/Berlin:20261202T090000
DTEND;TZID=Europe/Berlin:20261202T111500
UID:26-S62012-20261202T090000@BFODÜREN
SUMMARY:Originelle Nähprojekte (26-S62012) 
LOCATION:BFO, Raum 31, Holzstraße 50, 52349 Düren
END:VEVENT
BEGIN:VEVENT
DTSTAMP:20260425T031009
DTSTART;TZID=Europe/Berlin:20261209T090000
DTEND;TZID=Europe/Berlin:20261209T111500
UID:26-S62012-20261209T090000@BFODÜREN
SUMMARY:Originelle Nähprojekte (26-S62012) 
LOCATION:BFO, Raum 31, Holzstraße 50, 52349 Düren
END:VEVENT
BEGIN:VEVENT
DTSTAMP:20260425T031009
DTSTART;TZID=Europe/Berlin:20261216T090000
DTEND;TZID=Europe/Berlin:20261216T111500
UID:26-S62012-20261216T090000@BFODÜREN
SUMMARY:Originelle Nähprojekte (26-S62012) 
LOCATION:BFO, Raum 31, Holzstraße 50, 52349 Düren
END:VEVENT
END:VCALENDAR