BEGIN:VCALENDAR
VERSION:2.0
PRODID:https://www.kufer.de/kuferweb / DE
METHOD:PUBLISH
CALSCALE:GREGORIAN
X-WR-TIMEZONE:Europe/Berlin
BEGIN:VTIMEZONE
TZID:Europe/Berlin
X-LIC-LOCATION:Europe/Berlin
BEGIN:DAYLIGHT
TZOFFSETFROM:+0100
TZOFFSETTO:+0200
TZNAME:CEST
DTSTART:19700329T020000
RRULE:FREQ=YEARLY;INTERVAL=1;BYDAY=-1SU;BYMONTH=3
END:DAYLIGHT
BEGIN:STANDARD
TZOFFSETFROM:+0200
TZOFFSETTO:+0100
TZNAME:CET
DTSTART:19701025T030000
RRULE:FREQ=YEARLY;INTERVAL=1;BYDAY=-1SU;BYMONTH=10
END:STANDARD
END:VTIMEZONE
BEGIN:VEVENT
DTSTAMP:20260425T031002
DTSTART;TZID=Europe/Berlin:20260916T190000
DTEND;TZID=Europe/Berlin:20260916T211500
UID:26-S62042-20260916T190000@BFODÜREN
SUMMARY:Nähen am Abend in Düren (26-S62042) 
LOCATION:BFO, Raum 31, Holzstraße 50, 52349 Düren
END:VEVENT
BEGIN:VEVENT
DTSTAMP:20260425T031002
DTSTART;TZID=Europe/Berlin:20260923T190000
DTEND;TZID=Europe/Berlin:20260923T211500
UID:26-S62042-20260923T190000@BFODÜREN
SUMMARY:Nähen am Abend in Düren (26-S62042) 
LOCATION:BFO, Raum 31, Holzstraße 50, 52349 Düren
END:VEVENT
BEGIN:VEVENT
DTSTAMP:20260425T031002
DTSTART;TZID=Europe/Berlin:20260930T190000
DTEND;TZID=Europe/Berlin:20260930T211500
UID:26-S62042-20260930T190000@BFODÜREN
SUMMARY:Nähen am Abend in Düren (26-S62042) 
LOCATION:BFO, Raum 31, Holzstraße 50, 52349 Düren
END:VEVENT
BEGIN:VEVENT
DTSTAMP:20260425T031002
DTSTART;TZID=Europe/Berlin:20261007T190000
DTEND;TZID=Europe/Berlin:20261007T211500
UID:26-S62042-20261007T190000@BFODÜREN
SUMMARY:Nähen am Abend in Düren (26-S62042) 
LOCATION:BFO, Raum 31, Holzstraße 50, 52349 Düren
END:VEVENT
BEGIN:VEVENT
DTSTAMP:20260425T031002
DTSTART;TZID=Europe/Berlin:20261014T190000
DTEND;TZID=Europe/Berlin:20261014T211500
UID:26-S62042-20261014T190000@BFODÜREN
SUMMARY:Nähen am Abend in Düren (26-S62042) 
LOCATION:BFO, Raum 31, Holzstraße 50, 52349 Düren
END:VEVENT
BEGIN:VEVENT
DTSTAMP:20260425T031002
DTSTART;TZID=Europe/Berlin:20261104T190000
DTEND;TZID=Europe/Berlin:20261104T211500
UID:26-S62042-20261104T190000@BFODÜREN
SUMMARY:Nähen am Abend in Düren (26-S62042) 
LOCATION:BFO, Raum 31, Holzstraße 50, 52349 Düren
END:VEVENT
BEGIN:VEVENT
DTSTAMP:20260425T031002
DTSTART;TZID=Europe/Berlin:20261111T190000
DTEND;TZID=Europe/Berlin:20261111T211500
UID:26-S62042-20261111T190000@BFODÜREN
SUMMARY:Nähen am Abend in Düren (26-S62042) 
LOCATION:BFO, Raum 31, Holzstraße 50, 52349 Düren
END:VEVENT
BEGIN:VEVENT
DTSTAMP:20260425T031002
DTSTART;TZID=Europe/Berlin:20261118T190000
DTEND;TZID=Europe/Berlin:20261118T211500
UID:26-S62042-20261118T190000@BFODÜREN
SUMMARY:Nähen am Abend in Düren (26-S62042) 
LOCATION:BFO, Raum 31, Holzstraße 50, 52349 Düren
END:VEVENT
BEGIN:VEVENT
DTSTAMP:20260425T031002
DTSTART;TZID=Europe/Berlin:20261125T190000
DTEND;TZID=Europe/Berlin:20261125T211500
UID:26-S62042-20261125T190000@BFODÜREN
SUMMARY:Nähen am Abend in Düren (26-S62042) 
LOCATION:BFO, Raum 31, Holzstraße 50, 52349 Düren
END:VEVENT
BEGIN:VEVENT
DTSTAMP:20260425T031002
DTSTART;TZID=Europe/Berlin:20261202T190000
DTEND;TZID=Europe/Berlin:20261202T211500
UID:26-S62042-20261202T190000@BFODÜREN
SUMMARY:Nähen am Abend in Düren (26-S62042) 
LOCATION:BFO, Raum 31, Holzstraße 50, 52349 Düren
END:VEVENT
BEGIN:VEVENT
DTSTAMP:20260425T031002
DTSTART;TZID=Europe/Berlin:20261209T190000
DTEND;TZID=Europe/Berlin:20261209T211500
UID:26-S62042-20261209T190000@BFODÜREN
SUMMARY:Nähen am Abend in Düren (26-S62042) 
LOCATION:BFO, Raum 31, Holzstraße 50, 52349 Düren
END:VEVENT
BEGIN:VEVENT
DTSTAMP:20260425T031002
DTSTART;TZID=Europe/Berlin:20261216T190000
DTEND;TZID=Europe/Berlin:20261216T211500
UID:26-S62042-20261216T190000@BFODÜREN
SUMMARY:Nähen am Abend in Düren (26-S62042) 
LOCATION:BFO, Raum 31, Holzstraße 50, 52349 Düren
END:VEVENT
END:VCALENDAR