BEGIN:VCALENDAR
VERSION:2.0
PRODID:https://www.kufer.de/kuferweb / DE
METHOD:PUBLISH
CALSCALE:GREGORIAN
X-WR-TIMEZONE:Europe/Berlin
BEGIN:VTIMEZONE
TZID:Europe/Berlin
X-LIC-LOCATION:Europe/Berlin
BEGIN:DAYLIGHT
TZOFFSETFROM:+0100
TZOFFSETTO:+0200
TZNAME:CEST
DTSTART:19700329T020000
RRULE:FREQ=YEARLY;INTERVAL=1;BYDAY=-1SU;BYMONTH=3
END:DAYLIGHT
BEGIN:STANDARD
TZOFFSETFROM:+0200
TZOFFSETTO:+0100
TZNAME:CET
DTSTART:19701025T030000
RRULE:FREQ=YEARLY;INTERVAL=1;BYDAY=-1SU;BYMONTH=10
END:STANDARD
END:VTIMEZONE
BEGIN:VEVENT
DTSTAMP:20260420T183419
DTSTART;TZID=Europe/Berlin:20260112T100000
DTEND;TZID=Europe/Berlin:20260112T121500
UID:26-TS21031-20260112T100000@BFODÜREN
SUMMARY:Elternstart NRW Schnullercafé Düren - Mitte (26-TS21031) 
LOCATION:Schnullercafé Düren-Mitte, Wilhelmstraße13, Düren
END:VEVENT
BEGIN:VEVENT
DTSTAMP:20260420T183419
DTSTART;TZID=Europe/Berlin:20260119T100000
DTEND;TZID=Europe/Berlin:20260119T121500
UID:26-TS21031-20260119T100000@BFODÜREN
SUMMARY:Elternstart NRW Schnullercafé Düren - Mitte (26-TS21031) 
LOCATION:Schnullercafé Düren-Mitte, Wilhelmstraße13, Düren
END:VEVENT
BEGIN:VEVENT
DTSTAMP:20260420T183419
DTSTART;TZID=Europe/Berlin:20260126T100000
DTEND;TZID=Europe/Berlin:20260126T121500
UID:26-TS21031-20260126T100000@BFODÜREN
SUMMARY:Elternstart NRW Schnullercafé Düren - Mitte (26-TS21031) 
LOCATION:Schnullercafé Düren-Mitte, Wilhelmstraße13, Düren
END:VEVENT
BEGIN:VEVENT
DTSTAMP:20260420T183419
DTSTART;TZID=Europe/Berlin:20260202T100000
DTEND;TZID=Europe/Berlin:20260202T121500
UID:26-TS21031-20260202T100000@BFODÜREN
SUMMARY:Elternstart NRW Schnullercafé Düren - Mitte (26-TS21031) 
LOCATION:Schnullercafé Düren-Mitte, Wilhelmstraße13, Düren
END:VEVENT
BEGIN:VEVENT
DTSTAMP:20260420T183419
DTSTART;TZID=Europe/Berlin:20260209T100000
DTEND;TZID=Europe/Berlin:20260209T121500
UID:26-TS21031-20260209T100000@BFODÜREN
SUMMARY:Elternstart NRW Schnullercafé Düren - Mitte (26-TS21031) 
LOCATION:Schnullercafé Düren-Mitte, Wilhelmstraße13, Düren
END:VEVENT
BEGIN:VEVENT
DTSTAMP:20260420T183419
DTSTART;TZID=Europe/Berlin:20260223T100000
DTEND;TZID=Europe/Berlin:20260223T121500
UID:26-TS21031-20260223T100000@BFODÜREN
SUMMARY:Elternstart NRW Schnullercafé Düren - Mitte (26-TS21031) 
LOCATION:Schnullercafé Düren-Mitte, Wilhelmstraße13, Düren
END:VEVENT
BEGIN:VEVENT
DTSTAMP:20260420T183419
DTSTART;TZID=Europe/Berlin:20260302T100000
DTEND;TZID=Europe/Berlin:20260302T121500
UID:26-TS21031-20260302T100000@BFODÜREN
SUMMARY:Elternstart NRW Schnullercafé Düren - Mitte (26-TS21031) 
LOCATION:Schnullercafé Düren-Mitte, Wilhelmstraße13, Düren
END:VEVENT
BEGIN:VEVENT
DTSTAMP:20260420T183419
DTSTART;TZID=Europe/Berlin:20260309T100000
DTEND;TZID=Europe/Berlin:20260309T121500
UID:26-TS21031-20260309T100000@BFODÜREN
SUMMARY:Elternstart NRW Schnullercafé Düren - Mitte (26-TS21031) 
LOCATION:Schnullercafé Düren-Mitte, Wilhelmstraße13, Düren
END:VEVENT
BEGIN:VEVENT
DTSTAMP:20260420T183419
DTSTART;TZID=Europe/Berlin:20260316T100000
DTEND;TZID=Europe/Berlin:20260316T121500
UID:26-TS21031-20260316T100000@BFODÜREN
SUMMARY:Elternstart NRW Schnullercafé Düren - Mitte (26-TS21031) 
LOCATION:Schnullercafé Düren-Mitte, Wilhelmstraße13, Düren
END:VEVENT
BEGIN:VEVENT
DTSTAMP:20260420T183419
DTSTART;TZID=Europe/Berlin:20260323T100000
DTEND;TZID=Europe/Berlin:20260323T121500
UID:26-TS21031-20260323T100000@BFODÜREN
SUMMARY:Elternstart NRW Schnullercafé Düren - Mitte (26-TS21031) 
LOCATION:Schnullercafé Düren-Mitte, Wilhelmstraße13, Düren
END:VEVENT
BEGIN:VEVENT
DTSTAMP:20260420T183419
DTSTART;TZID=Europe/Berlin:20260413T100000
DTEND;TZID=Europe/Berlin:20260413T121500
UID:26-TS21031-20260413T100000@BFODÜREN
SUMMARY:Elternstart NRW Schnullercafé Düren - Mitte (26-TS21031) 
LOCATION:Schnullercafé Düren-Mitte, Wilhelmstraße13, Düren
END:VEVENT
BEGIN:VEVENT
DTSTAMP:20260420T183419
DTSTART;TZID=Europe/Berlin:20260420T100000
DTEND;TZID=Europe/Berlin:20260420T121500
UID:26-TS21031-20260420T100000@BFODÜREN
SUMMARY:Elternstart NRW Schnullercafé Düren - Mitte (26-TS21031) 
LOCATION:Schnullercafé Düren-Mitte, Wilhelmstraße13, Düren
END:VEVENT
BEGIN:VEVENT
DTSTAMP:20260420T183419
DTSTART;TZID=Europe/Berlin:20260427T100000
DTEND;TZID=Europe/Berlin:20260427T121500
UID:26-TS21031-20260427T100000@BFODÜREN
SUMMARY:Elternstart NRW Schnullercafé Düren - Mitte (26-TS21031) 
LOCATION:Schnullercafé Düren-Mitte, Wilhelmstraße13, Düren
END:VEVENT
BEGIN:VEVENT
DTSTAMP:20260420T183419
DTSTART;TZID=Europe/Berlin:20260504T100000
DTEND;TZID=Europe/Berlin:20260504T121500
UID:26-TS21031-20260504T100000@BFODÜREN
SUMMARY:Elternstart NRW Schnullercafé Düren - Mitte (26-TS21031) 
LOCATION:Schnullercafé Düren-Mitte, Wilhelmstraße13, Düren
END:VEVENT
BEGIN:VEVENT
DTSTAMP:20260420T183419
DTSTART;TZID=Europe/Berlin:20260511T100000
DTEND;TZID=Europe/Berlin:20260511T121500
UID:26-TS21031-20260511T100000@BFODÜREN
SUMMARY:Elternstart NRW Schnullercafé Düren - Mitte (26-TS21031) 
LOCATION:Schnullercafé Düren-Mitte, Wilhelmstraße13, Düren
END:VEVENT
BEGIN:VEVENT
DTSTAMP:20260420T183419
DTSTART;TZID=Europe/Berlin:20260518T100000
DTEND;TZID=Europe/Berlin:20260518T121500
UID:26-TS21031-20260518T100000@BFODÜREN
SUMMARY:Elternstart NRW Schnullercafé Düren - Mitte (26-TS21031) 
LOCATION:Schnullercafé Düren-Mitte, Wilhelmstraße13, Düren
END:VEVENT
BEGIN:VEVENT
DTSTAMP:20260420T183419
DTSTART;TZID=Europe/Berlin:20260601T100000
DTEND;TZID=Europe/Berlin:20260601T121500
UID:26-TS21031-20260601T100000@BFODÜREN
SUMMARY:Elternstart NRW Schnullercafé Düren - Mitte (26-TS21031) 
LOCATION:Schnullercafé Düren-Mitte, Wilhelmstraße13, Düren
END:VEVENT
BEGIN:VEVENT
DTSTAMP:20260420T183419
DTSTART;TZID=Europe/Berlin:20260608T100000
DTEND;TZID=Europe/Berlin:20260608T121500
UID:26-TS21031-20260608T100000@BFODÜREN
SUMMARY:Elternstart NRW Schnullercafé Düren - Mitte (26-TS21031) 
LOCATION:Schnullercafé Düren-Mitte, Wilhelmstraße13, Düren
END:VEVENT
BEGIN:VEVENT
DTSTAMP:20260420T183419
DTSTART;TZID=Europe/Berlin:20260615T100000
DTEND;TZID=Europe/Berlin:20260615T121500
UID:26-TS21031-20260615T100000@BFODÜREN
SUMMARY:Elternstart NRW Schnullercafé Düren - Mitte (26-TS21031) 
LOCATION:Schnullercafé Düren-Mitte, Wilhelmstraße13, Düren
END:VEVENT
BEGIN:VEVENT
DTSTAMP:20260420T183419
DTSTART;TZID=Europe/Berlin:20260622T100000
DTEND;TZID=Europe/Berlin:20260622T121500
UID:26-TS21031-20260622T100000@BFODÜREN
SUMMARY:Elternstart NRW Schnullercafé Düren - Mitte (26-TS21031) 
LOCATION:Schnullercafé Düren-Mitte, Wilhelmstraße13, Düren
END:VEVENT
BEGIN:VEVENT
DTSTAMP:20260420T183419
DTSTART;TZID=Europe/Berlin:20260629T100000
DTEND;TZID=Europe/Berlin:20260629T121500
UID:26-TS21031-20260629T100000@BFODÜREN
SUMMARY:Elternstart NRW Schnullercafé Düren - Mitte (26-TS21031) 
LOCATION:Schnullercafé Düren-Mitte, Wilhelmstraße13, Düren
END:VEVENT
END:VCALENDAR